BEGIN:VCALENDAR
VERSION:2.0
PRODID:-//Anykščių Šv. Mato parapija - ECPv6.15.11//NONSGML v1.0//EN
CALSCALE:GREGORIAN
METHOD:PUBLISH
X-WR-CALNAME:Anykščių Šv. Mato parapija
X-ORIGINAL-URL:https://anyksciuparapija.lt
X-WR-CALDESC:Anykščių Šv. Mato parapija renginiai
REFRESH-INTERVAL;VALUE=DURATION:PT1H
X-Robots-Tag:noindex
X-PUBLISHED-TTL:PT1H
BEGIN:VTIMEZONE
TZID:Europe/Vilnius
BEGIN:DAYLIGHT
TZOFFSETFROM:+0200
TZOFFSETTO:+0300
TZNAME:EEST
DTSTART:20230326T010000
END:DAYLIGHT
BEGIN:STANDARD
TZOFFSETFROM:+0300
TZOFFSETTO:+0200
TZNAME:EET
DTSTART:20231029T010000
END:STANDARD
BEGIN:DAYLIGHT
TZOFFSETFROM:+0200
TZOFFSETTO:+0300
TZNAME:EEST
DTSTART:20240331T010000
END:DAYLIGHT
BEGIN:STANDARD
TZOFFSETFROM:+0300
TZOFFSETTO:+0200
TZNAME:EET
DTSTART:20241027T010000
END:STANDARD
BEGIN:DAYLIGHT
TZOFFSETFROM:+0200
TZOFFSETTO:+0300
TZNAME:EEST
DTSTART:20250330T010000
END:DAYLIGHT
BEGIN:STANDARD
TZOFFSETFROM:+0300
TZOFFSETTO:+0200
TZNAME:EET
DTSTART:20251026T010000
END:STANDARD
END:VTIMEZONE
BEGIN:VEVENT
DTSTART;TZID=Europe/Vilnius:20240127T090000
DTEND;TZID=Europe/Vilnius:20240127T103000
DTSTAMP:20260418T202404
CREATED:20240123T191632Z
LAST-MODIFIED:20240129T102720Z
UID:10079-1706346000-1706351400@anyksciuparapija.lt
SUMMARY:SUŽADĖTINIŲ PASIRENGIMO SANTUOKOS SAKRAMENTUI SUSITIKIMŲ GRAFIKAS   2024
DESCRIPTION:SUŽADĖTINIŲ PASIRENGIMO SANTUOKOS SAKRAMENTUI SUSITIKIMŲ GRAFIKAS   2024\n1. KAS MUMS SVARBU.\n      01-27; 03-02; 04-13; 05-18; 06-29; 08-10; 09-14; 10-19; 11-30.\n2. BENDRAVIMAS IR BENDRYSTĖ.\nATLEISTI IR ŠVĘSTI.\n 02-03; 03-09; 04-20; 05-25; 07-13; 08-17; 09-21; 10-26; 12-07.                                                     \n3. KARTU PER PERMAINAS.\n 02-10; 03-16; 04-27; 06-01; 07-20; 08-24; 09-28; 11-09; 12-14.    \n4. KRIKŠČIONIŠKAS POŽIŪRIS Į LYTIŠKUMĄ.\nVAISINGUMO PAŽINIMAS.\n02-17; 03-23; 05-04; 06-08; 07-27; 08-31; 10-05; 11-16; 12-21.         \n5. DIEVAS\, BAŽNYČIA IR PRIESAIKA.\n 02-24; 04-06; 05-11; 06-15; 08-03; 09-07; 10-12; 11-23; 12-28. \n SUSITIKIMAI VYKSTA ŠEŠTADIENIAIS 9 VAL. PARAPIJOS NAMUOSE(VILNIAUS G. 10).\nREGISTRUOTIS TEL. +37068231614
URL:https://anyksciuparapija.lt/skelbimas/suzadetiniu-pasirengimo-santuokos-sakrramentui-susitikimu-grafikas-2024/
LOCATION:Parapijos namai\, Vilniaus g. 10\, Anykščiai\, LT-29145\, Lietuva
END:VEVENT
END:VCALENDAR