BEGIN:VCALENDAR
VERSION:2.0
PRODID:-//Anykščių Šv. Mato parapija - ECPv6.15.11//NONSGML v1.0//EN
CALSCALE:GREGORIAN
METHOD:PUBLISH
X-WR-CALNAME:Anykščių Šv. Mato parapija
X-ORIGINAL-URL:https://anyksciuparapija.lt
X-WR-CALDESC:Anykščių Šv. Mato parapija renginiai
REFRESH-INTERVAL;VALUE=DURATION:PT1H
X-Robots-Tag:noindex
X-PUBLISHED-TTL:PT1H
BEGIN:VTIMEZONE
TZID:Europe/Vilnius
BEGIN:DAYLIGHT
TZOFFSETFROM:+0200
TZOFFSETTO:+0300
TZNAME:EEST
DTSTART:20220327T010000
END:DAYLIGHT
BEGIN:STANDARD
TZOFFSETFROM:+0300
TZOFFSETTO:+0200
TZNAME:EET
DTSTART:20221030T010000
END:STANDARD
BEGIN:DAYLIGHT
TZOFFSETFROM:+0200
TZOFFSETTO:+0300
TZNAME:EEST
DTSTART:20230326T010000
END:DAYLIGHT
BEGIN:STANDARD
TZOFFSETFROM:+0300
TZOFFSETTO:+0200
TZNAME:EET
DTSTART:20231029T010000
END:STANDARD
BEGIN:DAYLIGHT
TZOFFSETFROM:+0200
TZOFFSETTO:+0300
TZNAME:EEST
DTSTART:20240331T010000
END:DAYLIGHT
BEGIN:STANDARD
TZOFFSETFROM:+0300
TZOFFSETTO:+0200
TZNAME:EET
DTSTART:20241027T010000
END:STANDARD
END:VTIMEZONE
BEGIN:VEVENT
DTSTART;VALUE=DATE:20230402
DTEND;VALUE=DATE:20230403
DTSTAMP:20260422T223038
CREATED:20210324T175418Z
LAST-MODIFIED:20230321T203228Z
UID:8141-1680393600-1680479999@anyksciuparapija.lt
SUMMARY:Kristaus Kančios (Verbų) sekmadienis
DESCRIPTION:Šv. Mišios bus aukojamos 8.30\, 10.30 ir 18.00 val. Per kiekvienas Šv. Mišias bus šventinamos verbos.\nAtvyks svečias kunigas. Pasinaudokite proga atlikti Velykinę išpažintį. https://www.paneveziovyskupija.lt/susitaikymas-arba-ispazintis/\nŠvenčiame Kristaus mesijinį įžengimą į Jeruzalę ir pradedame švęsti Didžiąją savaitę.\n 
URL:https://anyksciuparapija.lt/skelbimas/kristaus-kancios-verbu-sekmadienis-2/
LOCATION:Anykščių bažnyčia\, Vilniaus g. 8\, Anykščiai\, LT-29145\, Lietuva
CATEGORIES:Churches,Liturgija
ATTACH;FMTTYPE=image/jpeg:https://anyksciuparapija.lt/wp-content/uploads/2021/03/verbos_d.jpg
END:VEVENT
BEGIN:VEVENT
DTSTART;TZID=Europe/Vilnius:20230406T180000
DTEND;TZID=Europe/Vilnius:20230406T190000
DTSTAMP:20260422T223038
CREATED:20200405T195144Z
LAST-MODIFIED:20230401T140921Z
UID:7035-1680804000-1680807600@anyksciuparapija.lt
SUMMARY:Didysis Ketvirtadienis
DESCRIPTION:Šv. Mišios Anykščių Šv. apaštalo evangelisto Mato  Bažnyčioje vyks 18 val.\n  \nDIDYSIS VELYKŲ TRIDIENIS\nDIDYSIS KETVIRTADIENIS\nŠv. Mišios 18 val.\nDIDYSIS PENKTADIENIS\n17.30 val. Kryžiaus kelio apmąstymas.\nViešpaties Kančios pamaldos 18 val.\nPrimename\, kad šią dieną visiems katalikams privalomas pasninkas.\nDIDYSIS ŠEŠTADIENIS\nVelyknaktis 20 val.\nVELYKOS\nŠv. Mišios 8\, 10.30 ir 18 val.\nANTROJI VELYKŲ DIENA\nŠv. Mišios 10.30 val.
URL:https://anyksciuparapija.lt/skelbimas/didysis-ketvirtadienis-2/
LOCATION:Anykščių bažnyčia\, Vilniaus g. 8\, Anykščiai\, LT-29145\, Lietuva
CATEGORIES:Churches,Liturgija
ATTACH;FMTTYPE=image/jpeg:https://anyksciuparapija.lt/wp-content/uploads/2020/04/Kojų-mazgojimas.jpg
END:VEVENT
BEGIN:VEVENT
DTSTART;TZID=Europe/Vilnius:20230407T180000
DTEND;TZID=Europe/Vilnius:20230407T200000
DTSTAMP:20260422T223038
CREATED:20180327T141408Z
LAST-MODIFIED:20230401T140859Z
UID:4828-1680890400-1680897600@anyksciuparapija.lt
SUMMARY:Didysis Penktadienis
DESCRIPTION:17.30 val. Kryžiaus kelio apmąstymas.\nKristaus kančios pamaldos mūsų bažnyčioje 18.00 val.\nPlačiau apie Didžiojo Penktadienio prasmę skaitykite https://anyksciuparapija.lt/didysis-penktadienis/ \nDIDYSIS VELYKŲ TRIDIENIS\nDIDYSIS KETVIRTADIENIS\nŠv. Mišios 18 val.\nDIDYSIS PENKTADIENIS\n17.30 val. Kryžiaus kelio apmąstymas.\nViešpaties Kančios pamaldos 18 val.\nPrimename\, kad šią dieną visiems katalikams privalomas pasninkas.\nDIDYSIS ŠEŠTADIENIS\nVelyknaktis 20 val.\nVELYKOS\nŠv. Mišios 8\, 10.30 ir 18 val.\nANTROJI VELYKŲ DIENA\nŠv. Mišios 10.30 val.
URL:https://anyksciuparapija.lt/skelbimas/didysis-penktadienis/
LOCATION:Anykščių bažnyčia\, Vilniaus g. 8\, Anykščiai\, LT-29145\, Lietuva
CATEGORIES:Churches,Liturgija
ATTACH;FMTTYPE=image/jpeg:https://anyksciuparapija.lt/wp-content/uploads/2020/04/unnamed.jpg
END:VEVENT
BEGIN:VEVENT
DTSTART;TZID=Europe/Vilnius:20230408T200000
DTEND;TZID=Europe/Vilnius:20230408T223000
DTSTAMP:20260422T223038
CREATED:20180328T093230Z
LAST-MODIFIED:20230401T140813Z
UID:4838-1680984000-1680993000@anyksciuparapija.lt
SUMMARY:Velyknaktis
DESCRIPTION:20.00 val. vyks iškilmingos Velyknakčio pamaldos. Pamaldose bus šventinama ugnis ir vanduo. Ugnies pašventinimui ir krikšto pažadų atnaujinimui atsineškite žvakes. Šventam vandeniui atsineškite buteliukus.\nPlačiau apie Didžiojo Šeštadienio prasmę skaityti https://anyksciuparapija.lt/didysis-sestadienis/ \nDIDYSIS VELYKŲ TRIDIENIS\nDIDYSIS KETVIRTADIENIS\nŠv. Mišios 18 val.\nDIDYSIS PENKTADIENIS\n17.30 val. Kryžiaus kelio apmąstymas.\nViešpaties Kančios pamaldos 18 val.\nPrimename\, kad šią dieną visiems katalikams privalomas pasninkas.\nDIDYSIS ŠEŠTADIENIS\nVelyknaktis 20 val.\nVELYKOS\nŠv. Mišios 8\, 10.30 ir 18 val.\nANTROJI VELYKŲ DIENA\nŠv. Mišios 10.30 val.
URL:https://anyksciuparapija.lt/skelbimas/velyknaktis/
LOCATION:Anykščių bažnyčia\, Vilniaus g. 8\, Anykščiai\, LT-29145\, Lietuva
CATEGORIES:Churches,Liturgija
ATTACH;FMTTYPE=image/jpeg:https://anyksciuparapija.lt/wp-content/uploads/2020/04/Paschalas.jpg
END:VEVENT
BEGIN:VEVENT
DTSTART;VALUE=DATE:20230409
DTEND;VALUE=DATE:20230410
DTSTAMP:20260422T223038
CREATED:20180331T081740Z
LAST-MODIFIED:20230401T140735Z
UID:4847-1680998400-1681084799@anyksciuparapija.lt
SUMMARY:Velykos
DESCRIPTION:Šv. Mišios 8\, 10.30 ir 18 val.\n  \nDIDYSIS VELYKŲ TRIDIENIS\nDIDYSIS KETVIRTADIENIS\nŠv. Mišios 18 val.\nDIDYSIS PENKTADIENIS\n17.30 val. Kryžiaus kelio apmąstymas.\nViešpaties Kančios pamaldos 18 val.\nPrimename\, kad šią dieną visiems katalikams privalomas pasninkas.\nDIDYSIS ŠEŠTADIENIS\nVelyknaktis 20 val.\nVELYKOS\nŠv. Mišios 8\, 10.30 ir 18 val.\nANTROJI VELYKŲ DIENA\nŠv. Mišios 10.30 val.
URL:https://anyksciuparapija.lt/skelbimas/velykos/
LOCATION:Anykščių bažnyčia\, Vilniaus g. 8\, Anykščiai\, LT-29145\, Lietuva
CATEGORIES:Bendruomenė,Churches,Liturgija
ATTACH;FMTTYPE=image/jpeg:https://anyksciuparapija.lt/wp-content/uploads/2020/04/atsisiųsti.jpg
END:VEVENT
BEGIN:VEVENT
DTSTART;VALUE=DATE:20230410
DTEND;VALUE=DATE:20230411
DTSTAMP:20260422T223038
CREATED:20200406T075912Z
LAST-MODIFIED:20230321T203546Z
UID:7061-1681084800-1681171199@anyksciuparapija.lt
SUMMARY:Antroji Šv. Velykų diena
DESCRIPTION:Šv. Mišios 10.30 val.
URL:https://anyksciuparapija.lt/skelbimas/antroji-sv-velyku-diena/
LOCATION:Anykščių bažnyčia\, Vilniaus g. 8\, Anykščiai\, LT-29145\, Lietuva
CATEGORIES:Churches,Liturgija
ATTACH;FMTTYPE=image/jpeg:https://anyksciuparapija.lt/wp-content/uploads/2020/04/unnamed-2.jpg
END:VEVENT
BEGIN:VEVENT
DTSTART;VALUE=DATE:20230416
DTEND;VALUE=DATE:20230417
DTSTAMP:20260422T223038
CREATED:20210408T172236Z
LAST-MODIFIED:20230321T203749Z
UID:8178-1681603200-1681689599@anyksciuparapija.lt
SUMMARY:ATVELYKIS (Dievo Gailestingumo sekmadienis)
DESCRIPTION:II VELYKŲ SEKMADIENIS – ATVELYKIS\n(Dievo Gailestingumo sekmadienis)\nPasaulinė gyvybės diena\nŠv. Mišios 8.30\, 10.30 ir 18 val.
URL:https://anyksciuparapija.lt/skelbimas/atvelykis-dievo-gailestingumo-sekmadienis/
LOCATION:Anykščių bažnyčia\, Vilniaus g. 8\, Anykščiai\, LT-29145\, Lietuva
CATEGORIES:Churches,Liturgija
ATTACH;FMTTYPE=image/jpeg:https://anyksciuparapija.lt/wp-content/uploads/2021/04/Jezaus_Gailestingumo_paveikslas.-e1427444562306.jpg
END:VEVENT
BEGIN:VEVENT
DTSTART;VALUE=DATE:20230425
DTEND;VALUE=DATE:20230426
DTSTAMP:20260422T223038
CREATED:20220329T204202Z
LAST-MODIFIED:20230415T140925Z
UID:9045-1682380800-1682467199@anyksciuparapija.lt
SUMMARY:Šv. Morkus
DESCRIPTION:Šv. Mišios 8.30 ir 18 val.\nŠv. Morkus kartu su savo pusbroliu Barnabu lydėjo apaštalą Paulių pirmojoje misijų kelionėje\, o vėliau tapo apaštalo Petro palydovu ir vertėju. Manoma\, kad būtent Petras papasakojo Morkui apie Jėzų daug dalykų\, kuriuos jis ir surašęs Evangelijoje pagal Morkų.
URL:https://anyksciuparapija.lt/skelbimas/sv-morkus/
LOCATION:Anykščių bažnyčia\, Vilniaus g. 8\, Anykščiai\, LT-29145\, Lietuva
CATEGORIES:Churches,Liturgija
ATTACH;FMTTYPE=image/jpeg:https://anyksciuparapija.lt/wp-content/uploads/2022/03/04-25_morkus_d.jpg
END:VEVENT
BEGIN:VEVENT
DTSTART;VALUE=DATE:20230430
DTEND;VALUE=DATE:20230501
DTSTAMP:20260422T223038
CREATED:20210422T200346Z
LAST-MODIFIED:20230425T103246Z
UID:8215-1682812800-1682899199@anyksciuparapija.lt
SUMMARY:IV VELYKŲ SEKMADIENIS. GEROJO GANYTOJO SEKMADIENIS
DESCRIPTION:Pasaulinė maldos už dvasinius pašaukimus diena;\nPasaulinė gyvybės diena;\nŠv. Mišios 8.30\, 10.30 ir 18 val.\nMalda už dvasinius pašaukimus\nTėve\, pažadink tarp krikščionių\ngausių ir šventų pašaukimų į kunigystę\,\nkurie palaikytų gyvą tikėjimą\nir su dėkingumu išsaugotų tavo Sūnaus Jėzaus atminimą\,\nskelbdami jo Žodį ir teikdami sakramentus\,\nkuriais tu nuolat atnaujini tikinčiuosius.\nDuok mums šventų tavo altoriaus tarnautojų\,\nrūpestingai ir uoliai saugančių Eucharistiją\,\niškiliausios Kristaus dovanos sakramentą\npasaulio atpirkimui.\nPašauk tavo gailestingumo tarnautojų\,\nkurie per Sutaikinimo sakramentą\nskleistų tavo atleidimo džiaugsmą.\nTėve\, padaryk\, kad Bažnyčia su džiaugsmu priimtų\ngausius tavo Sūnaus Dvasios įkvėpimus\nir klusniai priimdama jo pamokymus\nrūpintųsi pašaukimais į kunigystės tarnybą\nbei pašvęstąjį gyvenimą.\nPadėk vyskupams\, kunigams ir diakonams\,\npašvęstiesiems asmenims ir visiems pakrikštytiesiems Kristuje\,\nkad ištikimai vykdytų savo misiją tarnaudami Evangelijai.\nTo prašome per Kristų\, mūsų Viešpatį. Amen. \nMarija\, Apaštalų Karaliene\, melski už mus!\n(Benedikto XVI malda (2006 m.)\n  \n 
URL:https://anyksciuparapija.lt/skelbimas/iv-velyku-sekmadienis-gerojo-ganytojo-sekmadienis/
LOCATION:Anykščių bažnyčia\, Vilniaus g. 8\, Anykščiai\, LT-29145\, Lietuva
CATEGORIES:Churches,Liturgija
ATTACH;FMTTYPE=image/jpeg:https://anyksciuparapija.lt/wp-content/uploads/2021/04/atsisiųsti.jpg
END:VEVENT
END:VCALENDAR