BEGIN:VCALENDAR
VERSION:2.0
PRODID:-//Anykščių Šv. Mato parapija - ECPv6.15.11//NONSGML v1.0//EN
CALSCALE:GREGORIAN
METHOD:PUBLISH
X-ORIGINAL-URL:https://anyksciuparapija.lt
X-WR-CALDESC:Anykščių Šv. Mato parapija renginiai
REFRESH-INTERVAL;VALUE=DURATION:PT1H
X-Robots-Tag:noindex
X-PUBLISHED-TTL:PT1H
BEGIN:VTIMEZONE
TZID:Europe/Vilnius
BEGIN:DAYLIGHT
TZOFFSETFROM:+0200
TZOFFSETTO:+0300
TZNAME:EEST
DTSTART:20220327T010000
END:DAYLIGHT
BEGIN:STANDARD
TZOFFSETFROM:+0300
TZOFFSETTO:+0200
TZNAME:EET
DTSTART:20221030T010000
END:STANDARD
BEGIN:DAYLIGHT
TZOFFSETFROM:+0200
TZOFFSETTO:+0300
TZNAME:EEST
DTSTART:20230326T010000
END:DAYLIGHT
BEGIN:STANDARD
TZOFFSETFROM:+0300
TZOFFSETTO:+0200
TZNAME:EET
DTSTART:20231029T010000
END:STANDARD
BEGIN:DAYLIGHT
TZOFFSETFROM:+0200
TZOFFSETTO:+0300
TZNAME:EEST
DTSTART:20240331T010000
END:DAYLIGHT
BEGIN:STANDARD
TZOFFSETFROM:+0300
TZOFFSETTO:+0200
TZNAME:EET
DTSTART:20241027T010000
END:STANDARD
END:VTIMEZONE
BEGIN:VEVENT
DTSTART;VALUE=DATE:20230202
DTEND;VALUE=DATE:20230203
DTSTAMP:20260423T015812
CREATED:20180128T154648Z
LAST-MODIFIED:20230126T204002Z
UID:4576-1675296000-1675382399@anyksciuparapija.lt
SUMMARY:Kristaus Paaukojimas (Grabnyčios)
DESCRIPTION:Šv. Mišios 8.30 val. ir 18 val. Bus laiminamos žvakės. Dievui pašvęstojo gyvenimo diena\, melsimės už vienuolius\, vienuoles ir naujus pašaukimus į vienuolijas.\nKristaus paaukojimo šventė graikų vadinta Hypapante\, nes keturiasdešimtą dieną po gimimo Jėzus buvo Juozapo ir Marijos nuneštas į šventyklą\, vykdant Mozės Įstatymą. Tikinti ir džiūgaujanti tauta pasitinka Išganytoją – „šviesą pagonims apšviesti ir Izraelio tautos garbę“. \n 
URL:https://anyksciuparapija.lt/skelbimas/grabnycios/
LOCATION:Anykščių bažnyčia\, Vilniaus g. 8\, Anykščiai\, LT-29145\, Lietuva
CATEGORIES:Liturgija
ATTACH;FMTTYPE=image/jpeg:https://anyksciuparapija.lt/wp-content/uploads/2018/01/475204fc4a40bccd9b7f37888b2e545d4d983a74.jpg
END:VEVENT
BEGIN:VEVENT
DTSTART;VALUE=DATE:20230203
DTEND;VALUE=DATE:20230204
DTSTAMP:20260423T015812
CREATED:20200201T125045Z
LAST-MODIFIED:20230126T204123Z
UID:6757-1675382400-1675468799@anyksciuparapija.lt
SUMMARY:Šv. Blažiejus vyskupas\, kankinys; gydytojas.
DESCRIPTION:Šv. Mišios 8.30 ir 18 val. Šv. Mišių metu tikintieji bus laiminami Šv. Blažiejaus žvakėmis\, kurios naudojamos kaip sakramentalija nuo gerklės\, kvėpavimo takų ir kitų ligų. Ji teikiama paliečiant gerklę dviem sukryžiuotom žvakėms\, prašant šv. Blažiejaus užtarimo.\nŠv. Blažiejus mirė apie 315–316 m. Gydytojas\, kilęs iš Kapadokijos (Maž. Azija). Tapo atsiskyrėliu\, vėliau išrinktas vyskupu. Pasak legendos\, pakeliui į egzekucijos vietą\, stebuklingai pagydė berniuką\, kuris duso gerklėje įstrigus žuvies ašakai. \n  \n 
URL:https://anyksciuparapija.lt/skelbimas/sv-blaziejus-vyskupas-kankinys-gydytojas/
LOCATION:Anykščių bažnyčia\, Vilniaus g. 8\, Anykščiai\, LT-29145\, Lietuva
CATEGORIES:Churches,Liturgija
ATTACH;FMTTYPE=image/jpeg:https://anyksciuparapija.lt/wp-content/uploads/2020/02/unnamed.jpg
END:VEVENT
BEGIN:VEVENT
DTSTART;VALUE=DATE:20230205
DTEND;VALUE=DATE:20230206
DTSTAMP:20260423T015812
CREATED:20200201T125539Z
LAST-MODIFIED:20230204T133222Z
UID:6759-1675555200-1675641599@anyksciuparapija.lt
SUMMARY:Šv. Agota\, mergelė\, kankinė.
DESCRIPTION:Šv. Mišios sekmadienio tvarka. Bus šventinama duona ir vanduo.\nŠv. Agota gyveno III a. Katanijoje (Pietų Italija\, Sicilija). Dėl skaistybės nukankinta valdant imperatoriui Decijui (249–251). Kadangi buvo sudeginta\, šv. Agotos duona ir šventintas vanduo – tai priemonės prieš gaisrą\, šaukiantis šventosios užtarimo.
URL:https://anyksciuparapija.lt/skelbimas/sv-agota-mergele-kankine/
LOCATION:Anykščių bažnyčia\, Vilniaus g. 8\, Anykščiai\, LT-29145\, Lietuva
CATEGORIES:Churches,Liturgija
ATTACH;FMTTYPE=image/jpeg:https://anyksciuparapija.lt/wp-content/uploads/2020/02/atsisiųsti.jpg
END:VEVENT
BEGIN:VEVENT
DTSTART;VALUE=DATE:20230208
DTEND;VALUE=DATE:20230209
DTSTAMP:20260423T015812
CREATED:20220115T144114Z
LAST-MODIFIED:20230126T204549Z
UID:8878-1675814400-1675900799@anyksciuparapija.lt
SUMMARY:Pasaulinė maldos ir apmąstymo apie prekybą žmonėmis diena
DESCRIPTION:Šv. Mišios 8.30 ir 18 val.
URL:https://anyksciuparapija.lt/skelbimas/pasauline-maldos-ir-apmastymo-apie-prekyba-zmonemis-diena/
LOCATION:Anykščių bažnyčia\, Vilniaus g. 8\, Anykščiai\, LT-29145\, Lietuva
CATEGORIES:Churches,Liturgija
ATTACH;FMTTYPE=image/jpeg:https://anyksciuparapija.lt/wp-content/uploads/2022/01/5ee20d07e5312.jpg
END:VEVENT
BEGIN:VEVENT
DTSTART;VALUE=DATE:20230211
DTEND;VALUE=DATE:20230212
DTSTAMP:20260423T015812
CREATED:20220115T143820Z
LAST-MODIFIED:20230126T204957Z
UID:8875-1676073600-1676159999@anyksciuparapija.lt
SUMMARY:Pasaulinė ligonių diena
DESCRIPTION:Šv. Mišios11 ir 18 val.\nBus teikiamas ligonių patepimas.\nLurdo Švč. Mergelė Marija\, kurią ketvirtaisiais (1858 m.) po Švč. Mergelės Marijos Nekaltojo Prasidėjimo dogmos paskelbimo metais Pirenėjų kalnuose prie Gavės upės netoli Lurdo miestelio paprasta mergaitė šv. Bernadeta Subiru (Soubirous) ne kartą matė Masabielio (Massabielle) uolose\, save įvardijo: „Aš esu Nekaltasis Prasidėjimas.“ Šiandien Lurdo šventovę kasmet aplanko milijonai maldininkų ir sveikatos Marijos užtarimu prašančių ligonių.\nPopiežius Pranciškus\nŽinia XXXI Pasaulinės ligonio dienos proga\n\n2023 m. vasario 11 d.\n„Slaugyk jį“\nAtjauta kaip sinodinė gydymo praktika \nBrangūs broliai ir seserys!\nLiga yra mūsų žmogiškosios patirties dalis. Tačiau ji gali tapti nežmoniška\, jei išgyvenama izoliacijoje ir apleistume\, jei jos nelydi rūpestis ir užuojauta. Kai keliaujama kartu su kitais\, normalu\, kad kas nors gali pasijusti blogai\, tenka sustoti dėl nuovargio ar kokios nelaimės pakeliui. Tais momentais galime pamatyti\, kaip keliaujame: ar tikrai keliaujame drauge\, ar tik einame tuo pačiu keliu\, bet kiekvienas atskirai\, rūpindamiesi savo interesais ir palikdami kitus\, „kad patys susitvarkytų“. Todėl šią XXXI Pasaulinę ligonio dieną\, vykstant Sinodinei kelionei\, kviečiu jus apmąstyti\, kad būtent per pažeidžiamumo ir ligos patirtį galime išmokti eiti drauge Dievo stiliumi\, vadovaudamiesi jo artumu\, užuojauta ir švelnumu.\nPranašo Ezekielio knygoje Viešpaties bylojamas žodis yra viena viso Apreiškimo viršūnių: „Aš pats ganysiu savo kaimenę\, aš pats jas ilsinsiu\, – tai Viešpaties Dievo žodis. Suieškosiu paklydusias\, žūstančias grąžinsiu\, aptvarstysiu sužeistas ir pastiprinsiu silpnas […]. Ganysiu jas teisingumu“ (34\, 15–16). Pasimetimas\, liga ir silpnumas yra natūrali mūsų kelionės dalis: tai neišskiria mūsų iš Dievo tautos\, priešingai\, dėl to atsiduriame Viešpaties dėmesio centre: jis yra Tėvas ir kelyje nenori prarasti nė vieno iš savo vaikų. Todėl reikia mokytis iš jo\, kad iš tiesų taptume drauge keliaujančia bendruomene\, gebančia neužsikrėsti atmetimo kultūra.\nKaip žinote\, enciklikoje Fratelli tutti siūloma aktualiu žvilgsniu perskaityti palyginimą apie gerąjį samarietį. Jį pasirinkau norėdamas parodyti\, kaip galime iš „uždaro pasaulio šešėlių“ pereiti prie „atviro pasaulio suvokimo ir kūrimo“ (plg. FT\, 56). Šis Jėzaus palyginimas glaudžiai siejasi su daugybe būdų\, kuriais šiandien neigiama brolystė. Tai\, kad sumuštas ir apiplėštas žmogus apleidžiamas pakelėje\, vaizduoja būklę\, kurioje paliekama daugybė mūsų brolių ir seserų\, kai jiems labiausiai reikia pagalbos. Nėra lengva atskirti natūralių priežasčių nulemtas grėsmes gyvybei ir jos orumui nuo išpuolių\, sukeltų neteisybės ir smurto. Nelygybės mastai ir mažumos interesų vyravimas dabar taip veikia kiekvieną žmogaus aplinką\, kad sunku bet kokią patirtį laikyti „natūralia“. Visos kančios vyksta „kultūros“ ir jos prieštaravimų kontekste.\nČia ypač svarbu atpažinti vienatvės ir apleistumo būseną. Šį žiaurų negailestingumą galima įveikti lengviau nei bet kokią kitą neteisybę\, nes\, kaip sakoma palyginime\, jam panaikinti tereikia akimirkos dėmesio\, atjautos vidinio sužadinimo. Du praeiviai\, laikomi religingais žmonėmis\, mato sužeistą vyrą\, bet nesustoja. O trečiajam\, niekinamam samariečiui\, kyla užuojauta\, ir jis pasirūpina pakelės nepažįstamuoju\, laikydamas jį savo broliu. Taip elgdamasis\, net apie tai nesusimąstydamas\, jis keičia situaciją\, kuria broliškesnį pasaulį.\nBroliai ir seserys\, mes niekada nebūname pasiruošę ligai. Dažnai net nepripažįstame\, kad senstame. Mes bijome pažeidžiamumo\, o įsigalėjusi rinkos kultūra verčia mus jį neigti. Pažeidžiamumui ten nėra vietos. Todėl\, kai blogis įsiveržia ir užpuola mus\, liekame parblokšti\, be nuovokos. Gali atsitikti taip\, kad kiti mus apleidžia arba mums atrodo\, jog turime juos palikti\, kad nebūtume jiems našta. Taip prasideda vienatvė\, ir mus užnuodija kartus neteisybės jausmas\, dėl kurio\, regis\, net dangus užsiveria. Iš tikrųjų mums sunku išlikti ramybėje su Dievu\, kai griūna mūsų santykiai su kitais ir su savimi. Štai kodėl taip svarbu\, kad visa Bažnyčia\, taip pat ir ligos akivaizdoje\, vadovautųsi evangeliniu gerojo samariečio pavyzdžiu ir taptų veiksminga „lauko ligonine“: jos misija\, ypač dabarties istorinėmis aplinkybėmis\, pasireiškia rūpinimosi veiksmais. Visi esame trapūs ir pažeidžiami; mums visiems reikia užjaučiančio dėmesio\, kai mokama sustoti\, prisiartinti\, pagydyti ir pakelti. Ligonių išgyvenama būklė apeliuoja į tuos\, kurie žengia pirmyn\, tarsi neturėtų seserų ir brolių\, ragindama juos atmesti abejingumą ir sulėtinti žingsnius.\nPasaulinė ligonio diena kviečia ne tik melstis ir būti arti kenčiančiųjų; ja taip pat siekiama atkreipti Dievo tautos\, sveikatos priežiūros įstaigų ir pilietinės visuomenės dėmesį į naują būdą žengti pirmyn drauge. Pirmiau cituotoje Ezekielio pranašystėje labai griežtai vertinami prioritetai tų\, kurie turi ekonominę\, kultūrinę ir politinę valdžią liaudžiai: „Jūs valgote taukus\, rengiatės vilna ir skerdžiate peniukšlius\, bet avių nešeriate. Silpnos jūs nestiprinote\, sergančios negydėte\, sužeistos netvarstėte\, žūstančios negrąžinote ir paklydusios neieškojote\, bet valdėte jas jėga\, net šiurkštumu“ (34\, 3–4). Dievo žodis visuomet apšviečia ir yra aktualus. Ne tik tuomet\, kai smerkia\, bet ir tuo\, ką siūlo. Palyginimo apie gerąjį samarietį pabaigoje siūloma\, kaip praktikuojamas broliškumas\, prasidėjęs nuo asmeninio susitikimo\, gali būti išplėtotas iki organizuoto rūpinimosi. Užeiga\, užeigos šeimininkas\, pinigai\, pažadas vienas kitą informuoti (plg. Lk 10\, 34–35) – visa tai skatina mus galvoti apie kunigų tarnystę\, sveikatos priežiūros ir socialinių darbuotojų darbą\, šeimos narių ir savanorių įsipareigojimą\, per kurį kiekvieną dieną viso pasaulio kraštuose gėriu priešinamasi blogiui.\nPandemijos metai sustiprino mūsų dėkingumą tiems\, kurie kasdien dirba sveikatos priežiūros ir mokslinių tyrimų srityse. Tačiau nepakanka vien pagerbti didvyrius\, kad įveiktume tokią didžiulę kolektyvinę tragediją. Covid-19 išbandė platų kompetencijų ir solidarumo tinklą ir parodė struktūrines esamų gerovės sistemų ribas. Todėl dėkingumą kiekvienoje šalyje turi papildyti aktyvios strategijos ir išteklių paieškos\, kad kiekvienam būtų pasiekiama sveikatos priežiūra ir garantuojama pamatinė teisė į sveikatą.\nSamarietis paveda užeigos šeimininkui: „Slaugyk jį“ (Lk 10\, 35). Taip Jėzus kreipiasi ir į kiekvieną iš mūsų ragindamas: „Eik ir tu taip daryk“ (Lk 10\, 37). Enciklikoje Fratelli tutti pabrėžiau\, kad „palyginimas mums parodo\, kokiomis iniciatyvomis galima atkurti bendruomenę\, pradedant nuo vyrų ir moterų\, kurie atsižvelgia į kitų žmonių trapumą\, neleidžia rastis atskirties visuomenei\, bet tampa artimais\, tais\, kurie pakelia ir reabilituoja parpuolusį žmogų\, kad gėris būtų visų“ (FT\, 67). Iš tiesų „esame sukurti pilnatvei\, kuri pasiekiama tik mylint. Neįmanoma abejingai gyventi skausmo akivaizdoje“ (FT\, 68).\n2023 m. vasario 11-ąją žvelgiame į Lurdo šventovę kaip į pranašystę\, pamoką\, patikėtą Bažnyčiai naujaisiais laikais. Vertinga ne tik tai\, kas gerai funkcionuoja\, ir svarbus ne tik tas\, kuris gamina. Ligoniai yra Dievo tautos centre\, ir Bažnyčia kartu su jais žengia pirmyn kaip žmonijos\, kurioje kiekvienas yra brangus ir niekas negali būti atmestas\, pranašystė.\nMarijos\, Ligonių Sveikatos\, užtarimui pavedu kiekvieną sergantį; visus\, kurie rūpinatės ligoniais šeimoje\, darbe\, moksliniuose tyrimuose ir savanoriškoje veikloje; ir jus\, įsipareigojusius megzti asmeninius\, bažnytinius ir pilietinius broliškumo ryšius. Visiems nuoširdžiai siunčiu savo apaštališkąjį palaiminimą.\nRoma\, Laterano Šv. Jono bazilika\, 2023 m. sausio 10 d.\nPranciškus
URL:https://anyksciuparapija.lt/skelbimas/pasauline-ligoniu-diena/
LOCATION:Anykščių bažnyčia\, Vilniaus g. 8\, Anykščiai\, LT-29145\, Lietuva
CATEGORIES:Churches,Liturgija
ATTACH;FMTTYPE=image/jpeg:https://anyksciuparapija.lt/wp-content/uploads/2022/01/lourdes.jpg
END:VEVENT
BEGIN:VEVENT
DTSTART;VALUE=DATE:20230216
DTEND;VALUE=DATE:20230217
DTSTAMP:20260423T015812
CREATED:20190215T202545Z
LAST-MODIFIED:20230211T173838Z
UID:5256-1676505600-1676591999@anyksciuparapija.lt
SUMMARY:Lietuvos valstybės atkūrimo šventė
DESCRIPTION:Šv. Mišios už Lietuvą ir lietuvius 11 val. ir 18 val.\n11.00 val. Šv. Mišios Šv. apaštalo evangelisto Mato bažnyčioje\n12.00 val. Valstybinės vėliavos pakėlimo ceremonija prie paminklo Laisvei A. Baranausko aikštėje\n16.00 val. AKC mėgėjų meno kolektyvų koncertas „Mes esame Lietuva“ Anykščių kultūros centre\nhttps://mlcgtzy9esvb.i.optimole.com/qt71D-o-0ZM-IBzh/w:auto/h:auto/q:mauto/https://anyksciukc.lt/wp-content/uploads/2023/01/Vasario-16-2023@0.3x.png \n  \n 
URL:https://anyksciuparapija.lt/skelbimas/lietuvos-valstybes-atkurimo-svente/
LOCATION:Anykščių bažnyčia\, Vilniaus g. 8\, Anykščiai\, LT-29145\, Lietuva
CATEGORIES:Bendruomenė,Churches,Liturgija,Veikla
ATTACH;FMTTYPE=image/jpeg:https://anyksciuparapija.lt/wp-content/uploads/2019/02/2023-02-16-vasario-16-oji-lietuvos-valstybes-atkurimo-diena-mes-ir-esame-lietuva-sv-misios.jpg
END:VEVENT
BEGIN:VEVENT
DTSTART;VALUE=DATE:20230222
DTEND;VALUE=DATE:20230223
DTSTAMP:20260423T015812
CREATED:20180211T210149Z
LAST-MODIFIED:20230126T210538Z
UID:4606-1677024000-1677110399@anyksciuparapija.lt
SUMMARY:Pelenų diena
DESCRIPTION:Gavėnią pradėsime atgailos ženklu – galvos ženklinimu pelenais.\nŠv. Mišios mūsų bažnyčioje 8.30 ir 18 val.
URL:https://anyksciuparapija.lt/skelbimas/pelenu-diena/
LOCATION:Anykščių bažnyčia\, Vilniaus g. 8\, Anykščiai\, LT-29145\, Lietuva
CATEGORIES:Liturgija
ATTACH;FMTTYPE=image/jpeg:https://anyksciuparapija.lt/wp-content/uploads/2018/02/atsisiųsti-1.jpg
END:VEVENT
END:VCALENDAR