BEGIN:VCALENDAR
VERSION:2.0
PRODID:-//Anykščių Šv. Mato parapija - ECPv6.15.11//NONSGML v1.0//EN
CALSCALE:GREGORIAN
METHOD:PUBLISH
X-ORIGINAL-URL:https://anyksciuparapija.lt
X-WR-CALDESC:Anykščių Šv. Mato parapija renginiai
REFRESH-INTERVAL;VALUE=DURATION:PT1H
X-Robots-Tag:noindex
X-PUBLISHED-TTL:PT1H
BEGIN:VTIMEZONE
TZID:Europe/Vilnius
BEGIN:DAYLIGHT
TZOFFSETFROM:+0200
TZOFFSETTO:+0300
TZNAME:EEST
DTSTART:20210328T010000
END:DAYLIGHT
BEGIN:STANDARD
TZOFFSETFROM:+0300
TZOFFSETTO:+0200
TZNAME:EET
DTSTART:20211031T010000
END:STANDARD
BEGIN:DAYLIGHT
TZOFFSETFROM:+0200
TZOFFSETTO:+0300
TZNAME:EEST
DTSTART:20220327T010000
END:DAYLIGHT
BEGIN:STANDARD
TZOFFSETFROM:+0300
TZOFFSETTO:+0200
TZNAME:EET
DTSTART:20221030T010000
END:STANDARD
BEGIN:DAYLIGHT
TZOFFSETFROM:+0200
TZOFFSETTO:+0300
TZNAME:EEST
DTSTART:20230326T010000
END:DAYLIGHT
BEGIN:STANDARD
TZOFFSETFROM:+0300
TZOFFSETTO:+0200
TZNAME:EET
DTSTART:20231029T010000
END:STANDARD
END:VTIMEZONE
BEGIN:VEVENT
DTSTART;VALUE=DATE:20221208
DTEND;VALUE=DATE:20221209
DTSTAMP:20260423T054914
CREATED:20201201T210102Z
LAST-MODIFIED:20221128T185337Z
UID:7928-1670457600-1670543999@anyksciuparapija.lt
SUMMARY:ŠVČ. MERGELĖS MARIJOS NEKALTASIS PRASIDĖJIMAS
DESCRIPTION:Šv. Mišios 8.30 ir 18 val. Švč. M. Marijos Nekaltojo Prasidėjimo atlaidai sekmadienį gruodžio 11 d.\nEsate kviečiami atliktį Kalėdinę išpažintį. Neatidėkite paskutiniai dienai.\nKalėdaičių jau yra.\nGalite įsigyti kalėdaičių bažnyčioje kiekvieną dieną prieš ir po Šv. Mišių \, eilinėmis dienomis galite įsigyti parapijos namuose darbo dienomis nuo 9 val. iki 17 val.\nDievo pasiuntinys arkangelas Gabrielius\, apsireiškęs Švč. Mergelei Marijai ir sveikindamas ją\, pasakė\, kad ji yra pilna Dievo malonės. Bažnyčia seniai laikėsi tradicijos\, jog dėl numatyto Dievo Sūnaus gimimo ir Jo išganymą teikiančios mirties\, specialia Dievo privilegija Marija jau pačiame pradėjimo momente buvo apsaugota nuo gimtosios nuodėmės. 1854 m. gruodžio 8 d. bule Ineffabilis Deus popiežius Pijus IX iškilmingai paskelbė Švč. Mergelės Marijos Nekaltojo Prasidėjimo dogmą (DS 2803). Ketveriems metams praėjus\, Lurde apsireiškusi Marija\, paklausta Bernadetos\, koks jos vardas\, atsakė: „Aš – Nekaltasis Prasidėjimas.“
URL:https://anyksciuparapija.lt/skelbimas/svc-mergeles-marijos-nekaltasis-prasidejimas/
LOCATION:Anykščių bažnyčia\, Vilniaus g. 8\, Anykščiai\, LT-29145\, Lietuva
CATEGORIES:Churches,Liturgija
ATTACH;FMTTYPE=image/jpeg:https://anyksciuparapija.lt/wp-content/uploads/2020/12/atsisiųsti.jpg
END:VEVENT
BEGIN:VEVENT
DTSTART;VALUE=DATE:20221218
DTEND;VALUE=DATE:20221219
DTSTAMP:20260423T054914
CREATED:20201201T204719Z
LAST-MODIFIED:20221214T205715Z
UID:7921-1671321600-1671407999@anyksciuparapija.lt
SUMMARY:IV ADVENTO SEKMADIENIS. REKOLEKCIJOS.
DESCRIPTION:Šv. Mišios 8.30\, 10.30 ir 18 val.\nBus svečias kunigas\, esate kviečiami atlikti išpažintį.\n  \nKalėdaičių jau yra.\nGalite įsigyti kalėdaičių bažnyčioje kiekvieną dieną prieš ir po Šv. Mišių arba galite įsigyti parapijos namuose darbo dienomis nuo 9 val. iki 17 val.\nAdventas turi dvejopą pobūdį: pasirengimą Kalėdų iškilmėms\, kada pagarbiai minimas Dievo Sūnaus pirmasis atėjimas pas žmones\, ir kartu prisiminimą\, jog reikia laukti Kristaus antrojo atėjimo pasaulio pabaigoje. Dėl šių dviejų priežasčių adventas yra maldingo ir džiugaus laukimo metas. Jis prasideda I Vakarine to sekmadienio\, kuris esti lapkričio 30 dieną arba jai artimiausias\, ir baigiasi prieš Kristaus Gimimo I Vakarinę“ (AC\, 39–42).
URL:https://anyksciuparapija.lt/skelbimas/ii-advento-sekmadienis/
LOCATION:Anykščių bažnyčia\, Vilniaus g. 8\, Anykščiai\, LT-29145\, Lietuva
CATEGORIES:Churches,Liturgija
ATTACH;FMTTYPE=image/jpeg:https://anyksciuparapija.lt/wp-content/uploads/2021/12/20201205_114157-2-scaled.jpg
END:VEVENT
BEGIN:VEVENT
DTSTART;VALUE=DATE:20221224
DTEND;VALUE=DATE:20221225
DTSTAMP:20260423T054914
CREATED:20181215T135203Z
LAST-MODIFIED:20221218T074027Z
UID:5154-1671840000-1671926399@anyksciuparapija.lt
SUMMARY:Kūčios
DESCRIPTION:Anykščių šv. apašt. evang. Mato bažnyčioje\nŠv. Kūčių dieną gruodžio 24 d. Šv. Mišios 11 ir 20 val.\nŠv. Kūčių dieną gruodžio 24 d.\nŠv. Mišios 11 ir 20 val.\n19.30 val. programėlė.\n20 val. prakartėlės palaiminimas ir Piemenėlių Šv. Mišios.\nŠv. Kalėdų dieną gruodžio 25 d. Šv Mišios 8\, 10.30 ir 18 val.\nGruodžio 26 d.\nII šv. Kalėdų diena.\nŠv. Mišios : 10.30 val.\nGalite įsigyti kalėdaičių bažnyčioje kiekvieną dieną prieš ir po Šv. Mišių arba galite įsigyti parapijos namuose darbo dienomis nuo 9 val. iki 17 val.
URL:https://anyksciuparapija.lt/skelbimas/kucios/
LOCATION:Anykščių bažnyčia\, Vilniaus g. 8\, Anykščiai\, LT-29145\, Lietuva
CATEGORIES:Churches,Liturgija
ATTACH;FMTTYPE=image/jpeg:https://anyksciuparapija.lt/wp-content/uploads/2018/12/midnight-mass.jpg
END:VEVENT
BEGIN:VEVENT
DTSTART;VALUE=DATE:20221225
DTEND;VALUE=DATE:20221226
DTSTAMP:20260423T054914
CREATED:20181215T141722Z
LAST-MODIFIED:20221218T074144Z
UID:5156-1671926400-1672012799@anyksciuparapija.lt
SUMMARY:Šv. Kalėdos
DESCRIPTION:Anykščių šv. apašt. evang. Mato bažnyčioje\nŠv. Kalėdų dieną gruodžio 25 d. Šv Mišios 8\, 10.30 ir 18 val.\n\nŠv. Kūčių dieną gruodžio 24 d.\nŠv. Mišios 11 ir 20 val.\n19.30 val. programėlė.\n20 val. prakartėlės palaiminimas ir Piemenėlių Šv. Mišios.\nŠv. Kalėdų dieną gruodžio 25 d. Šv Mišios 8\, 10.30 ir 18 val.\nGruodžio 26 d.\nII šv. Kalėdų diena.\nŠv. Mišios : 10.30 val.\nGalite įsigyti kalėdaičių bažnyčioje kiekvieną dieną prieš ir po Šv. Mišių arba galite įsigyti parapijos namuose darbo dienomis nuo 9 val. iki 17 val.
URL:https://anyksciuparapija.lt/skelbimas/sv-kaledos/
LOCATION:Anykščių bažnyčia\, Vilniaus g. 8\, Anykščiai\, LT-29145\, Lietuva
CATEGORIES:Churches,Liturgija
ATTACH;FMTTYPE=image/jpeg:https://anyksciuparapija.lt/wp-content/uploads/2018/12/20201224_221004-scaled.jpg
END:VEVENT
BEGIN:VEVENT
DTSTART;TZID=Europe/Vilnius:20221226T110000
DTEND;TZID=Europe/Vilnius:20221226T120000
DTSTAMP:20260423T054914
CREATED:20201221T210114Z
LAST-MODIFIED:20221217T171054Z
UID:7967-1672052400-1672056000@anyksciuparapija.lt
SUMMARY:II šv. Kalėdų dieną (Šv. Steponas)
DESCRIPTION:Anykščių šv. apašt. evang. Mato bažnyčioje\nII šv. Kalėdų dieną (Šv. Steponas) gruodžio 26 d.\nŠv. Mišios : 10.30 val.
URL:https://anyksciuparapija.lt/skelbimas/ii-sv-kaledu-diena-sv-steponas/
CATEGORIES:Liturgija
ATTACH;FMTTYPE=image/jpeg:https://anyksciuparapija.lt/wp-content/uploads/2020/12/ststephen.jpg
END:VEVENT
BEGIN:VEVENT
DTSTART;VALUE=DATE:20221230
DTEND;VALUE=DATE:20221231
DTSTAMP:20260423T054914
CREATED:20201221T210537Z
LAST-MODIFIED:20221214T211956Z
UID:7970-1672358400-1672444799@anyksciuparapija.lt
SUMMARY:Šventoji šeima: Jėzus\, Marija ir Juozapas
DESCRIPTION:      Anykščių šv. apašt. evang. Mato bažnyčioje\n Šventoji šeima: Jėzus\, Marija ir Juozapas. \nŠv. Mišios 8.30 ir 18 val. Bus laiminami sutuoktiniai.
URL:https://anyksciuparapija.lt/skelbimas/sventoji-seima-jezus-marija-ir-juozapas-2/
LOCATION:Anykščių bažnyčia\, Vilniaus g. 8\, Anykščiai\, LT-29145\, Lietuva
CATEGORIES:Churches,Liturgija
ATTACH;FMTTYPE=image/jpeg:https://anyksciuparapija.lt/wp-content/uploads/2020/12/cq5dam.thumbnail.cropped.750.422.jpeg
END:VEVENT
BEGIN:VEVENT
DTSTART;TZID=Europe/Vilnius:20221231T230000
DTEND;TZID=Europe/Vilnius:20221231T233000
DTSTAMP:20260423T054914
CREATED:20181221T092110Z
LAST-MODIFIED:20221214T212730Z
UID:5167-1672527600-1672529400@anyksciuparapija.lt
SUMMARY:Padėkos šv. Mišios
DESCRIPTION:Šv. Mišių laikas Anykščių bažnyčioje\nGruodžio 31 d.: 11 ir 20 val.\nSausio l d. 8.30\, 10.30 ir 18 val.
URL:https://anyksciuparapija.lt/skelbimas/padekos-sv-misios/
LOCATION:Anykščių bažnyčia\, Vilniaus g. 8\, Anykščiai\, LT-29145\, Lietuva
CATEGORIES:Liturgija
ATTACH;FMTTYPE=image/jpeg:https://anyksciuparapija.lt/wp-content/uploads/2018/12/7e44470eb9055e6179d217dff71904bfa271d28c.jpg
END:VEVENT
END:VCALENDAR