BEGIN:VCALENDAR
VERSION:2.0
PRODID:-//Anykščių Šv. Mato parapija - ECPv6.15.11//NONSGML v1.0//EN
CALSCALE:GREGORIAN
METHOD:PUBLISH
X-WR-CALNAME:Anykščių Šv. Mato parapija
X-ORIGINAL-URL:https://anyksciuparapija.lt
X-WR-CALDESC:Anykščių Šv. Mato parapija renginiai
REFRESH-INTERVAL;VALUE=DURATION:PT1H
X-Robots-Tag:noindex
X-PUBLISHED-TTL:PT1H
BEGIN:VTIMEZONE
TZID:Europe/Vilnius
BEGIN:DAYLIGHT
TZOFFSETFROM:+0200
TZOFFSETTO:+0300
TZNAME:EEST
DTSTART:20210328T010000
END:DAYLIGHT
BEGIN:STANDARD
TZOFFSETFROM:+0300
TZOFFSETTO:+0200
TZNAME:EET
DTSTART:20211031T010000
END:STANDARD
BEGIN:DAYLIGHT
TZOFFSETFROM:+0200
TZOFFSETTO:+0300
TZNAME:EEST
DTSTART:20220327T010000
END:DAYLIGHT
BEGIN:STANDARD
TZOFFSETFROM:+0300
TZOFFSETTO:+0200
TZNAME:EET
DTSTART:20221030T010000
END:STANDARD
BEGIN:DAYLIGHT
TZOFFSETFROM:+0200
TZOFFSETTO:+0300
TZNAME:EEST
DTSTART:20230326T010000
END:DAYLIGHT
BEGIN:STANDARD
TZOFFSETFROM:+0300
TZOFFSETTO:+0200
TZNAME:EET
DTSTART:20231029T010000
END:STANDARD
END:VTIMEZONE
BEGIN:VEVENT
DTSTART;TZID=Europe/Vilnius:20220703T110000
DTEND;TZID=Europe/Vilnius:20220703T120000
DTSTAMP:20260423T111922
CREATED:20220610T183346Z
LAST-MODIFIED:20220610T183346Z
UID:9229-1656846000-1656849600@anyksciuparapija.lt
SUMMARY:Padėkos Šv. Mišios už Šeimos "Amoris laetitia" metus
DESCRIPTION:Artėja X-asis Pasaulio šeimų susitikimas Romoje – didžiuojamės ir džiaugiamės\, kad jame Lietuvai atstovaus ir mūsų vyskupijos kunigas Albertas Kasperavičius (Pandėlys).\nPradėdamas šeimos metus popiežius Pranciškus sakė: šeima nusipelno jos šventimo metų!\n„Jie netruko prabėgti. X Pasaulinis Šeimų susitikimas Romoje birželio 22-26 dienomis – tai paskutinis tų metų akordas. Jis nuskamba ne tik Romoje\, bet pagal galimybes – ir visose vyskupijose\, parapijose.” (vysk. A. Poniškaitis)\nAukščiausioje Lietuvoje – Anykščių šv. apašt. evang. Mato bažnyčioje bus aukojamos padėkos šv. Mišios už Šeimos „Amoris laetitia” metus Panevėžio vyskupijoje.\nSusitikime dėkoti Viešpačiui! Lauksime Jūsų\n\n\n!
URL:https://anyksciuparapija.lt/skelbimas/padekos-sv-misios-uz-seimos-amoris-laetitia-metus/
LOCATION:Anykščių bažnyčia\, Vilniaus g. 8\, Anykščiai\, LT-29145\, Lietuva
CATEGORIES:Churches,Liturgija,Vyskupija
ATTACH;FMTTYPE=image/png:https://anyksciuparapija.lt/wp-content/uploads/2022/06/seima.png
END:VEVENT
END:VCALENDAR