BEGIN:VCALENDAR
VERSION:2.0
PRODID:-//Anykščių Šv. Mato parapija - ECPv6.15.11//NONSGML v1.0//EN
CALSCALE:GREGORIAN
METHOD:PUBLISH
X-ORIGINAL-URL:https://anyksciuparapija.lt
X-WR-CALDESC:Anykščių Šv. Mato parapija renginiai
REFRESH-INTERVAL;VALUE=DURATION:PT1H
X-Robots-Tag:noindex
X-PUBLISHED-TTL:PT1H
BEGIN:VTIMEZONE
TZID:Europe/Vilnius
BEGIN:DAYLIGHT
TZOFFSETFROM:+0200
TZOFFSETTO:+0300
TZNAME:EEST
DTSTART:20220327T010000
END:DAYLIGHT
BEGIN:STANDARD
TZOFFSETFROM:+0300
TZOFFSETTO:+0200
TZNAME:EET
DTSTART:20221030T010000
END:STANDARD
BEGIN:DAYLIGHT
TZOFFSETFROM:+0200
TZOFFSETTO:+0300
TZNAME:EEST
DTSTART:20230326T010000
END:DAYLIGHT
BEGIN:STANDARD
TZOFFSETFROM:+0300
TZOFFSETTO:+0200
TZNAME:EET
DTSTART:20231029T010000
END:STANDARD
BEGIN:DAYLIGHT
TZOFFSETFROM:+0200
TZOFFSETTO:+0300
TZNAME:EEST
DTSTART:20240331T010000
END:DAYLIGHT
BEGIN:STANDARD
TZOFFSETFROM:+0300
TZOFFSETTO:+0200
TZNAME:EET
DTSTART:20241027T010000
END:STANDARD
END:VTIMEZONE
BEGIN:VEVENT
DTSTART;TZID=Europe/Vilnius:20231101T180000
DTEND;TZID=Europe/Vilnius:20231108T190000
DTSTAMP:20260419T030716
CREATED:20211005T191715Z
LAST-MODIFIED:20230930T171803Z
UID:8682-1698861600-1699470000@anyksciuparapija.lt
SUMMARY:Aštuondienis už mirusius
DESCRIPTION:Nuo lapkričio 1 d. iki 8 d. imtinai 18.00 val. šv. Mišiose melsimės sudėtinėmis intencijomis už mūsų mirusius artimuosius.\nBrangūs Broliai ir Seserys\, ant lapelių esančių bažnyčioje prie zakristijos galite surašyti mirusiųjų vardus už kuriuos norite maldų lapkričio 1 – 8 dienomis. Jūsų išvardinti vardai – tai Šv. Mišių intencijos. Šie lapeliai bus sudėti ant altoriaus ir per vakaro 18 val. Šv. Mišias visas šias dienas bus meldžiamasi už mirusiuosius.  VOKĄ SU VARDAIS įdėkite į AUKŲ dėžutę.\nMirusiųjų prisiminimas atgaivina ryšį tarp mirusių ir gyvųjų. Čia tarsi susitinkame su tais\, kuriuos mylime\, su kuriais išgyvenome gražias ir skaudžias valandas\, su kuriais dalinomės laime ir vargais. Juos prisimena­me malda ir ryžtu siekti tai\, ko jie nespėjo įgyvendinti.\nPer Vėlines meldžiamės už mirusiuosius ir lankome kapus. Lanko­me ne tiek formalios pareigos vedami\, kiek tikėjimo skatinami.\nVėlinių dieną aplankant kapines\, bažny­čią\, koplyčią  ir sukalbant Tėve Mūsų ir Tikėjimo Išpažinimą laimimi visuotiniai atlai­dai mirusiesiems.\nVėlinių visuotiniai atlaidai\nMirusiems tikintiesiems skirtus visuotinius atlaidus galima gauti įprastinėmis sąlygomis – pamaldžiai aplankius kapines\, bažnyčią ar viešą koplyčią ir ten sukalbėjus Viešpaties maldą ir Tikėjimo išpažinimą. Visuotinių atlaidų mirusiems taip pat gali melsti sergantieji\, seni žmonės bei visi kiti\, kurie negali išeiti iš namų. Atlaidams gauti jie privalo sukalbėti Vėlinių valandų liturgijos Rytmetinę arba Vakarinę\, arba Rožinį\, arba Dievo Gailestingumo vainikėlį\, arba kitas maldas už mirusius\, vienydamiesi su visais tikinčiaisiais\, atsiriboję nuo bet kokios nuodėmės ir pasiryžę\, kai tik galės\, įvykdyti įprastines atlaidų sąlygas.\nBrangūs Broliai ir Seserys\, ant lapelių esančių bažnyčioje prie zakristijos galite surašyti mirusiųjų vardus už kuriuos norite maldų lapkričio 1 – 8 dienomis. Jūsų išvardinti vardai – tai Šv. Mišių intencijos. Šie lapeliai bus sudėti ant altoriaus ir per vakaro 18 val. Šv. Mišias visas šias dienas bus meldžiamasi už mirusiuosius.  VOKĄ SU VARDAIS įdėkite į AUKŲ dėžutę.
URL:https://anyksciuparapija.lt/skelbimas/astuondienis-uz-mirusius/
LOCATION:Anykščių bažnyčia\, Vilniaus g. 8\, Anykščiai\, LT-29145\, Lietuva
CATEGORIES:Churches,Liturgija
END:VEVENT
END:VCALENDAR