BEGIN:VCALENDAR
VERSION:2.0
PRODID:-//Anykščių Šv. Mato parapija - ECPv6.15.11//NONSGML v1.0//EN
CALSCALE:GREGORIAN
METHOD:PUBLISH
X-WR-CALNAME:Anykščių Šv. Mato parapija
X-ORIGINAL-URL:https://anyksciuparapija.lt
X-WR-CALDESC:Anykščių Šv. Mato parapija renginiai
REFRESH-INTERVAL;VALUE=DURATION:PT1H
X-Robots-Tag:noindex
X-PUBLISHED-TTL:PT1H
BEGIN:VTIMEZONE
TZID:Europe/Vilnius
BEGIN:DAYLIGHT
TZOFFSETFROM:+0200
TZOFFSETTO:+0300
TZNAME:EEST
DTSTART:20220327T010000
END:DAYLIGHT
BEGIN:STANDARD
TZOFFSETFROM:+0300
TZOFFSETTO:+0200
TZNAME:EET
DTSTART:20221030T010000
END:STANDARD
BEGIN:DAYLIGHT
TZOFFSETFROM:+0200
TZOFFSETTO:+0300
TZNAME:EEST
DTSTART:20230326T010000
END:DAYLIGHT
BEGIN:STANDARD
TZOFFSETFROM:+0300
TZOFFSETTO:+0200
TZNAME:EET
DTSTART:20231029T010000
END:STANDARD
BEGIN:DAYLIGHT
TZOFFSETFROM:+0200
TZOFFSETTO:+0300
TZNAME:EEST
DTSTART:20240331T010000
END:DAYLIGHT
BEGIN:STANDARD
TZOFFSETFROM:+0300
TZOFFSETTO:+0200
TZNAME:EET
DTSTART:20241027T010000
END:STANDARD
END:VTIMEZONE
BEGIN:VEVENT
DTSTART;TZID=Europe/Vilnius:20230811T090000
DTEND;TZID=Europe/Vilnius:20230812T110000
DTSTAMP:20260422T110326
CREATED:20180801T125351Z
LAST-MODIFIED:20230713T202912Z
UID:4983-1691744400-1691838000@anyksciuparapija.lt
SUMMARY:24 valandos Viešpačiui
DESCRIPTION:Kviečiame į Švenčiausio Sakramento adoraciją\, kuri vyks nuo rugpjūčio 11 d. 9 val. iki rugpjūčio 12 d. 11 val.\nPRAŠANT TAIKOS VISAM PASAULIUI\, YPAČ UKRAINOS ŽEMEI. TAIP PAT PRAŠANT NAUJŲ PAŠAUKIMŲ Į KUNIGYSTĘ\, PAŠVĘSTĄJĮ GYVENIMĄ BEI ŠEIMOS GYVENIMĄ.
URL:https://anyksciuparapija.lt/skelbimas/24-val-viespaciui/
LOCATION:Anykščių bažnyčia\, Vilniaus g. 8\, Anykščiai\, LT-29145\, Lietuva
CATEGORIES:Churches,Liturgija
ATTACH;FMTTYPE=image/jpeg:https://anyksciuparapija.lt/wp-content/uploads/2018/08/Ingutei-_internetui.jpg
END:VEVENT
END:VCALENDAR