BEGIN:VCALENDAR
VERSION:2.0
PRODID:-//Anykščių Šv. Mato parapija - ECPv6.15.11//NONSGML v1.0//EN
CALSCALE:GREGORIAN
METHOD:PUBLISH
X-ORIGINAL-URL:https://anyksciuparapija.lt
X-WR-CALDESC:Anykščių Šv. Mato parapija renginiai
REFRESH-INTERVAL;VALUE=DURATION:PT1H
X-Robots-Tag:noindex
X-PUBLISHED-TTL:PT1H
BEGIN:VTIMEZONE
TZID:Europe/Vilnius
BEGIN:DAYLIGHT
TZOFFSETFROM:+0200
TZOFFSETTO:+0300
TZNAME:EEST
DTSTART:20220327T010000
END:DAYLIGHT
BEGIN:STANDARD
TZOFFSETFROM:+0300
TZOFFSETTO:+0200
TZNAME:EET
DTSTART:20221030T010000
END:STANDARD
BEGIN:DAYLIGHT
TZOFFSETFROM:+0200
TZOFFSETTO:+0300
TZNAME:EEST
DTSTART:20230326T010000
END:DAYLIGHT
BEGIN:STANDARD
TZOFFSETFROM:+0300
TZOFFSETTO:+0200
TZNAME:EET
DTSTART:20231029T010000
END:STANDARD
BEGIN:DAYLIGHT
TZOFFSETFROM:+0200
TZOFFSETTO:+0300
TZNAME:EEST
DTSTART:20240331T010000
END:DAYLIGHT
BEGIN:STANDARD
TZOFFSETFROM:+0300
TZOFFSETTO:+0200
TZNAME:EET
DTSTART:20241027T010000
END:STANDARD
END:VTIMEZONE
BEGIN:VEVENT
DTSTART;VALUE=DATE:20230725
DTEND;VALUE=DATE:20230726
DTSTAMP:20260422T122903
CREATED:20200719T122952Z
LAST-MODIFIED:20230612T175806Z
UID:7462-1690243200-1690329599@anyksciuparapija.lt
SUMMARY:Šv. Jokūbas
DESCRIPTION:Šv. Mišios 8.30 ir 19 val.\nApaštalas Jokūbas (I a.)\, dar vadinamas Jokūbu Vyresniuoju\, Zebediejaus ir Salomės sūnus\, evangelisto Jono brolis. Dvylikos apaštalų sąraše Jokūbas užima trečią vietą po Petro ir Andriejaus (Mt 10\, 2). Dalyvavo Jayro dukters prikėlime\, Jėzaus agonijoje Alyvų kalne. Manoma\, kad skelbė Evangeliją Ispanijoje. Nužudytas apie 42 m. Pirmas iš apaštalų laimėjo kankinystės vainiką.
URL:https://anyksciuparapija.lt/skelbimas/sv-jokubas/
LOCATION:Anykščių bažnyčia\, Vilniaus g. 8\, Anykščiai\, LT-29145\, Lietuva
CATEGORIES:Bendruomenė,Churches,Liturgija
ATTACH;FMTTYPE=image/jpeg:https://anyksciuparapija.lt/wp-content/uploads/2020/07/StJames.jpg
END:VEVENT
END:VCALENDAR