BEGIN:VCALENDAR
VERSION:2.0
PRODID:-//Anykščių Šv. Mato parapija - ECPv6.15.11//NONSGML v1.0//EN
CALSCALE:GREGORIAN
METHOD:PUBLISH
X-ORIGINAL-URL:https://anyksciuparapija.lt
X-WR-CALDESC:Anykščių Šv. Mato parapija renginiai
REFRESH-INTERVAL;VALUE=DURATION:PT1H
X-Robots-Tag:noindex
X-PUBLISHED-TTL:PT1H
BEGIN:VTIMEZONE
TZID:Europe/Vilnius
BEGIN:DAYLIGHT
TZOFFSETFROM:+0200
TZOFFSETTO:+0300
TZNAME:EEST
DTSTART:20220327T010000
END:DAYLIGHT
BEGIN:STANDARD
TZOFFSETFROM:+0300
TZOFFSETTO:+0200
TZNAME:EET
DTSTART:20221030T010000
END:STANDARD
BEGIN:DAYLIGHT
TZOFFSETFROM:+0200
TZOFFSETTO:+0300
TZNAME:EEST
DTSTART:20230326T010000
END:DAYLIGHT
BEGIN:STANDARD
TZOFFSETFROM:+0300
TZOFFSETTO:+0200
TZNAME:EET
DTSTART:20231029T010000
END:STANDARD
BEGIN:DAYLIGHT
TZOFFSETFROM:+0200
TZOFFSETTO:+0300
TZNAME:EEST
DTSTART:20240331T010000
END:DAYLIGHT
BEGIN:STANDARD
TZOFFSETFROM:+0300
TZOFFSETTO:+0200
TZNAME:EET
DTSTART:20241027T010000
END:STANDARD
END:VTIMEZONE
BEGIN:VEVENT
DTSTART;VALUE=DATE:20230501
DTEND;VALUE=DATE:20230601
DTSTAMP:20260422T140254
CREATED:20200425T175902Z
LAST-MODIFIED:20230415T142134Z
UID:7112-1682899200-1685577599@anyksciuparapija.lt
SUMMARY:Gegužinės pamaldos
DESCRIPTION:Gegužės mėnuo yra skirtas mūsų dangiškajai motinai – Švč. Mergelei Marijai. Kiekvieną dieną šiokiadieniais po 19 Šv. Mišių melsimės Švč. M. Marijos litaniją. Sekmadieniais po 8.30 val. Šv. Mišių. Šv. Mišios nuo gegužės 1 d. iki rugpjūčio 31 d. vakarais vyks 19 val.\n\n\nŠvč. Mergelės Marijos litanija\n\nKyrie\, eleison! Christe\, eleison! Kyrie\, eleison!\nKristau\, išgirsk mus! Kristau\, išklausyk mus!\nTėve\, dangaus Dieve\, pasigailėk mūsų!\nSūnau\, pasaulio Atpirkėjau\, Dieve\, pasigailėk mūsų!\nŠventoji Dvasia\, Dieve\, pasigailėk mūsų!\nŠventoji Trejybe\, vienas Dieve\, pasigailėk mūsų!\nŠventoji Marija\,   |   melski už mus!\nŠventoji Dievo Gimdytoja\,\nŠventoji Mergelių Mergele\,\nMotina Kristaus\,\nMotina Bažnyčios\,\nMotina Dievo malonės\,\nMotina Gailestingumo\,\nMotina tyriausioji\,\nMotina skaisčiausioji\,\nMotina nepalytėtoji\,\nMotina nesuteptoji\,\nMotina meilingoji\,\nMotina stebuklingoji\,\nMotina geroji patarėja\,\nMotina Sutvėrėjo\,\nMotina Išganytojo\,\nMergele išmintingoji\,\nMergele garbingoji\,\nMergele šlovingoji\,\nMergele galingoji\,\nMergele maloningoji\,\nMergele ištikimoji\,\nTeisybės paveiksle\,\nIšminties soste\,\nMūsų linksmybės priežastie\,\nDvasios inde\,\nGarbės inde\,\nĮstabusis maldingumo inde\,\nPaslaptingoji rože\,\nDovydo bokšte\,\nBalčiausiasis bokšte\,\nAukso namai\,\nSandoros skrynia\,\nDangaus vartai\,\nAušros žvaigžde\,\nLigonių sveikata\,\nNusidėjėlių gynėja\,\nNuliūdusiųjų paguoda\,\nKrikščionių pagalba\,\nKaraliene angelų\,\nKaraliene patriarchų\,\nKaraliene pranašų\,\nKaraliene apaštalų\,\nKaraliene kankinių\,\nKaraliene išpažinėjų\,\nKaraliene mergelių\,\nKaraliene visų šventųjų\,\nKaraliene be gimtosios nuodėmės pradėtoji\,\nKaraliene į dangų paimtoji\,\nKaraliene šventojo rožinio\,\nKaraliene šeimos\,\nKaraliene taikos\,\nDievo Avinėli\, kuris naikini pasaulio nuodėmes\,\natleisk mums\, Viešpatie!\nDievo Avinėli\, kuris naikini pasaulio nuodėmes\,\nišklausyk mus\, Viešpatie!\nDievo Avinėli\, kuris naikini pasaulio nuodėmes\,\npasigailėk mūsų!\nTAVO APGYNIMO ŠAUKIAMĖS\, * šventoji Dievo Gimdytoja! * Mūsų maldų neatmeski mūsų reikaluose\, * bet nuo visokių pavojų mus visados gelbėk. * Mergele garbingoji ir palaimintoji\, * mūsų Valdove\, mūsų Tarpininke\, mūsų Užtarėja\, * su savo Sūnumi mus sutaikink\,  savo Sūnui mus paveski\, * savo Sūnui mus atiduoki!\nMeski už mus\, šventoji Dievo Gimdytoja!\nKad taptume verti Kristaus žadėjimų!\nMelskimės. Meldžiame tave\, Viešpatie Dieve\, Švenčiausiajai Mergelei Marijai užtariant\, leisk mums\, savo žmonėms\, išsigelbėti iš dabartinių sielvartų\, visados džiaugtis sielos bei kūno sveikata ir gėrėtis amžinąja linksmybe. Prašome per Kristų\, mūsų Viešpatį. Amen.\nAtsimink\, maloningoji Mergele Marija\, jog per amžius nėra girdėta\, kad apleistum bent vieną\, kuris bėga prie Tavęs\, šaukiasi Tavo pagalbos ir prašosi užtariamas. Pasitikėdami ir mes skubame prie Tavęs\, Mergelių Mergele ir Motina! Mes einame pas tave ir\, būdami nusidėjėliai\, su gailesčiu puolame prie tavo kojų. Tu\, Įsikūnijusio Žodžio Motina\, nepaniekink mūsų žodžių\, bet maloningai išgirsk ir išklausyk. Amen.\nGiesmė\nSveika\, Marija\, Motina Dievo.\nDangaus mums duota naujoji Ieva!\nAtmint mus teikis savo širdyje\,\nMelsk už mus Dievą\, sveika\, Marija!\nSveika\, Mergele nesuteptoji\,-\nKančioj mus guodi\, ligoj globoji;\nO kvepiančioji dangaus lelija\,\nDuok sveiką orą\, sveika\, Marija!\nTu žemei Dievą gimdei\, penėjai\,\nDangaus Valdovą\, mūs Atpirkėją;\nTegul mūs šaliai palaima lyja\,\nGink mus nuo bado\, sveika\, Marija!\nTu mirtį savo Sūnaus regėjai\,\nAšaras graudžias po kryžium liejai;\nPer savo kančią lyg Kalvariją\nDuok mums kantrybės\, sveika\, Marija!\nŠventa Mergele\, pilna malonės\,\nVienybę platink\, sutaikink žmones\,\nNaikink rūstybę visų širdyje\,\nSuteik ramybę\, sveika\, Marija!\nŠventoji Motin\, visų tyriausia\,\nDuok nekaltybės dorą brangiausią\,\nNaikink širdyje pikto vergiją\,\nDuok Dievo meilę\, sveika\, Marija!\nO Karaliene visų šventųjų\,\nIšgirsk meldimą žmonių kaltųjų\,\nNeleisk mums žūti baisioj ugnyje\,\nNuvesk į dangų\, sveika\, Marija!
URL:https://anyksciuparapija.lt/skelbimas/geguzines-pamaldos/
LOCATION:Anykščių bažnyčia\, Vilniaus g. 8\, Anykščiai\, LT-29145\, Lietuva
CATEGORIES:Churches,Liturgija
ATTACH;FMTTYPE=image/jpeg:https://anyksciuparapija.lt/wp-content/uploads/2020/04/unnamed-1-1.jpg
END:VEVENT
BEGIN:VEVENT
DTSTART;VALUE=DATE:20230529
DTEND;VALUE=DATE:20230530
DTSTAMP:20260422T140254
CREATED:20210422T192403Z
LAST-MODIFIED:20230415T143224Z
UID:8200-1685318400-1685404799@anyksciuparapija.lt
SUMMARY:Švč. Mergelė Marija\, Bažnyčios Motina
DESCRIPTION:Šv. Mišios 8.30 ir 19 val.
URL:https://anyksciuparapija.lt/skelbimas/svc-mergele-marija-baznycios-motina/
LOCATION:Anykščių bažnyčia\, Vilniaus g. 8\, Anykščiai\, LT-29145\, Lietuva
CATEGORIES:Churches,Liturgija
ATTACH;FMTTYPE=image/jpeg:https://anyksciuparapija.lt/wp-content/uploads/2021/04/cq5dam.thumbnail.cropped.1500.844.jpeg
END:VEVENT
END:VCALENDAR