BEGIN:VCALENDAR
VERSION:2.0
PRODID:-//Anykščių Šv. Mato parapija - ECPv6.15.11//NONSGML v1.0//EN
CALSCALE:GREGORIAN
METHOD:PUBLISH
X-WR-CALNAME:Anykščių Šv. Mato parapija
X-ORIGINAL-URL:https://anyksciuparapija.lt
X-WR-CALDESC:Anykščių Šv. Mato parapija renginiai
REFRESH-INTERVAL;VALUE=DURATION:PT1H
X-Robots-Tag:noindex
X-PUBLISHED-TTL:PT1H
BEGIN:VTIMEZONE
TZID:Europe/Vilnius
BEGIN:DAYLIGHT
TZOFFSETFROM:+0200
TZOFFSETTO:+0300
TZNAME:EEST
DTSTART:20210328T010000
END:DAYLIGHT
BEGIN:STANDARD
TZOFFSETFROM:+0300
TZOFFSETTO:+0200
TZNAME:EET
DTSTART:20211031T010000
END:STANDARD
BEGIN:DAYLIGHT
TZOFFSETFROM:+0200
TZOFFSETTO:+0300
TZNAME:EEST
DTSTART:20220327T010000
END:DAYLIGHT
BEGIN:STANDARD
TZOFFSETFROM:+0300
TZOFFSETTO:+0200
TZNAME:EET
DTSTART:20221030T010000
END:STANDARD
BEGIN:DAYLIGHT
TZOFFSETFROM:+0200
TZOFFSETTO:+0300
TZNAME:EEST
DTSTART:20230326T010000
END:DAYLIGHT
BEGIN:STANDARD
TZOFFSETFROM:+0300
TZOFFSETTO:+0200
TZNAME:EET
DTSTART:20231029T010000
END:STANDARD
END:VTIMEZONE
BEGIN:VEVENT
DTSTART;VALUE=DATE:20220824
DTEND;VALUE=DATE:20220825
DTSTAMP:20260423T075641
CREATED:20210627T134515Z
LAST-MODIFIED:20220418T203045Z
UID:8377-1661299200-1661385599@anyksciuparapija.lt
SUMMARY:Šv. Baltramiejus\, apaštalas
DESCRIPTION:Šv. Mišios 8 ir 19 val.\nŠv. apaštalo Baltramiejaus šventė \nŠv. Baltramiejus\, vienas iš 12 apaštalų\, minimas NT (plg. Mt 10\, 3; Lk 6\, 14; Mk 3\, 18; Apd 1\, 13). Iš pradžių turėjo Jono vardą. Istorikas Euzebijus teigia\, kad šv. Baltramiejus skelbė Evangeliją Indijoje. Dar apaštalavo Armėnijoje\, Laodikėjoje (Turkijos vakaruose)\, Mesopotamijoje\, Etiopijoje ir kitur. Manoma\, kad nukankintas Armėnijoje. Lietuvoje – amatininkų globėjas.
URL:https://anyksciuparapija.lt/skelbimas/sv-baltramiejus-apastalas/
LOCATION:Anykščių bažnyčia\, Vilniaus g. 8\, Anykščiai\, LT-29145\, Lietuva
CATEGORIES:Churches,Liturgija
ATTACH;FMTTYPE=image/jpeg:https://anyksciuparapija.lt/wp-content/uploads/2021/06/cq5dam.thumbnail.cropped.750.422-3.jpeg
END:VEVENT
END:VCALENDAR