BEGIN:VCALENDAR
VERSION:2.0
PRODID:-//Anykščių Šv. Mato parapija - ECPv6.15.11//NONSGML v1.0//EN
CALSCALE:GREGORIAN
METHOD:PUBLISH
X-WR-CALNAME:Anykščių Šv. Mato parapija
X-ORIGINAL-URL:https://anyksciuparapija.lt
X-WR-CALDESC:Anykščių Šv. Mato parapija renginiai
REFRESH-INTERVAL;VALUE=DURATION:PT1H
X-Robots-Tag:noindex
X-PUBLISHED-TTL:PT1H
BEGIN:VTIMEZONE
TZID:Europe/Vilnius
BEGIN:DAYLIGHT
TZOFFSETFROM:+0200
TZOFFSETTO:+0300
TZNAME:EEST
DTSTART:20210328T010000
END:DAYLIGHT
BEGIN:STANDARD
TZOFFSETFROM:+0300
TZOFFSETTO:+0200
TZNAME:EET
DTSTART:20211031T010000
END:STANDARD
BEGIN:DAYLIGHT
TZOFFSETFROM:+0200
TZOFFSETTO:+0300
TZNAME:EEST
DTSTART:20220327T010000
END:DAYLIGHT
BEGIN:STANDARD
TZOFFSETFROM:+0300
TZOFFSETTO:+0200
TZNAME:EET
DTSTART:20221030T010000
END:STANDARD
BEGIN:DAYLIGHT
TZOFFSETFROM:+0200
TZOFFSETTO:+0300
TZNAME:EEST
DTSTART:20230326T010000
END:DAYLIGHT
BEGIN:STANDARD
TZOFFSETFROM:+0300
TZOFFSETTO:+0200
TZNAME:EET
DTSTART:20231029T010000
END:STANDARD
END:VTIMEZONE
BEGIN:VEVENT
DTSTART;VALUE=DATE:20220818
DTEND;VALUE=DATE:20220819
DTSTAMP:20260423T075701
CREATED:20220418T203442Z
LAST-MODIFIED:20220418T203656Z
UID:9078-1660780800-1660867199@anyksciuparapija.lt
SUMMARY:Švč. Mergelė Marija Karalienė
DESCRIPTION:Šv. Mišios 8 ir 19 val.\n1954 m.\, minint 100 metų sukaktį nuo Švč. Mergelės Marijos Nekaltojo prasidėjimo dogmos paskelbimo\, Pijus XII visoje Katalikų Bažnyčioje įvedė Švč. Mergelės Marijos Karalienės šventę\, paskirdamas jai gegužės 31 d. Tačiau 1969 m.\, vykdant Vatikano II Susirinkimo liturginio kalendoriaus pertvarkymą\, šventė perkelta į rugpjūčio 22 d.\, t. y. aštuntą dieną po Žolinės. Švč. Mergelės Marijos litanijoje yra 13 kreipinių\, kuriuose išvardijami Marijos kaip Karalienės titulai. \nŠvč. Mergelė Marija Karalienė pagimdė Dievo Sūnų\, Taikos Kunigaikštį\, kurio Karalystei nebus galo. Krikščionys tikintieji sveikina ją kaip dangaus Karalienę ir gailestingumo Motiną. \nŠiandien tinka sukalbėti arba pagiedoti Švč. Mergelės Marijos litaniją.
URL:https://anyksciuparapija.lt/skelbimas/svc-mergele-marija-karaliene/
LOCATION:Anykščių bažnyčia\, Vilniaus g. 8\, Anykščiai\, LT-29145\, Lietuva
CATEGORIES:Churches,Liturgija
ATTACH;FMTTYPE=image/jpeg:https://anyksciuparapija.lt/wp-content/uploads/2022/04/08-22_marija-karaliene_d.jpg
END:VEVENT
END:VCALENDAR