BEGIN:VCALENDAR
VERSION:2.0
PRODID:-//Anykščių Šv. Mato parapija - ECPv6.15.11//NONSGML v1.0//EN
CALSCALE:GREGORIAN
METHOD:PUBLISH
X-WR-CALNAME:Anykščių Šv. Mato parapija
X-ORIGINAL-URL:https://anyksciuparapija.lt
X-WR-CALDESC:Anykščių Šv. Mato parapija renginiai
REFRESH-INTERVAL;VALUE=DURATION:PT1H
X-Robots-Tag:noindex
X-PUBLISHED-TTL:PT1H
BEGIN:VTIMEZONE
TZID:Europe/Vilnius
BEGIN:DAYLIGHT
TZOFFSETFROM:+0200
TZOFFSETTO:+0300
TZNAME:EEST
DTSTART:20200329T010000
END:DAYLIGHT
BEGIN:STANDARD
TZOFFSETFROM:+0300
TZOFFSETTO:+0200
TZNAME:EET
DTSTART:20201025T010000
END:STANDARD
BEGIN:DAYLIGHT
TZOFFSETFROM:+0200
TZOFFSETTO:+0300
TZNAME:EEST
DTSTART:20210328T010000
END:DAYLIGHT
BEGIN:STANDARD
TZOFFSETFROM:+0300
TZOFFSETTO:+0200
TZNAME:EET
DTSTART:20211031T010000
END:STANDARD
BEGIN:DAYLIGHT
TZOFFSETFROM:+0200
TZOFFSETTO:+0300
TZNAME:EEST
DTSTART:20220327T010000
END:DAYLIGHT
BEGIN:STANDARD
TZOFFSETFROM:+0300
TZOFFSETTO:+0200
TZNAME:EET
DTSTART:20221030T010000
END:STANDARD
END:VTIMEZONE
BEGIN:VEVENT
DTSTART;VALUE=DATE:20210926
DTEND;VALUE=DATE:20210927
DTSTAMP:20260424T005429
CREATED:20190928T112709Z
LAST-MODIFIED:20210917T211419Z
UID:5947-1632614400-1632700799@anyksciuparapija.lt
SUMMARY:Vairuotojų ir keliaujančių diena. Automobilių šventinimas.
DESCRIPTION:Rugsėjo paskutinį sekmadienį\, minima vairuotojų ir keliaujančių diena. Melsimės už žuvusius ir nukentėjusius keliuose ir už gyvuosius vairuotojus\, eismo dalyvius\, keliaujančius.\nRugsėjo 26 d. sekmadienį bus laiminami vairuotojai\, automobiliai ir kitos transporto priemonės po 9 val. 11 val. 18 val. Šv. Mišių.\nPasaulinė migrantų ir pabėgėlių diena.\n \n 
URL:https://anyksciuparapija.lt/skelbimas/vairuotoju-ir-keliaujanciu-diena-automobiliu-sventinimas/
LOCATION:Anykščių bažnyčia\, Vilniaus g. 8\, Anykščiai\, LT-29145\, Lietuva
CATEGORIES:Bendruomenė,Churches,Liturgija,Veikla
ATTACH;FMTTYPE=image/jpeg:https://anyksciuparapija.lt/wp-content/uploads/2019/09/210908-LAKD-keliaujanciu-ir-vairuotoju-diena-dekalogas-web-A4-01.jpg
END:VEVENT
BEGIN:VEVENT
DTSTART;TZID=Europe/Vilnius:20210926T180000
DTEND;TZID=Europe/Vilnius:20210926T190000
DTSTAMP:20260424T005429
CREATED:20190908T172147Z
LAST-MODIFIED:20210906T170124Z
UID:5679-1632679200-1632682800@anyksciuparapija.lt
SUMMARY:Vaikų\, jaunimo ir suaugusiųjų rengimas sakramentams prasideda.
DESCRIPTION:Vaikai su tėveliais privalo dalyvauti Šv. Mišiose rugsėjo 26 d. 18.00 val. Vaikai ir jaunimas bus registruojami Atgailos\, Pirmosios Komunijos ir Sutvirtinimo Sakramentams. Atgailai ir Pirmajai Komunijai bus registruojami nuo 4 klasės vaikai (reikia turėti KRIKŠTO pažymėjimą arba jo kopiją)\, o Sutvirtinimo Sakramentui nuo 9 klasės jaunuoliai (reikia turėti KRIKŠTO ir PIRMOSIOS KOMUNIJOS pažymėjimus (arba pažymų) kopijas. Registracija jau yra prasidėjusi. Anketas registracijai galima paimti  zakristijoje\, klebonijoje ir užpildžius grąžinti. \nSuaugusieji Sakramentams bus ruošiami  atskirai. Suaugusieji nuo 18 metų gali registruotis (Krikšto\, Atgailos\, Eucharistijos\, Sutvirtinimo) Sakramentams nuo dabar kreipdamiesi pas kunigus bažnyčioje arba raštinėje. Reikia turėti Sakramentų\, kuriuos priėmę\, pažymėjimus arba kopijas. \nRugsėjo paskutinį sekmadienį\, minima Vairuotojų ir keliaujančių diena. \nBus šventinami automobiliai po Šv. Mišių.
URL:https://anyksciuparapija.lt/skelbimas/vaiku-ir-jaunimo-rengimas-sakramentams-prasideda/
LOCATION:Anykščių bažnyčia\, Vilniaus g. 8\, Anykščiai\, LT-29145\, Lietuva
CATEGORIES:Bendruomenė,Churches,Liturgija,Veikla
END:VEVENT
END:VCALENDAR