BEGIN:VCALENDAR
VERSION:2.0
PRODID:-//Anykščių Šv. Mato parapija - ECPv6.15.11//NONSGML v1.0//EN
CALSCALE:GREGORIAN
METHOD:PUBLISH
X-WR-CALNAME:Anykščių Šv. Mato parapija
X-ORIGINAL-URL:https://anyksciuparapija.lt
X-WR-CALDESC:Anykščių Šv. Mato parapija renginiai
REFRESH-INTERVAL;VALUE=DURATION:PT1H
X-Robots-Tag:noindex
X-PUBLISHED-TTL:PT1H
BEGIN:VTIMEZONE
TZID:Europe/Vilnius
BEGIN:DAYLIGHT
TZOFFSETFROM:+0200
TZOFFSETTO:+0300
TZNAME:EEST
DTSTART:20200329T010000
END:DAYLIGHT
BEGIN:STANDARD
TZOFFSETFROM:+0300
TZOFFSETTO:+0200
TZNAME:EET
DTSTART:20201025T010000
END:STANDARD
BEGIN:DAYLIGHT
TZOFFSETFROM:+0200
TZOFFSETTO:+0300
TZNAME:EEST
DTSTART:20210328T010000
END:DAYLIGHT
BEGIN:STANDARD
TZOFFSETFROM:+0300
TZOFFSETTO:+0200
TZNAME:EET
DTSTART:20211031T010000
END:STANDARD
BEGIN:DAYLIGHT
TZOFFSETFROM:+0200
TZOFFSETTO:+0300
TZNAME:EEST
DTSTART:20220327T010000
END:DAYLIGHT
BEGIN:STANDARD
TZOFFSETFROM:+0300
TZOFFSETTO:+0200
TZNAME:EET
DTSTART:20221030T010000
END:STANDARD
END:VTIMEZONE
BEGIN:VEVENT
DTSTART;VALUE=DATE:20210914
DTEND;VALUE=DATE:20210915
DTSTAMP:20260424T021220
CREATED:20190908T162641Z
LAST-MODIFIED:20210912T202153Z
UID:5671-1631577600-1631663999@anyksciuparapija.lt
SUMMARY:Šventojo Kryžiaus Išaukštinimo šventė.
DESCRIPTION:Rugsėjo 14 d. Šventojo Kryžiaus Išaukštinimo šventė.\nŠv. Mišios 8 val. ir 18 val.\nPo 18 val.  Šv. Mišių pagerbsime Tremtinių Kryžių esantį šventoriuje.\nPapuoškime ir pagerbkime kryžius.\n  \nŠv. Elena 326 m. rado šv. Kryžių. Šis įvykis imtas švęsti Rytuose\, o nuo 650 m. šventė buvo įvesta ir Vakaruose. Kitą dieną po Prisikėlimo bazilikos\, pastatytos ant Kristaus kapo\, konsekracijos buvo iškeltas ir pagarbintas Kristaus kryžius\, kaip Jo velykinės pergalės ženklas ir pasirodysiantis danguje ženklas\, skelbiantis visiems antrąjį Jo atėjimą.
URL:https://anyksciuparapija.lt/skelbimas/sventojo-kryziaus-isaukstinimo-svente/
LOCATION:Anykščių bažnyčia\, Vilniaus g. 8\, Anykščiai\, LT-29145\, Lietuva
CATEGORIES:Bendruomenė,Churches,Liturgija
ATTACH;FMTTYPE=image/jpeg:https://anyksciuparapija.lt/wp-content/uploads/2019/09/9819925557-nukryziuotasis-ant-kryziaus-kryzius-jezus.jpg
END:VEVENT
END:VCALENDAR