BEGIN:VCALENDAR
VERSION:2.0
PRODID:-//Anykščių Šv. Mato parapija - ECPv6.15.11//NONSGML v1.0//EN
CALSCALE:GREGORIAN
METHOD:PUBLISH
X-ORIGINAL-URL:https://anyksciuparapija.lt
X-WR-CALDESC:Anykščių Šv. Mato parapija renginiai
REFRESH-INTERVAL;VALUE=DURATION:PT1H
X-Robots-Tag:noindex
X-PUBLISHED-TTL:PT1H
BEGIN:VTIMEZONE
TZID:Europe/Vilnius
BEGIN:DAYLIGHT
TZOFFSETFROM:+0200
TZOFFSETTO:+0300
TZNAME:EEST
DTSTART:20200329T010000
END:DAYLIGHT
BEGIN:STANDARD
TZOFFSETFROM:+0300
TZOFFSETTO:+0200
TZNAME:EET
DTSTART:20201025T010000
END:STANDARD
BEGIN:DAYLIGHT
TZOFFSETFROM:+0200
TZOFFSETTO:+0300
TZNAME:EEST
DTSTART:20210328T010000
END:DAYLIGHT
BEGIN:STANDARD
TZOFFSETFROM:+0300
TZOFFSETTO:+0200
TZNAME:EET
DTSTART:20211031T010000
END:STANDARD
BEGIN:DAYLIGHT
TZOFFSETFROM:+0200
TZOFFSETTO:+0300
TZNAME:EEST
DTSTART:20220327T010000
END:DAYLIGHT
BEGIN:STANDARD
TZOFFSETFROM:+0300
TZOFFSETTO:+0200
TZNAME:EET
DTSTART:20221030T010000
END:STANDARD
END:VTIMEZONE
BEGIN:VEVENT
DTSTART;VALUE=DATE:20210908
DTEND;VALUE=DATE:20210909
DTSTAMP:20260424T021342
CREATED:20200906T204757Z
LAST-MODIFIED:20210904T064826Z
UID:7652-1631059200-1631145599@anyksciuparapija.lt
SUMMARY:ŠVČ. MERGELĖS MARIJOS GIMIMAS (Šilinė)
DESCRIPTION:Šv. Mišios 8 val. ir 18 val.\nJeruzalėje\, Marijos gimimo vietoje\, buvo pastatyta ir pašventinta Šv. Onos bažnyčia. Nuo VII a. rugsėjo 8 d. Romoje švenčiama Marijos gimimo diena\, nuo XI a. – jau visoje Vakarų Bažnyčioje. Marijos Gimimo šventė su Viešpaties (gruodžio 25 d.) ir Jono Krikštytojo (birželio 24 d.) gimimo dienomis yra vienintelės Romos kalendoriuje „gimimo“ šventės.\n  \nŠiluvos bažnyčia – bene pirmoji Lietuvoje Marijos Gimimo titulą turinti šventovė.\nATLAIDAI (ŠILINĖS)švenčiami rugsėjo 7–15 d.  \nhttp://siluvosparapija.lt/2020-m-didziuju-svc-mergeles-marijos-gimimo-atlaidu-siliniu-programa/ \nJos atlaidai\, liaudiškai – Šilinės\, švęsti dar prieš Dievo Motinos apsireiškimą. Dv arininkui Petrui Simonui Gedgaudui 1457-aisiais čionai pastatydinus Švč. Mergelės Marijos garbei dedikuotą bažnyčią ir iš Romos gavus jai savo titulinius atlaidus (rugsėjo 8 d.)\, garsas apie šią bažnyčią pasklido taip plačiai\, kad žmonės būriais traukdavo ne tik iš artimiausių apylinkių\, bet net iš Užnemunės\, kur vyravo protestantai.\nXVI a. antrojoje pusėje Šiluvoje įsigalėjus reformatams\, katalikai neteko bažnyčios\, drauge nutrūko ir atlaidų šventimo tradicija. Atlaidai vėl imti švęsti Šiluvoje katalikams atgavus bažnytines žemes ir kun. Jonui Smolkai-Kazakevičiui 1627 m. pastatydinus nedidukę medinę bažnytėlę.\nTačiau\, anot pirmosios Šiluvos istorijos autoriaus kan. M. Svietkausko\, žmonės netikėtai gausiai vėl ėmė keliauti į Švč. Mergelės šventę – per 1629-ųjų atlaidus buvo išdalyta 11 tūkst. komunikantų. Tad veikiai nuspręsta bažnyčią padidinti.\nŽmones į Šiluvą traukė ne tik patys atlaidai\, bet ir vis plačiau sklindanti žinia apie Marijos apsireiškimą Šiluvoje ir bažnyčioje kabantis\, nuo 1622-ųjų malonėmis garsėjantis Švč. Mergelės Marijos su Kūdikiu paveikslas.\n1786-ųjų rugsėjo 8-ąją įvyko Švč. Mergelės Marijos su Kūdikiu paveikslo vainikavimo iškilmės\, kurios truko tris dienas. Šis įvykis dar labiau išgarsino Šilinių atlaidus.\n1886-aisiais buvo minimas stebuklingojo paveikslo vainikavimo šimtmetis. Į atlaidus\, dalyvaujant Žemaičių vyskupui M. Paliulioniui ir 40 kunigų\, susirinko 40 tūkstančių maldininkų.\nPo šio įvykio okupacinė caro valdžia uždraudė bet kokias procesijas ir šis draudimas truko iki 1905 metų. Tačiau tai neatitraukė žmonių nuo Šiluvos. 1906 m. atgaivintos piligriminės eisenos sutraukė 50 tūkst. maldininkų. Šį keliavimą aprašė Žemaitė „Kelionėje į Šidlavą“.\nŠiluvos atlaidų metu vykdavo gyva prekyba knygomis. Ir uždraudus lietuvišką spaudą per Šiluvos atlaidus ir prekymečius vykdavo lietuviškų knygų skleidimas. Į atlaidus suvažiuodavo iki 200 knygnešių bei škaplierininkų\, o jų gaudyti atvykdavo apie 300 rusų policijos pareigūnų. Vis dėlto jiems retai tepasitaikydavo knygnešį sučiupti.\nNepriklausomos Lietuvos laikais taip pat organizuotai keliauta į Šiluvos atlaidus ne tik iš aplinkinių parapijų. Maldininkų į Šiluvos atlaidus susirinkdavo iki 100 tūkstančių.\nNuo XX a. pradžios Šiluvoje pradėti organizuoti kultūriniai renginiai: filmai\, vaidinimai. Kaune veikė maldininkų kelionių į Šiluvą organizavimo komitetas.\nŠiluvos atlaidų tradicija nenutrūko nė sovietų okupacijos metais. Nors sovietų valdžia visaip stengėsi niekinti Šilinių atlaidus spaudoje\, maldininkams uždarydavo kelius ir šunkelius\, 1979 m. net paskelbė kiaulių marą\, kelionių organizatoriai būdavo tardomi\, teisiami ir baudžiami laisvės atėmimu\, o dalyvius stengiamasi išsklaidyti ir įbauginti – žmonės tiesiog plūsdavo į Šiluvą. Nepaisant persekiojimų\, Šiluva išliko Bažnyčios dvasinės stiprybės liudytoja. Lietuvos Katalikų Bažnyčios kronikoje rašoma\, jog nepaisant šių represijų\, per Šilinių atlaidus kasmet būdavo išdalijama apie 50 000 šv. Komunijų (LKBK\, 1974 m. Nr. 12).\nNepriklausomybės metais Švč. M. Marijos Gimimo atlaidų aštuondienis kasmet prasidėdavo rugsėjo 8-ąją. Nuo 2011 metų  Šilinės pradedamos švęsti rugsėjo 7-ąją ir baigiamos kaip įprasta – rugsėjo 15-ąją. Pirmoji Šilinių diena nuo šiol visuomet skiriama popiežiui šv. Jonui Pauliui II\, kuris kaip tik 1993-ųjų rugsėjo 7-ąją lankėsi Šiluvoje.\nAtlaidų išvakarėse\, paskutinį rugpjūčio sekmadienį\, į Šiluvą ateina tūkstantinės maldininkų eisenos nuo Tytuvėnų ir Raseinių pusės. Tądien Šiluvoje būna švenčiama Padėkos už laisvę diena – įžanga į didžiuosius Šilinių atlaidus. Jau daugiau kaip dešimt metų į Šilines kasmet rengiamas tarptautinis piligriminis tris dienas trunkantis jaunimo ir kariuomenės žygis iš Kryžių kalno.\nKasmet artėjant atlaidams skelbiama išsami dienų programa\, kviečiant į atlaidus atvykti įvairių tarnysčių\, profesijų\, amžiaus tikinčiuosius. Švenčiamos LR kariuomenės\, policijos\, medikų\, katalikiškų bendruomenių\, kunigų ir vienuolių\, šeimų ir jaunimo dienos. Jose meldžiamasi aktualiomis intencijomis. Atlaiduose kasmet apsilanko 50–75 tūkst. tikinčiųjų. Didžiųjų iškilmių dienomis jie tarsi jūra užlieja erdvią sakraliąją aikštę ir jos prieigas. Šv. Mišias aukoja Lietuvos vyskupai\, gausiai atvykstantys kunigai iš įvairių Lietuvos vyskupijų. Pamaldose gieda jungtiniai chorai. Atlaidų dienomis kasdien dešimtys kunigų teikia piligrimams sielovadinius patarnavimus. Atlaidų tvarką ir rimtį palaikyti padeda jaunieji savanoriai. Atlaiduose rengiamos katechezės\, konferencijos\, kultūrinė programa. Šventovės erdvei papuošti prasidedant atlaidams rengiami tarptautiniai floristikos simpoziumai.
URL:https://anyksciuparapija.lt/skelbimas/svc-mergeles-marijos-gimimas-siline/
LOCATION:Anykščių bažnyčia\, Vilniaus g. 8\, Anykščiai\, LT-29145\, Lietuva
CATEGORIES:Liturgija
ATTACH;FMTTYPE=image/jpeg:https://anyksciuparapija.lt/wp-content/uploads/2020/09/unnamed.jpg
END:VEVENT
END:VCALENDAR