BEGIN:VCALENDAR
VERSION:2.0
PRODID:-//Anykščių Šv. Mato parapija - ECPv6.15.11//NONSGML v1.0//EN
CALSCALE:GREGORIAN
METHOD:PUBLISH
X-WR-CALNAME:Anykščių Šv. Mato parapija
X-ORIGINAL-URL:https://anyksciuparapija.lt
X-WR-CALDESC:Anykščių Šv. Mato parapija renginiai
REFRESH-INTERVAL;VALUE=DURATION:PT1H
X-Robots-Tag:noindex
X-PUBLISHED-TTL:PT1H
BEGIN:VTIMEZONE
TZID:Europe/Vilnius
BEGIN:DAYLIGHT
TZOFFSETFROM:+0200
TZOFFSETTO:+0300
TZNAME:EEST
DTSTART:20220327T010000
END:DAYLIGHT
BEGIN:STANDARD
TZOFFSETFROM:+0300
TZOFFSETTO:+0200
TZNAME:EET
DTSTART:20221030T010000
END:STANDARD
BEGIN:DAYLIGHT
TZOFFSETFROM:+0200
TZOFFSETTO:+0300
TZNAME:EEST
DTSTART:20230326T010000
END:DAYLIGHT
BEGIN:STANDARD
TZOFFSETFROM:+0300
TZOFFSETTO:+0200
TZNAME:EET
DTSTART:20231029T010000
END:STANDARD
BEGIN:DAYLIGHT
TZOFFSETFROM:+0200
TZOFFSETTO:+0300
TZNAME:EEST
DTSTART:20240331T010000
END:DAYLIGHT
BEGIN:STANDARD
TZOFFSETFROM:+0300
TZOFFSETTO:+0200
TZNAME:EET
DTSTART:20241027T010000
END:STANDARD
END:VTIMEZONE
BEGIN:VEVENT
DTSTART;VALUE=DATE:20230703
DTEND;VALUE=DATE:20230704
DTSTAMP:20260422T110040
CREATED:20200629T142344Z
LAST-MODIFIED:20230612T174814Z
UID:7279-1688342400-1688428799@anyksciuparapija.lt
SUMMARY:Šv. Tomas\, apaštalas
DESCRIPTION:Šv. Mišios 8.30 val. ir 19 val.\nŠv. Tomas\, vadinamas Dvyniu\, gimė tikriausiai Galilėjoje\, vienas iš 12 apaštalų. Tomas dalyvavo Lozoriaus prikėlime iš numirusiųjų ir Paskutinėje vakarienėje. Jis nepatikėjo Kristaus prisikėlimu\, kol nepalietė Jėzaus žaizdų. Apie tolesnę jo veiklą mažai žinoma. Manoma\, kad vykdė misijas Indijoje\, buvo nužudytas.
URL:https://anyksciuparapija.lt/skelbimas/sv-tomas-apastalas/
LOCATION:Anykščių bažnyčia\, Vilniaus g. 8\, Anykščiai\, LT-29145\, Lietuva
CATEGORIES:Liturgija
ATTACH;FMTTYPE=image/jpeg:https://anyksciuparapija.lt/wp-content/uploads/2020/06/st._thomas.jpg
END:VEVENT
BEGIN:VEVENT
DTSTART;VALUE=DATE:20230706
DTEND;VALUE=DATE:20230707
DTSTAMP:20260422T110040
CREATED:20200701T220635Z
LAST-MODIFIED:20230620T180127Z
UID:7318-1688601600-1688687999@anyksciuparapija.lt
SUMMARY:Liepos 6 d. – Valstybės (Lietuvos Karaliaus Mindaugo karūnavimo) diena
DESCRIPTION:Šv. Mišios 11 val. ir 19 val.\n 
URL:https://anyksciuparapija.lt/skelbimas/7318/
LOCATION:Anykščių bažnyčia\, Vilniaus g. 8\, Anykščiai\, LT-29145\, Lietuva
CATEGORIES:Churches,Liturgija
ATTACH;FMTTYPE=image/jpeg:https://anyksciuparapija.lt/wp-content/uploads/2020/07/FB_IMG_1687283864274.jpg
END:VEVENT
BEGIN:VEVENT
DTSTART;VALUE=DATE:20230722
DTEND;VALUE=DATE:20230724
DTSTAMP:20260422T110040
CREATED:20210712T140439Z
LAST-MODIFIED:20230716T203322Z
UID:8479-1689984000-1690156799@anyksciuparapija.lt
SUMMARY:Šv. Onos atlaidai. Anykščių miesto šventė.
DESCRIPTION:Šv. Onos atlaidai liepos 22-23 d.\n Liepos 22 d. (šeštadienį):\n11 ir 19 val. Šv. Mišios.\n  \nLiepos 23 d. (sekmadienį):\n8.30\, 10.30 ir 19 val. Šv. Mišios.
URL:https://anyksciuparapija.lt/skelbimas/sv-onos-atlaidai-3/
LOCATION:Anykščių bažnyčia\, Vilniaus g. 8\, Anykščiai\, LT-29145\, Lietuva
CATEGORIES:Bendruomenė,Churches,Liturgija,Veikla
ATTACH;FMTTYPE=image/jpeg:https://anyksciuparapija.lt/wp-content/uploads/2020/07/20200722_162959-2.jpg
END:VEVENT
BEGIN:VEVENT
DTSTART;VALUE=DATE:20230725
DTEND;VALUE=DATE:20230726
DTSTAMP:20260422T110040
CREATED:20200719T122952Z
LAST-MODIFIED:20230612T175806Z
UID:7462-1690243200-1690329599@anyksciuparapija.lt
SUMMARY:Šv. Jokūbas
DESCRIPTION:Šv. Mišios 8.30 ir 19 val.\nApaštalas Jokūbas (I a.)\, dar vadinamas Jokūbu Vyresniuoju\, Zebediejaus ir Salomės sūnus\, evangelisto Jono brolis. Dvylikos apaštalų sąraše Jokūbas užima trečią vietą po Petro ir Andriejaus (Mt 10\, 2). Dalyvavo Jayro dukters prikėlime\, Jėzaus agonijoje Alyvų kalne. Manoma\, kad skelbė Evangeliją Ispanijoje. Nužudytas apie 42 m. Pirmas iš apaštalų laimėjo kankinystės vainiką.
URL:https://anyksciuparapija.lt/skelbimas/sv-jokubas/
LOCATION:Anykščių bažnyčia\, Vilniaus g. 8\, Anykščiai\, LT-29145\, Lietuva
CATEGORIES:Bendruomenė,Churches,Liturgija
ATTACH;FMTTYPE=image/jpeg:https://anyksciuparapija.lt/wp-content/uploads/2020/07/StJames.jpg
END:VEVENT
BEGIN:VEVENT
DTSTART;VALUE=DATE:20230726
DTEND;VALUE=DATE:20230727
DTSTAMP:20260422T110040
CREATED:20210627T132634Z
LAST-MODIFIED:20230612T175902Z
UID:8362-1690329600-1690415999@anyksciuparapija.lt
SUMMARY:Šv. Joakimas ir Ona\, Švč. Mergelės Marijos tėvai
DESCRIPTION:Šv. Mišios 8.30 ir 19 val.\nŠv. Joakimas ir Ona\, Nekaltosios Mergelės Marijos tėvai. Jų vardai yra išsaugoti seniausioje žydų krikščionių tradicijoje. Apie šventuosius Joakimą ir Oną daugiausia žinių randame tik apokrifiniuose raštuose\, ypač Jokūbo proevangelijoje (II a.). Šv. Onos kultas Rytų Bažnyčioje paplito VI a.\, Vakaruose – nuo X a.
URL:https://anyksciuparapija.lt/skelbimas/sv-joakimas-ir-ona-svc-mergeles-marijos-tevai/
LOCATION:Anykščių bažnyčia\, Vilniaus g. 8\, Anykščiai\, LT-29145\, Lietuva
CATEGORIES:Liturgija
ATTACH;FMTTYPE=image/jpeg:https://anyksciuparapija.lt/wp-content/uploads/2021/06/unnamed-2.jpg
END:VEVENT
BEGIN:VEVENT
DTSTART;VALUE=DATE:20230729
DTEND;VALUE=DATE:20230730
DTSTAMP:20260422T110040
CREATED:20210627T133004Z
LAST-MODIFIED:20230612T175959Z
UID:8365-1690588800-1690675199@anyksciuparapija.lt
SUMMARY:Šv. Morta\, Marija ir Lozorius
DESCRIPTION:Šv. Mišios 11 ir 19 val.\n 
URL:https://anyksciuparapija.lt/skelbimas/sv-morta/
LOCATION:Anykščių bažnyčia\, Vilniaus g. 8\, Anykščiai\, LT-29145\, Lietuva
CATEGORIES:Churches,Liturgija
ATTACH;FMTTYPE=image/jpeg:https://anyksciuparapija.lt/wp-content/uploads/2021/06/cq5dam.thumbnail.cropped.750.422-1.jpeg
END:VEVENT
END:VCALENDAR