BEGIN:VCALENDAR
VERSION:2.0
PRODID:-//Anykščių Šv. Mato parapija - ECPv6.15.11//NONSGML v1.0//EN
CALSCALE:GREGORIAN
METHOD:PUBLISH
X-WR-CALNAME:Anykščių Šv. Mato parapija
X-ORIGINAL-URL:https://anyksciuparapija.lt
X-WR-CALDESC:Anykščių Šv. Mato parapija renginiai
REFRESH-INTERVAL;VALUE=DURATION:PT1H
X-Robots-Tag:noindex
X-PUBLISHED-TTL:PT1H
BEGIN:VTIMEZONE
TZID:Europe/Vilnius
BEGIN:DAYLIGHT
TZOFFSETFROM:+0200
TZOFFSETTO:+0300
TZNAME:EEST
DTSTART:20220327T010000
END:DAYLIGHT
BEGIN:STANDARD
TZOFFSETFROM:+0300
TZOFFSETTO:+0200
TZNAME:EET
DTSTART:20221030T010000
END:STANDARD
BEGIN:DAYLIGHT
TZOFFSETFROM:+0200
TZOFFSETTO:+0300
TZNAME:EEST
DTSTART:20230326T010000
END:DAYLIGHT
BEGIN:STANDARD
TZOFFSETFROM:+0300
TZOFFSETTO:+0200
TZNAME:EET
DTSTART:20231029T010000
END:STANDARD
BEGIN:DAYLIGHT
TZOFFSETFROM:+0200
TZOFFSETTO:+0300
TZNAME:EEST
DTSTART:20240331T010000
END:DAYLIGHT
BEGIN:STANDARD
TZOFFSETFROM:+0300
TZOFFSETTO:+0200
TZNAME:EET
DTSTART:20241027T010000
END:STANDARD
END:VTIMEZONE
BEGIN:VEVENT
DTSTART;VALUE=DATE:20230601
DTEND;VALUE=DATE:20230602
DTSTAMP:20260422T122550
CREATED:20200603T100418Z
LAST-MODIFIED:20230415T143505Z
UID:7193-1685577600-1685663999@anyksciuparapija.lt
SUMMARY:Kristus\, Aukščiausiasis ir Amžinasis Kunigas
DESCRIPTION:Šv. Mišios 8.30 val. ir 19 val.\nLietuvoje įvesta nuo 2013 m. vasario 20 d.\, pradėta švęsti 2014 m. Jos ištakos – Ispanijos kontempliatyvios Kristaus Kunigo seserų oblačių vienuolijoje\, besimeldžiančioje už kunigų ir kunigystės kandidatų šventėjimą. Pirmiausia šventė plito ispaniškai kalbančių katalikų šalyse\, nuo 1973 m. nustatyta jos šventimo data liturginiame kalendoriuje: ketvirtadienis po Sekminių. Popiežiaus Benedikto XVI sprendimu atskirų šalių vyskupų konferencijoms buvo leista įsivesti šią šventę: tai buvo vienas iš jo pontifikate švęstų Kunigų metų dvasinių vaisių.
URL:https://anyksciuparapija.lt/skelbimas/kristus-auksciausiasis-ir-amzinasis-kunigas/
LOCATION:Anykščių bažnyčia\, Vilniaus g. 8\, Anykščiai\, LT-29145\, Lietuva
CATEGORIES:Liturgija
ATTACH;FMTTYPE=image/jpeg:https://anyksciuparapija.lt/wp-content/uploads/2020/06/jesus_christ_high_priest.jpg
END:VEVENT
BEGIN:VEVENT
DTSTART;VALUE=DATE:20230601
DTEND;VALUE=DATE:20230701
DTSTAMP:20260422T122550
CREATED:20210424T111318Z
LAST-MODIFIED:20230421T102626Z
UID:8227-1685577600-1688169599@anyksciuparapija.lt
SUMMARY:Birželis – Švenčiausiosios Jėzaus Širdies mėnuo
DESCRIPTION:Kiekvieną dieną šiokiadienių vakarais po 19 val. Sekmadieniais po 8.30 val. Šv. Mišių melsimės Švč. Jėzaus širdies litaniją.\nŠvč. Jėzaus Širdies litanija\nKyrie\, eleison! Christe\, eleison! Kyrie\, eleison!\nKristau\, išgirsk mus! Kristau\, išklausyk mus!\nTėve\, dangaus Dieve\, pasigailėk mūsų!\nSūnau\, pasaulio Atpirkėjau\, Dieve\, pasigailėk mūsų!\nŠventoji Dvasia\, Dieve\, pasigailėk mūsų!\nŠventoji Trejybe\, vienas Dieve\, pasigailėk mūsų!\nJėzaus Širdie\, Sūnaus amžinojo Tėvo\,   |   pasigailėk mūsų!\nJėzaus Širdie\, Mergelėje Motinoje Šventosios Dvasios sutvertoji\,\nJėzaus Širdie\, su Dievo žodžiu esmingai sujungtoji\,\nJėzaus Širdie\, begalinės didybės\,\nJėzaus Širdie\, šventoji Dievo bažnyčia\,\nJėzaus Širdie\, Aukščiausiojo padangte\,\nJėzaus Širdie\, Dievo namai ir dangaus vartai\,\nJėzaus Širdie\, liepsnojantis meilės židiny\,\nJėzaus Širdie\, teisingumo ir meilės buveine\,\nJėzaus Širdie\, gerumo ir meilės pilnoji\,\nJėzaus Širdie\, visų dorybių gelme\,\nJėzaus Širdie\, visokios pagarbos vertoji\,\nJėzaus Širdie\, visų širdžių valdove\,\nJėzaus Širdie\, išminties ir žinojimo lobyne\,\nJėzaus Širdie\, dievybės pilnatve\,\nJėzaus Širdie\, Tėvo mylimiausioji\,\nJėzaus Širdie\, visiems malonių teikiančioji\,\nJėzaus Širdie\, visos žmonijos išsiilgtoji\,\nJėzaus Širdie\, kantrioji ir gailestingoji\,\nJėzaus Širdie\, dosni Tavęs besišaukiantiems\,\nJėzaus Širdie\, gyvybės ir šventumo šaltini\,\nJėzaus Širdie\, permaldavime už mūsų nuodėmes\,\nJėzaus Širdie\, baisiai išniekintoji\,\nJėzaus Širdie\, mūsų nedorybių įskaudintoji\,\nJėzaus Širdie\, ligi mirties paklusnioji\,\nJėzaus Širdie\, ietimi pervertoji\,\nJėzaus Širdie\, paguodos šaltini\,\nJėzaus Širdie\, mūsų gyvenime ir prisikėlime\,\nJėzaus Širdie\, taikos ir ramybės davėja\,\nJėzaus Širdie\, nuodėmių auka\,\nJėzaus Širdie\, Tavimi pasitikinčiųjų išganyme\,\nJėzaus Širdie\, mirštančiųjų viltie\,\nJėzaus Širdie\, visų šventųjų džiaugsme\,\nDievo Avinėli\, kuris naikini pasaulio nuodėmes\,\natleisk mums\, Viešpatie!\nDievo Avinėli\, kuris naikini pasaulio nuodėmes\,\nišklausyk mus\, Viešpatie!\nDievo Avinėli\, kuris naikini pasaulio nuodėmes\,\npasigailėk mūsų!\n   Jėzau\, romusis ir nuolankiaširdi!\nPadaryk mūsų širdį panašią į savo Širdį!\n    Melskimės. Visagali amžinasis Dieve\, pažvelk į savo Sūnaus Širdį ir į tai\, kaip ji Tave pagarbino bei kuo Tau už nusidėjėlius atsilygino. Mūsų prašomas pasigailėti\, maloniai mums atleisk vardan savo Sūnaus Jėzaus Kristaus\, kuris su Tavimi gyvena ir viešpatauja per amžius. Amen.\nŽmonijos paaukojimo Švč. Jėzaus Širdžiai aktas\n(Kalbamas per Kristaus Karaliaus šventę ir per birželines pamaldas)\nMIELASIS JĖZAU\, žmonijos Atpirkėjau\, pažvelk į mus\, nuolankiai suklaupusius prieš Tavo altorių (paveikslą). Mes Tavo esame ir norime tavo būti. Kad dar tvirčiau galėtume su Tavimi susijungti\, šiandien visi ir kiekvienas pasiaukojame Švenčiausiajai Tavo Širdžiai.\nGerasis Jėzau! Daugelis Tavęs visiškai nepažįsta\, daugelis\, paniekinę Tavo įsakymus nuo Tavęs nusigręžė. Pasigailėk jų ir visus patrauk prie savo Švenčiausios Širdies. Būk\, Viešpatie\, Valdovas ne vien ištikimųjų\, kurie niekada nuo Tavęs nepasitraukia\, bet ir sūnų palaidūnų\, kurie Tave paliko. Padėk jiems greitai sugrįžti į Tėvo namus\, kad nežūtų dvasios skurde.\nBūki Valdovas tų brolių\, kurie yra nuo mūsų atsiskyrę dėl klaidų ar nesantaikos. Pašauk juos į tiesos pilnatvę ir tikėjimo vienybę\, kad būtų viena kaimenė ir vienas ganytojas. Taip pat visus Tavęs dar nepažįstančius atvesk į savo tikinčiųjų šeimą.\nSuteik\, Viešpatie\, savo Bažnyčiai tikrą klestėjimą\, duok visoms tautoms taiką ir ramybę. Padaryk\, kad visoje žemėje skambėtų vienas balsas: Garbė ir šlovė mūsų Išganytojo dieviškajai Širdžiai per amžius! Amen.\nAtsilyginimo malda\n(Kalbama per Švč. Jėzaus Širdies šventę ir pirmaisiais mėnesių penktadieniais)\nGERASIS JĖZAU! Už Tavo begalinę meilę žmonės labai dažnai Tau atsimoka didžiausiu abejingumu\, užmiršimu ir net panieka. Todėl mes\, suklaupę prieš Tavo altorių (paveikslą)\, norime ypatingu Tavęs garbinimu atsilyginti Tau už tą nelemtą atšalimą ir įžeidimus\, kurių tiek daug patiria meilingoji Tavo Širdis.\nAtsimindami\, kad ir mes patys kartais esame panašiai pasielgę\, labai gailimės ir susigraudinę prašome\, kad pirmiausia būtum mums gailestingas. Mes trokštame ir esame pasiryžę atsilyginti tiek už savo nusižengimus\, tiek ir už kitų\, kurie toli nuklydę nuo išganymo kelio\, arba visiškai nenori Tavęs pripažinti savo ganytoju ir vadu\, arba užmiršę krikšto pažadus\, nebeklauso maloniųjų Tavo įsakymų. Už visas tas smerktinas nedorybes\, mes norime atsilyginti ir kiekvieną jų atitaisyti.\nKad atsiteistume už visus Dievo garbės įžeidimus ir žmonių papiktinimus\, mes tau skiriame tą pačią atlyginimo auką\, kurią Tu Dievui Tėvui paaukojai prikaltas prie kryžiaus\, o dabar kasdien atnaujini ant mūsų altorių šventosiose Mišiose; prie jos jungiame Švenčiausiosios Mergelės Marijos\, visų šventųjų ir visų dorų tikinčiųjų permaldavimus.\nUž savo praeities ir už kitų nuodėmes\, už Tavo didžios meilės nepaisymą\, Tavo malonės remiami\, nuoširdžiai ryžtamės\, kiek tik pajėgsime\, atlyginti tvirtu tikėjimu\, tyru gyvenimu\, tiksliu Evangelijos įsakymų\, ypač meilės įsakymo\, vykdymu. Be to\, visomis jėgomis stengsimės neleisti\, kad Tave kas vėl įžeidinėtų\, ir rūpinsimės\, kad kuo daugiau žmonių Tave išpažintų.\nMeldžiame Tave\, maloningasis Jėzau\, užtariant Švenčiausiajai Mergelei Marijai\, žmonijos kalčių Atitaisytojai ir mūsų Tarpininkei\, priimk šį laisvos valios atsilyginimo norą ir didžiąja ištvermės malone padėk mums\, kad ligi pat mirties būtume Tau ištikimi ir pagaliau visi nueitume į Tėvynę\, kur Tu su Dievu Tėvu ir Šventąja Dvasia gyveni ir viešpatauji per amžius. Amen.
URL:https://anyksciuparapija.lt/skelbimas/birzelis-svenciausiosios-jezaus-sirdies-menuo/
LOCATION:Anykščių bažnyčia\, Vilniaus g. 8\, Anykščiai\, LT-29145\, Lietuva
CATEGORIES:Churches,Liturgija
ATTACH;FMTTYPE=image/jpeg:https://anyksciuparapija.lt/wp-content/uploads/2021/04/cq5dam.thumbnail.cropped.750.422.jpeg
END:VEVENT
BEGIN:VEVENT
DTSTART;VALUE=DATE:20230604
DTEND;VALUE=DATE:20230605
DTSTAMP:20260422T122550
CREATED:20200526T084040Z
LAST-MODIFIED:20230415T143114Z
UID:7168-1685836800-1685923199@anyksciuparapija.lt
SUMMARY:Švenčiausioji Trejybė. Tėvo diena.
DESCRIPTION:Šv. Mišios 8.30 val. 10.30 val. ir 19 val.\nTĖVO DIENA.\nAŠTUONDIENIS UŽ JŪSŲ GYVUS IR MIRUSIUS TĖČIUS\, SENELIUS\nBrangūs Broliai ir Seserys\, ant lapelių esančių bažnyčioje prie zakristijos galite surašyti tėčių\, senelių vardus už kuriuos norite maldų nuo birželio 4 – 11 dienomis. Jūsų išvardinti vardai – tai Šv. Mišių intencijos. Šie lapeliai bus sudėti ant altoriaus ir per vakaro 19 val. Šv. Mišias visas šias dienas bus meldžiamasi už Jūsų artimuosius.  VOKĄ SU VARDAIS įdėkite į AUKŲ dėžutę.
URL:https://anyksciuparapija.lt/skelbimas/svenciausioji-trejybe-tevo-diena/
LOCATION:Anykščių bažnyčia\, Vilniaus g. 8\, Anykščiai\, LT-29145\, Lietuva
CATEGORIES:Liturgija
ATTACH;FMTTYPE=image/jpeg:https://anyksciuparapija.lt/wp-content/uploads/2020/05/b6c8fcfb43518976def4cad82249152c.jpg
END:VEVENT
BEGIN:VEVENT
DTSTART;VALUE=DATE:20230604
DTEND;VALUE=DATE:20230612
DTSTAMP:20260422T122550
CREATED:20200603T100735Z
LAST-MODIFIED:20230415T143728Z
UID:7196-1685836800-1686527999@anyksciuparapija.lt
SUMMARY:AŠTUONDIENIS UŽ JŪSŲ GYVUS IR MIRUSIUS TĖČIUS\, SENELIUS
DESCRIPTION:Brangūs Broliai ir Seserys\, ant lapelių esančių bažnyčioje prie zakristijos galite surašyti tėčių\, senelių vardus už kuriuos norite maldų birželio 4 – 11 dienomis. Jūsų išvardinti vardai – tai Šv. Mišių intencijos. Šie lapeliai bus sudėti ant altoriaus ir per vakaro 19 val. Šv. Mišias visas šias dienas bus meldžiamasi už Jūsų artimuosius.  VOKĄ SU VARDAIS įdėkite į AUKŲ dėžutę.
URL:https://anyksciuparapija.lt/skelbimas/astuondienis-uz-jusu-gyvus-ir-mirusius-tecius-senelius/
LOCATION:Anykščių bažnyčia\, Vilniaus g. 8\, Anykščiai\, LT-29145\, Lietuva
CATEGORIES:Churches,Liturgija
ATTACH;FMTTYPE=image/jpeg:https://anyksciuparapija.lt/wp-content/uploads/2020/06/xcreation-of-adam_300x300.jpg.pagespeed.ic_.5U1SKVkNcS.jpg
END:VEVENT
BEGIN:VEVENT
DTSTART;VALUE=DATE:20230611
DTEND;VALUE=DATE:20230612
DTSTAMP:20260422T122550
CREATED:20200603T091314Z
LAST-MODIFIED:20230415T143838Z
UID:7172-1686441600-1686527999@anyksciuparapija.lt
SUMMARY:Švč. Kristaus Kūnas ir Kraujas (Devintinės).
DESCRIPTION:Šv. Mišios 8.30 val. 10.30 val. ir 19 val.\n \nAntrąjį ketvirtadienį po Sekminių\, – o Lietuvoje bei kitur keliama į antrąjį sekmadienį po Sekminių\, – Katalikų Bažnyčioje švenčiama Švč. Kristaus kūno ir kraujo (Devintinių) iškilmė. \n1264 m. rugpjūčio 11 d. popiežius Urbonas IV paskelbė bulę „Transiturus de hoc mundo“\, kuria nurodė\, kad ketvirtadienį\, po Sekminių oktavos\, visame katalikų pasaulyje būtų švenčiama „Festum Corporis“ („Kūno šventė“) ir kad ją minėdami visi katalikai džiugiai\, iškilmingai išpažintų tikėjimą tikru Kristaus buvimu Eucharistijos sakramente. \nTaip atsirado ir eucharistinių procesijų tradicija. \n\nVisoje Bažnyčioje įvesti Švenčiausiojo Kristaus Kūno ir Kraujo iškilmę paskatino vidurio Italijoje tryliktajame amžiuje įvykęs stebuklas. 1263 m. kunigas vardu Petras kaip piligrimas iš Bohemijos keliavo į Romą. Įprastinis piligrimų kelias iš šiaurės\, vad. Via Francigena\, vedė per nedidelį Bolsenos miestelį\, prie ežero tuo pačiu vardu. Čia vieną tų metų vasaros dieną trumpam poilsiui ir nakvynei sustojo ir kun. Petras. Miestelio bažnyčioje\, dedikuotoje pirmųjų amžių kankinei šv. Kristinai\, jam aukojant Mišias įvyko stebuklas: iš konsekruojamos ostijos pradėjo lašėti kraujas. \nTuo metu Bažnyčią valdęs popiežius Urbonas IV gyveno ne Romoje\, bet su kardinolais ir visu dvaru buvo laikinai įsikūręs netoliese esančiame Orvieto mieste. Bolsenos miestelio gyventojai\, galbūt ir pats kun. Petras\, stebuklo įrodymą – sukruvintą korporalą – iškilminga procesija iš Bolsenos į Orvietą atnešė popiežiui. Jau kitais metais\, 1264-aisiais\, Urbonas IV paskelbė minėtąją bulę „Transiturus de hoc mundo”\, kuria į liturginį kalendorių buvo įvesta Kristaus Kūno ir Kraujo šventė. Kartu su naujos liturginės šventės įvedimu gimė ir eucharistinės procesijos\, kartojančios bolseniečių eiseną į Orvietą 1263 m. \nŠv. Kristinos bažnyčioje Bolzane laikoma eucharistinio stebuklo metu krauju apšlakstytas korporalas – drobulė. Wikipedia Commons nuotr.\nNuo to laiko iš ostijos lašėjusiu Kristaus krauju apšlakstytas korporalas laikomas Orvieto katedroje\, kuri buvo specialiai pastatyta kaip didysis relikvijorius šio korporalo saugojimui. Bolsenos stebuklo korporalą galima ir šiandien pamatyti išstatytą Orvieto katedros Eucharistinio stebuklo koplyčios altoriuje. \nBolsenos stebuklo ir Devintinių šventės įvedimo laikais gyvenęs žymus teologas šv. Tomas Akvinietis šia proga sukūrė garsųjį eucharistinį himną „Pange lingua“\, kurio paskutiniai du posmai\, prasidedantys žodžiais „Tantum ergo Sacraemntum“ (“Prieš taip didį Sakramentą“) iki šiandien labai dažnai skamba mūsų bažnyčiose. \nPagal Vatikano radiją \n\nBernardinai.lt \n\n\n 
URL:https://anyksciuparapija.lt/skelbimas/svc-kristaus-kunas-ir-kraujas-devintines/
LOCATION:Anykščių bažnyčia\, Vilniaus g. 8\, Anykščiai\, LT-29145\, Lietuva
CATEGORIES:Churches,Liturgija
ATTACH;FMTTYPE=image/jpeg:https://anyksciuparapija.lt/wp-content/uploads/2020/06/images-1.jpg
END:VEVENT
BEGIN:VEVENT
DTSTART;VALUE=DATE:20230613
DTEND;VALUE=DATE:20230614
DTSTAMP:20260422T122550
CREATED:20220418T195005Z
LAST-MODIFIED:20230415T143920Z
UID:7204-1686614400-1686700799@anyksciuparapija.lt
SUMMARY:Šv. Antanas Paduvietis
DESCRIPTION:Šv. Mišios 8.30 ir 19 val.\nŠv. Antanas Paduvietis gimė 1195 m. Lisabonoje\, mirė 1231 m. Arcella (prie Paduvos)\, misionierius\, pamokslininkas. 15 metų įstojo į augustinų vienuolyną\, vėliau pranciškonas\, šv. Pranciškaus Asyžiečio mokinys ir sekėjas. Vargšų\, sužadėtinių globėjas. Tikima\, kad padeda surasti pamestus daiktus. 1232 m. paskelbtas šventuoju\, 1946 m. – Bažnyčios mokytoju.
URL:https://anyksciuparapija.lt/skelbimas/sv-antanas-paduvietis/
LOCATION:Anykščių bažnyčia\, Vilniaus g. 8\, Anykščiai\, LT-29145\, Lietuva
CATEGORIES:Churches,Liturgija
END:VEVENT
BEGIN:VEVENT
DTSTART;VALUE=DATE:20230616
DTEND;VALUE=DATE:20230617
DTSTAMP:20260422T122550
CREATED:20200603T092920Z
LAST-MODIFIED:20230415T144148Z
UID:7176-1686873600-1686959999@anyksciuparapija.lt
SUMMARY:Švč. Jėzaus Širdis. Adoracija
DESCRIPTION:Šv. Mišios 8.30 val. ir 19 val.\nŠVČ. JĖZAUS ŠIRDIES IŠKILMĖ\nIškilmė švenčiama trečiąjį penktadienį po Sekminių.\nPasaulinė maldos už kunigų šventėjimą diena.\nSuteikiami visuotiniai atlaidai tikinčiajam\, per Švč. Jėzaus Širdies šventę viešai kalbančiam maldą „Gerasis Jėzau”\nŠvč. Jėzaus Širdies litanija\nKyrie\, eleison! Christe\, eleison! Kyrie\, eleison!\nKristau\, išgirsk mus! Kristau\, išklausyk mus!\nTėve\, dangaus Dieve\, pasigailėk mūsų!\nSūnau\, pasaulio Atpirkėjau\, Dieve\, pasigailėk mūsų!\nŠventoji Dvasia\, Dieve\, pasigailėk mūsų!\nŠventoji Trejybe\, vienas Dieve\, pasigailėk mūsų!\nJėzaus Širdie\, Sūnaus amžinojo Tėvo\,   |   pasigailėk mūsų!\nJėzaus Širdie\, Mergelėje Motinoje Šventosios Dvasios sutvertoji\,\nJėzaus Širdie\, su Dievo žodžiu esmingai sujungtoji\,\nJėzaus Širdie\, begalinės didybės\,\nJėzaus Širdie\, šventoji Dievo bažnyčia\,\nJėzaus Širdie\, Aukščiausiojo padangte\,\nJėzaus Širdie\, Dievo namai ir dangaus vartai\,\nJėzaus Širdie\, liepsnojantis meilės židiny\,\nJėzaus Širdie\, teisingumo ir meilės buveine\,\nJėzaus Širdie\, gerumo ir meilės pilnoji\,\nJėzaus Širdie\, visų dorybių gelme\,\nJėzaus Širdie\, visokios pagarbos vertoji\,\nJėzaus Širdie\, visų širdžių valdove\,\nJėzaus Širdie\, išminties ir žinojimo lobyne\,\nJėzaus Širdie\, dievybės pilnatve\,\nJėzaus Širdie\, Tėvo mylimiausioji\,\nJėzaus Širdie\, visiems malonių teikiančioji\,\nJėzaus Širdie\, visos žmonijos išsiilgtoji\,\nJėzaus Širdie\, kantrioji ir gailestingoji\,\nJėzaus Širdie\, dosni Tavęs besišaukiantiems\,\nJėzaus Širdie\, gyvybės ir šventumo šaltini\,\nJėzaus Širdie\, permaldavime už mūsų nuodėmes\,\nJėzaus Širdie\, baisiai išniekintoji\,\nJėzaus Širdie\, mūsų nedorybių įskaudintoji\,\nJėzaus Širdie\, ligi mirties paklusnioji\,\nJėzaus Širdie\, ietimi pervertoji\,\nJėzaus Širdie\, paguodos šaltini\,\nJėzaus Širdie\, mūsų gyvenime ir prisikėlime\,\nJėzaus Širdie\, taikos ir ramybės davėja\,\nJėzaus Širdie\, nuodėmių auka\,\nJėzaus Širdie\, Tavimi pasitikinčiųjų išganyme\,\nJėzaus Širdie\, mirštančiųjų viltie\,\nJėzaus Širdie\, visų šventųjų džiaugsme\,\nDievo Avinėli\, kuris naikini pasaulio nuodėmes\,\natleisk mums\, Viešpatie!\nDievo Avinėli\, kuris naikini pasaulio nuodėmes\,\nišklausyk mus\, Viešpatie!\nDievo Avinėli\, kuris naikini pasaulio nuodėmes\,\npasigailėk mūsų!\n   Jėzau\, romusis ir nuolankiaširdi!\nPadaryk mūsų širdį panašią į savo Širdį!\n    Melskimės. Visagali amžinasis Dieve\, pažvelk į savo Sūnaus Širdį ir į tai\, kaip ji Tave pagarbino bei kuo Tau už nusidėjėlius atsilygino. Mūsų prašomas pasigailėti\, maloniai mums atleisk vardan savo Sūnaus Jėzaus Kristaus\, kuris su Tavimi gyvena ir viešpatauja per amžius. Amen.\nAtsilyginimo malda\n(Kalbama per Švč. Jėzaus Širdies šventę ir pirmaisiais mėnesių penktadieniais)\nGERASIS JĖZAU! Už Tavo begalinę meilę žmonės labai dažnai Tau atsimoka didžiausiu abejingumu\, užmiršimu ir net panieka. Todėl mes\, suklaupę prieš Tavo altorių (paveikslą)\, norime ypatingu Tavęs garbinimu atsilyginti Tau už tą nelemtą atšalimą ir įžeidimus\, kurių tiek daug patiria meilingoji Tavo Širdis.\nAtsimindami\, kad ir mes patys kartais esame panašiai pasielgę\, labai gailimės ir susigraudinę prašome\, kad pirmiausia būtum mums gailestingas. Mes trokštame ir esame pasiryžę atsilyginti tiek už savo nusižengimus\, tiek ir už kitų\, kurie toli nuklydę nuo išganymo kelio\, arba visiškai nenori Tavęs pripažinti savo ganytoju ir vadu\, arba užmiršę krikšto pažadus\, nebeklauso maloniųjų Tavo įsakymų. Už visas tas smerktinas nedorybes\, mes norime atsilyginti ir kiekvieną jų atitaisyti.\nKad atsiteistume už visus Dievo garbės įžeidimus ir žmonių papiktinimus\, mes tau skiriame tą pačią atlyginimo auką\, kurią Tu Dievui Tėvui paaukojai prikaltas prie kryžiaus\, o dabar kasdien atnaujini ant mūsų altorių šventosiose Mišiose; prie jos jungiame Švenčiausiosios Mergelės Marijos\, visų šventųjų ir visų dorų tikinčiųjų permaldavimus.\nUž savo praeities ir už kitų nuodėmes\, už Tavo didžios meilės nepaisymą\, Tavo malonės remiami\, nuoširdžiai ryžtamės\, kiek tik pajėgsime\, atlyginti tvirtu tikėjimu\, tyru gyvenimu\, tiksliu Evangelijos įsakymų\, ypač meilės įsakymo\, vykdymu. Be to\, visomis jėgomis stengsimės neleisti\, kad Tave kas vėl įžeidinėtų\, ir rūpinsimės\, kad kuo daugiau žmonių Tave išpažintų.\nMeldžiame Tave\, maloningasis Jėzau\, užtariant Švenčiausiajai Mergelei Marijai\, žmonijos kalčių Atitaisytojai ir mūsų Tarpininkei\, priimk šį laisvos valios atsilyginimo norą ir didžiąja ištvermės malone padėk mums\, kad ligi pat mirties būtume Tau ištikimi ir pagaliau visi nueitume į Tėvynę\, kur Tu su Dievu Tėvu ir Šventąja Dvasia gyveni ir viešpatauji per amžius. Amen.
URL:https://anyksciuparapija.lt/skelbimas/svc-jezaus-sirdis/
LOCATION:Anykščių bažnyčia\, Vilniaus g. 8\, Anykščiai\, LT-29145\, Lietuva
CATEGORIES:Churches,Liturgija
ATTACH;FMTTYPE=image/jpeg:https://anyksciuparapija.lt/wp-content/uploads/2020/06/images-2.jpg
END:VEVENT
BEGIN:VEVENT
DTSTART;TZID=Europe/Vilnius:20230616T183000
DTEND;TZID=Europe/Vilnius:20230616T193000
DTSTAMP:20260422T122550
CREATED:20180427T101324Z
LAST-MODIFIED:20230524T203906Z
UID:4885-1686940200-1686943800@anyksciuparapija.lt
SUMMARY:Sutvirtinimas
DESCRIPTION:2023.06.16 Penktadienį 18.30 val. Panevėžio vyskupas Linas teiks Sutvirtinimo sakramentą.
URL:https://anyksciuparapija.lt/skelbimas/sutvirtinimas/
LOCATION:Anykščių bažnyčia\, Vilniaus g. 8\, Anykščiai\, LT-29145\, Lietuva
CATEGORIES:Churches,Liturgija
ATTACH;FMTTYPE=image/png:https://anyksciuparapija.lt/wp-content/uploads/2018/04/images.png
END:VEVENT
BEGIN:VEVENT
DTSTART;VALUE=DATE:20230617
DTEND;VALUE=DATE:20230618
DTSTAMP:20260422T122550
CREATED:20200603T093748Z
LAST-MODIFIED:20230415T144255Z
UID:7182-1686960000-1687046399@anyksciuparapija.lt
SUMMARY:Nekaltoji Švč. Mergelės Marijos Širdis
DESCRIPTION:Nekaltoji Švč. Mergelės Marijos Širdis paminima trečiąjį šeštadienį po Sekminių.\nŠv. Mišios 11 val. ir 19 val.\nGerbdami Nekaltąją Marijos Širdį\, pagerbiame jos asmenį.\nŠio kulto pradininkas yra šv. Jonas Eudas (m. 1680). 1753 m. popiežius Benediktas XIV įkūrė Romoje Marijos Širdies broliją. Popiežius Pijus IV  1799 m. leido kai kur šią šventę minėti\, bet nepaskyrė specialių mišių maldų. 1836 m. Paryžiuje susibūrė Nekalčiausios Marijos Širdies arkibrolija. 1855 m. popiežius PIjus IX praplėtė šį minėjimą visai Bažnyčiai.\n1917 m. Fatimoje\, Portugalijoje\, apsireiškusi Mergelė Marija pasakė\, kad Dievas nori\, jog būtų pagerbta jos nekalčiausioji širdis. Ji prašė\, kad tam būtų skiriami pirmieji mėnesių šeštadieniai.\n1942 m. spalio 31 d. popiežius PIjus XII paaukojo visą pasaulį Švč. Marijios Širdžiai\, paskyrė šv. Mišioms maldas ir įvedė šią šventę.\n„Šventųjų gyvenimai“
URL:https://anyksciuparapija.lt/skelbimas/nekaltoji-svc-mergeles-marijos-sirdis/
LOCATION:Anykščių bažnyčia\, Vilniaus g. 8\, Anykščiai\, LT-29145\, Lietuva
CATEGORIES:Churches,Liturgija
ATTACH;FMTTYPE=image/jpeg:https://anyksciuparapija.lt/wp-content/uploads/2020/06/Nekaltoji-Marijos-Sirdis.jpg
END:VEVENT
BEGIN:VEVENT
DTSTART;VALUE=DATE:20230624
DTEND;VALUE=DATE:20230625
DTSTAMP:20260422T122550
CREATED:20190620T112732Z
LAST-MODIFIED:20230415T144342Z
UID:5529-1687564800-1687651199@anyksciuparapija.lt
SUMMARY:Šv. Jonas Krikštytojas
DESCRIPTION:Šv. Mišios mūsų bažnyčioje 11 val. ir 19 valandomis.\nŠv. Jono Krikštytojas\, dar būdamas Šventosios Dvasios pripildytos motinos įsčiose\, džiūgavo dėl žmonijos išganymo atėjimo\, pats jo gimimas pranašavo Viešpatį Kristų. Tokia malonė spindėjo jame\, kad pats Viešpats apie jį sakė\, jog tarp gimusių iš moterų nėra didesnio už Joną Krikštytoją.
URL:https://anyksciuparapija.lt/skelbimas/sv-jonas-krikstytojas/
LOCATION:Anykščių bažnyčia\, Vilniaus g. 8\, Anykščiai\, LT-29145\, Lietuva
CATEGORIES:Churches,Liturgija
ATTACH;FMTTYPE=image/jpeg:https://anyksciuparapija.lt/wp-content/uploads/2019/06/atsisiųsti.jpg
END:VEVENT
BEGIN:VEVENT
DTSTART;VALUE=DATE:20230628
DTEND;VALUE=DATE:20230630
DTSTAMP:20260422T122550
CREATED:20200603T095301Z
LAST-MODIFIED:20230415T181938Z
UID:7188-1687910400-1688083199@anyksciuparapija.lt
SUMMARY:Šv. Petras ir Paulius\, apaštalai
DESCRIPTION:Šv. Mišios Šv. Petro ir Pauliaus\, trečiadienį išvakarių 28 d. 19 val. Ketvirtadienį 29 d. 8.30 val. ir 19 val.\nŠventieji apaštalai Petras ir Paulius – dvi ryškiausios ankstyvosios Bažnyčios figūros. Jie gerbiami tą pačią dieną pagal seną Bažnyčios tradiciją\, kadangi abu mirė kankinio mirtimi Romoje Nerono persekiojimų metu\, apie 64 m. po Kr. Šv. Paulius – išsilavinęs diasporos žydas\, ir šv. Petras – paprastas žvejys iš Galilėjos.\nŠiandien aplankius katedrą arba mažosios bazilikos titulą turinčią bažnyčią ir pamaldžiai sukalbėjus „Tėve mūsų“ maldą bei Tikėjimo išpažinimą (EI\, conc. 33) įprastomis sąlygomis pelnomi visuotiniai atlaidai.
URL:https://anyksciuparapija.lt/skelbimas/sv-petras-ir-paulius-apastalai/
LOCATION:Anykščių bažnyčia\, Vilniaus g. 8\, Anykščiai\, LT-29145\, Lietuva
CATEGORIES:Churches,Liturgija
ATTACH;FMTTYPE=image/jpeg:https://anyksciuparapija.lt/wp-content/uploads/2020/06/Petras-ir-Paulius.jpg
END:VEVENT
END:VCALENDAR