BEGIN:VCALENDAR
VERSION:2.0
PRODID:-//Anykščių Šv. Mato parapija - ECPv6.15.11//NONSGML v1.0//EN
CALSCALE:GREGORIAN
METHOD:PUBLISH
X-WR-CALNAME:Anykščių Šv. Mato parapija
X-ORIGINAL-URL:https://anyksciuparapija.lt
X-WR-CALDESC:Anykščių Šv. Mato parapija renginiai
REFRESH-INTERVAL;VALUE=DURATION:PT1H
X-Robots-Tag:noindex
X-PUBLISHED-TTL:PT1H
BEGIN:VTIMEZONE
TZID:Europe/Vilnius
BEGIN:DAYLIGHT
TZOFFSETFROM:+0200
TZOFFSETTO:+0300
TZNAME:EEST
DTSTART:20220327T010000
END:DAYLIGHT
BEGIN:STANDARD
TZOFFSETFROM:+0300
TZOFFSETTO:+0200
TZNAME:EET
DTSTART:20221030T010000
END:STANDARD
BEGIN:DAYLIGHT
TZOFFSETFROM:+0200
TZOFFSETTO:+0300
TZNAME:EEST
DTSTART:20230326T010000
END:DAYLIGHT
BEGIN:STANDARD
TZOFFSETFROM:+0300
TZOFFSETTO:+0200
TZNAME:EET
DTSTART:20231029T010000
END:STANDARD
BEGIN:DAYLIGHT
TZOFFSETFROM:+0200
TZOFFSETTO:+0300
TZNAME:EEST
DTSTART:20240331T010000
END:DAYLIGHT
BEGIN:STANDARD
TZOFFSETFROM:+0300
TZOFFSETTO:+0200
TZNAME:EET
DTSTART:20241027T010000
END:STANDARD
END:VTIMEZONE
BEGIN:VEVENT
DTSTART;VALUE=DATE:20230501
DTEND;VALUE=DATE:20230601
DTSTAMP:20260422T135842
CREATED:20200425T175902Z
LAST-MODIFIED:20230415T142134Z
UID:7112-1682899200-1685577599@anyksciuparapija.lt
SUMMARY:Gegužinės pamaldos
DESCRIPTION:Gegužės mėnuo yra skirtas mūsų dangiškajai motinai – Švč. Mergelei Marijai. Kiekvieną dieną šiokiadieniais po 19 Šv. Mišių melsimės Švč. M. Marijos litaniją. Sekmadieniais po 8.30 val. Šv. Mišių. Šv. Mišios nuo gegužės 1 d. iki rugpjūčio 31 d. vakarais vyks 19 val.\n\n\nŠvč. Mergelės Marijos litanija\n\nKyrie\, eleison! Christe\, eleison! Kyrie\, eleison!\nKristau\, išgirsk mus! Kristau\, išklausyk mus!\nTėve\, dangaus Dieve\, pasigailėk mūsų!\nSūnau\, pasaulio Atpirkėjau\, Dieve\, pasigailėk mūsų!\nŠventoji Dvasia\, Dieve\, pasigailėk mūsų!\nŠventoji Trejybe\, vienas Dieve\, pasigailėk mūsų!\nŠventoji Marija\,   |   melski už mus!\nŠventoji Dievo Gimdytoja\,\nŠventoji Mergelių Mergele\,\nMotina Kristaus\,\nMotina Bažnyčios\,\nMotina Dievo malonės\,\nMotina Gailestingumo\,\nMotina tyriausioji\,\nMotina skaisčiausioji\,\nMotina nepalytėtoji\,\nMotina nesuteptoji\,\nMotina meilingoji\,\nMotina stebuklingoji\,\nMotina geroji patarėja\,\nMotina Sutvėrėjo\,\nMotina Išganytojo\,\nMergele išmintingoji\,\nMergele garbingoji\,\nMergele šlovingoji\,\nMergele galingoji\,\nMergele maloningoji\,\nMergele ištikimoji\,\nTeisybės paveiksle\,\nIšminties soste\,\nMūsų linksmybės priežastie\,\nDvasios inde\,\nGarbės inde\,\nĮstabusis maldingumo inde\,\nPaslaptingoji rože\,\nDovydo bokšte\,\nBalčiausiasis bokšte\,\nAukso namai\,\nSandoros skrynia\,\nDangaus vartai\,\nAušros žvaigžde\,\nLigonių sveikata\,\nNusidėjėlių gynėja\,\nNuliūdusiųjų paguoda\,\nKrikščionių pagalba\,\nKaraliene angelų\,\nKaraliene patriarchų\,\nKaraliene pranašų\,\nKaraliene apaštalų\,\nKaraliene kankinių\,\nKaraliene išpažinėjų\,\nKaraliene mergelių\,\nKaraliene visų šventųjų\,\nKaraliene be gimtosios nuodėmės pradėtoji\,\nKaraliene į dangų paimtoji\,\nKaraliene šventojo rožinio\,\nKaraliene šeimos\,\nKaraliene taikos\,\nDievo Avinėli\, kuris naikini pasaulio nuodėmes\,\natleisk mums\, Viešpatie!\nDievo Avinėli\, kuris naikini pasaulio nuodėmes\,\nišklausyk mus\, Viešpatie!\nDievo Avinėli\, kuris naikini pasaulio nuodėmes\,\npasigailėk mūsų!\nTAVO APGYNIMO ŠAUKIAMĖS\, * šventoji Dievo Gimdytoja! * Mūsų maldų neatmeski mūsų reikaluose\, * bet nuo visokių pavojų mus visados gelbėk. * Mergele garbingoji ir palaimintoji\, * mūsų Valdove\, mūsų Tarpininke\, mūsų Užtarėja\, * su savo Sūnumi mus sutaikink\,  savo Sūnui mus paveski\, * savo Sūnui mus atiduoki!\nMeski už mus\, šventoji Dievo Gimdytoja!\nKad taptume verti Kristaus žadėjimų!\nMelskimės. Meldžiame tave\, Viešpatie Dieve\, Švenčiausiajai Mergelei Marijai užtariant\, leisk mums\, savo žmonėms\, išsigelbėti iš dabartinių sielvartų\, visados džiaugtis sielos bei kūno sveikata ir gėrėtis amžinąja linksmybe. Prašome per Kristų\, mūsų Viešpatį. Amen.\nAtsimink\, maloningoji Mergele Marija\, jog per amžius nėra girdėta\, kad apleistum bent vieną\, kuris bėga prie Tavęs\, šaukiasi Tavo pagalbos ir prašosi užtariamas. Pasitikėdami ir mes skubame prie Tavęs\, Mergelių Mergele ir Motina! Mes einame pas tave ir\, būdami nusidėjėliai\, su gailesčiu puolame prie tavo kojų. Tu\, Įsikūnijusio Žodžio Motina\, nepaniekink mūsų žodžių\, bet maloningai išgirsk ir išklausyk. Amen.\nGiesmė\nSveika\, Marija\, Motina Dievo.\nDangaus mums duota naujoji Ieva!\nAtmint mus teikis savo širdyje\,\nMelsk už mus Dievą\, sveika\, Marija!\nSveika\, Mergele nesuteptoji\,-\nKančioj mus guodi\, ligoj globoji;\nO kvepiančioji dangaus lelija\,\nDuok sveiką orą\, sveika\, Marija!\nTu žemei Dievą gimdei\, penėjai\,\nDangaus Valdovą\, mūs Atpirkėją;\nTegul mūs šaliai palaima lyja\,\nGink mus nuo bado\, sveika\, Marija!\nTu mirtį savo Sūnaus regėjai\,\nAšaras graudžias po kryžium liejai;\nPer savo kančią lyg Kalvariją\nDuok mums kantrybės\, sveika\, Marija!\nŠventa Mergele\, pilna malonės\,\nVienybę platink\, sutaikink žmones\,\nNaikink rūstybę visų širdyje\,\nSuteik ramybę\, sveika\, Marija!\nŠventoji Motin\, visų tyriausia\,\nDuok nekaltybės dorą brangiausią\,\nNaikink širdyje pikto vergiją\,\nDuok Dievo meilę\, sveika\, Marija!\nO Karaliene visų šventųjų\,\nIšgirsk meldimą žmonių kaltųjų\,\nNeleisk mums žūti baisioj ugnyje\,\nNuvesk į dangų\, sveika\, Marija!
URL:https://anyksciuparapija.lt/skelbimas/geguzines-pamaldos/
LOCATION:Anykščių bažnyčia\, Vilniaus g. 8\, Anykščiai\, LT-29145\, Lietuva
CATEGORIES:Churches,Liturgija
ATTACH;FMTTYPE=image/jpeg:https://anyksciuparapija.lt/wp-content/uploads/2020/04/unnamed-1-1.jpg
END:VEVENT
BEGIN:VEVENT
DTSTART;VALUE=DATE:20230503
DTEND;VALUE=DATE:20230504
DTSTAMP:20260422T135842
CREATED:20210422T192721Z
LAST-MODIFIED:20230415T182222Z
UID:8203-1683072000-1683158399@anyksciuparapija.lt
SUMMARY:Šv. Pilypas ir Jokūbas\, apaštalai
DESCRIPTION:Šv. Mišios 8.30 ir 19 val.
URL:https://anyksciuparapija.lt/skelbimas/sv-pilypas-ir-jokubas-apastalai/
LOCATION:Anykščių bažnyčia\, Vilniaus g. 8\, Anykščiai\, LT-29145\, Lietuva
CATEGORIES:Churches,Liturgija
END:VEVENT
BEGIN:VEVENT
DTSTART;VALUE=DATE:20230507
DTEND;VALUE=DATE:20230508
DTSTAMP:20260422T135842
CREATED:20200425T173831Z
LAST-MODIFIED:20230415T141804Z
UID:7110-1683417600-1683503999@anyksciuparapija.lt
SUMMARY:MOTINOS DIENA
DESCRIPTION:AŠTUONDIENIS UŽ JŪSŲ GYVAS IR MIRUSIAS MAMAS\, MOČIUTES\nŠv. Mišios 8.30\,10.30 ir 19 val. už gyvas ir mirusias mamas\, močiutes. Laiminsime pamaldose dalyvaujančias motinas.\nBrangūs Broliai ir Seserys\, ant lapelių esančių bažnyčioje prie zakristijos galite surašyti mamų\, močiučių vardus\, už kurias norite maldų gegužės 7-14 dienomis. Jūsų išvardinti vardai – tai Šv. Mišių intencijos. Šie lapeliai bus sudėti ant altoriaus ir per 19 val. Šv. Mišias visas aštuonias dienas bus meldžiamasi Jūsų intencijomis. Voką su vardais įdėkite į aukų dėžutę.
URL:https://anyksciuparapija.lt/skelbimas/motinos-diena/
LOCATION:Anykščių bažnyčia\, Vilniaus g. 8\, Anykščiai\, LT-29145\, Lietuva
CATEGORIES:Churches,Liturgija
ATTACH;FMTTYPE=image/jpeg:https://anyksciuparapija.lt/wp-content/uploads/2020/04/Dv0W-i0XQAAKzBw.jpg
END:VEVENT
BEGIN:VEVENT
DTSTART;TZID=Europe/Vilnius:20230507T080000
DTEND;TZID=Europe/Vilnius:20230514T170000
DTSTAMP:20260422T135842
CREATED:20230415T142337Z
LAST-MODIFIED:20230415T142337Z
UID:9751-1683446400-1684083600@anyksciuparapija.lt
SUMMARY:AŠTUONDIENIS UŽ JŪSŲ GYVAS IR MIRUSIAS MAMAS\, MOČIUTES
DESCRIPTION:AŠTUONDIENIS UŽ JŪSŲ GYVAS IR MIRUSIAS MAMAS\, MOČIUTES\nBrangūs Broliai ir Seserys\, ant lapelių esančių bažnyčioje prie zakristijos galite surašyti mamų\, močiučių vardus\, už kurias norite maldų gegužės 7-14 dienomis. Jūsų išvardinti vardai – tai Šv. Mišių intencijos. Šie lapeliai bus sudėti ant altoriaus ir per 19 val. Šv. Mišias visas aštuonias dienas bus meldžiamasi Jūsų intencijomis. Voką su vardais įdėkite į aukų dėžutę.
URL:https://anyksciuparapija.lt/skelbimas/astuondienis-uz-jusu-gyvas-ir-mirusias-mamas-mociutes/
LOCATION:Anykščių bažnyčia\, Vilniaus g. 8\, Anykščiai\, LT-29145\, Lietuva
CATEGORIES:Bendruomenė,Churches,Liturgija
END:VEVENT
BEGIN:VEVENT
DTSTART;TZID=Europe/Vilnius:20230520T180000
DTEND;TZID=Europe/Vilnius:20230520T190000
DTSTAMP:20260422T135842
CREATED:20210424T105112Z
LAST-MODIFIED:20230425T192506Z
UID:8223-1684605600-1684609200@anyksciuparapija.lt
SUMMARY:Vaikų I-oji Komunija
DESCRIPTION:Gegužės 20 d.\n18 val. Šv. Mišios. Vaikų I-oji Komunija.\nKviečiame malda palaikyti jaunuosius mūsų parapijiečius
URL:https://anyksciuparapija.lt/skelbimas/vaiku-i-oji-komunija-2/
LOCATION:Anykščių bažnyčia\, Vilniaus g. 8\, Anykščiai\, LT-29145\, Lietuva
CATEGORIES:Churches,Liturgija
ATTACH;FMTTYPE=image/png:https://anyksciuparapija.lt/wp-content/uploads/2018/05/sd_first_communion_banner.png
END:VEVENT
BEGIN:VEVENT
DTSTART;VALUE=DATE:20230521
DTEND;VALUE=DATE:20230522
DTSTAMP:20260422T135842
CREATED:20200522T091416Z
LAST-MODIFIED:20230415T142609Z
UID:7150-1684627200-1684713599@anyksciuparapija.lt
SUMMARY:Kristaus Žengimas į dangų (Šeštinės)
DESCRIPTION:Šv. Mišios Anykščių bažnyčioje 8.30 val. 10.30 val ir 19 val.\nPasaulinė visuomenės komunikavimo priemonių diena.\nDabužių Kristaus Žengimo į dangų bažnyčioje Šeštinių atlaidai bus švenčiami 13 val.
URL:https://anyksciuparapija.lt/skelbimas/kristaus-zengimas-i-dangu-sestines/
LOCATION:Anykščių bažnyčia\, Vilniaus g. 8\, Anykščiai\, LT-29145\, Lietuva
CATEGORIES:Liturgija
ATTACH;FMTTYPE=image/jpeg:https://anyksciuparapija.lt/wp-content/uploads/2020/05/ascension.jpg
END:VEVENT
BEGIN:VEVENT
DTSTART;TZID=Europe/Vilnius:20230527T180000
DTEND;TZID=Europe/Vilnius:20230527T190000
DTSTAMP:20260422T135842
CREATED:20180507T070921Z
LAST-MODIFIED:20230425T192654Z
UID:4902-1685210400-1685214000@anyksciuparapija.lt
SUMMARY:Vaikų I-oji Komunija
DESCRIPTION:Gegužės 27 d.\n18 val. Šv. Mišios. Vaikų I-oji Komunija.\nKviečiame malda palaikyti jaunuosius mūsų parapijiečius
URL:https://anyksciuparapija.lt/skelbimas/vaiku-i-oji-komunija/
LOCATION:Anykščių bažnyčia\, Vilniaus g. 8\, Anykščiai\, LT-29145\, Lietuva
CATEGORIES:Churches,Liturgija
ATTACH;FMTTYPE=image/png:https://anyksciuparapija.lt/wp-content/uploads/2018/05/sd_first_communion_banner.png
END:VEVENT
BEGIN:VEVENT
DTSTART;VALUE=DATE:20230528
DTEND;VALUE=DATE:20230529
DTSTAMP:20260422T135842
CREATED:20200526T082614Z
LAST-MODIFIED:20230415T142842Z
UID:7162-1685232000-1685318399@anyksciuparapija.lt
SUMMARY:Šventosios Dvasios Atsiuntimas (SEKMINĖS)
DESCRIPTION:Šv. Mišios 8.30 val. 10.30 val. ir 19 val.\n\n\n\n\n\n\n\n\n\nŠventosios Dvasios litanija\nKyrie\, eleison! Christe\, eleison! Kyrie\, eleison!\nKristau\, išgirsk mus! Kristau\, išklausyk mus!\nTėve\, dangaus Dieve\, pasigailėk mūsų!\nSūnau\, pasaulio Atpirkėjau\, Dieve\, pasigailėk mūsų!\nŠventoji Dvasia\, Dieve\, pasigailėk mūsų!\nŠventoji Trejybe\, vienas Dieve\, pasigailėk mūsų!\nIš Tėvo ir Sūnaus einančioji Dvasia\,   |   pasigailėk mūsų!\nSupratimo ir išminties Dvasia\,\nPatarimo ir tvirtumo Dvasia\,\nŽinojimo ir mokslo Dvasia\,\nDievo baimės ir maldingumo Dvasia\,\nTikėjimo\, vilties ir meilės Dvasia\,\nNuolankumo ir švelnumo Dvasia\,\nKantrybės ir ištvermės Dvasia\,\nGerumo ir gailestingumo Dvasia\,\nSkaistybės ir santūrumo Dvasia\,\nIštikimybės ir teisumo Dvasia\,\nDieviškojo pašaukimo ir tobulumo Dvasia\,\nBažnyčios saugotoja ir vadove\,\nŽmonių širdžių tyrėja\,\nDangaus malonių dalytoja\,\nNuliūdusiųjų ramybe\,\nAmžinoji šviesa\,\nŠventoji ugnie\,\nGyvybės versme\,\nDvasios balzame\,\nAngelų džiaugsme\,\nPatriarchų šviesa\,\nPranašų įkvėpėja\,\nApaštalų mokytoja\,\nKankinių tvirtume\,\nIšpažinėjų paguoda\,\nMergelių nekaltume\,\nVisų šventųjų laime\,\nBūk mums maloningas\,   |  gelbėk mus\, Viešpatie!\nNuo visokio blogio\nNuo visokių nuodėmių\nNuo pikto priešo pagundų\nNuo klaidų ir melo\nNuo piktžodžiavimo ir šmeižto\nNuo netikėjimo ir prietarų\nNuo tuščio smalsumo ir tingumo\nNuo neskaisčių polinkių\nNuo per didelio pasitikėjimo savimi\nNuo nusiminimo ir vilties netekimo\nNuo prieštaravimo pažintai tiesai\nNuo kietos ir atgailai nerangios širdies\nTeismo dieną\nMes nusidėjėliai\,   |   meldžiam Tave\, išklausyk mus!\nBažnyčios narius gaivinti ir pašvęsti teikis\,\nAukštuosius ganytojus apšviesti ir stiprinti teikis\,\nJaunimo sieloms kilnių siekimų įkvėpti teikis\,\nKlaidas pašalinti teikis\,\nVisus krikščionis suvienyti ir tikroje santarvėje išlaikyti teikis\,\nVisas tautas į tikrojo tikėjimo vienybę atvesti teikis\,\nSavo malone mus į gėrį kreipti ir stiprinti teikis\,\nGyvą dvasią ir kilnią širdį mumyse sukurti teikis\,\nVisiems mums išganymą duoti teikis\,\nDievo Avinėli\, kuris naikini pasaulio nuodėmes\,\natleisk mums\, Viešpatie!\nDievo Avinėli\, kuris naikini pasaulio nuodėmes\,\nišklausyk mus\, Viešpatie!\nDievo Avinėli\, kuris naikini pasaulio nuodėmes\,\npasigailėk mūsų!\n    Dieve\, sukurk mumyse tyrą širdį!\nIr atgaivink mūsų sielose tiesos Dvasią!\nViešpatie\, išklausyk mūsų maldą!\nIr mūsų šauksmas tave tepasiekia!\n    Melskimės. Dieve\, Tu pažįsti kiekvieną širdį ir žinai visas jos paslaptis; nuvalyk Šventosios Dvasios malone mūsų dvasios dėmes\, kad Tave tobulai mylėtume ir būtume verti tinkamai Tave garbinti. Prašome per Kristų\, mūsų Viešpatį. Amen.\n    Šventoji\, amžinai žėrinti Ugnie\, teisybės Dvasia\, aplankyk\, pripildyk ir apšviesk mūsų širdis. Amen.\nMALDA ŠVENTAJAI DVASIAI\nAteik\, Šventoji išminties Dvasia\, atverk mūsų sieloms dangus paslaptis\, jų begalinę didybę\, galingumą ir grožį. Mokyk mus mylėti Tave labiau už visus žemės turtus\, džiaugsmus ir malonumus.\nAteik\, palaimintoji supratimo Dvasia\, apšviesk mūsų mintis\, kad teisingai suprastume gilias Apreiškimo tiesas ir\, žemės gyvenimui pasibaigus\, būtume verti gėrėtis nuostabiąja Švenčiausiosios Trejybės vienybe.\nAteik\, Šventoji patarimo Dvasia\, vesk ir saugok mus\, kad visuomet vykdytume Tavo valią. Patrauk mūsų širdis\, nukreipk nuo blogo\, vesk mus tiesiu įsakymų keliu į amžinybę\, be kurios niekur savo laimės nesurasime.\nAteik\, Šventoji tvirtumo Dvasia\, sutvirtink mūsų sielas kiekviename sunkume ir priešingume\, stiprink kiekvieną gerą mūsų pastangą. Sustiprink silpnas mūsų jėgas\, suteik drąsos kovoje su kliūtimis\, siekiant tobulumo\, kad nebūtume atskirti nuo Tavęs\, mūsų Dievo\, nuo paties didžiausio Gėrio ir Grožio.\nAteik\, Šventoji žinojimo Dvasia\, kad suprastume dangaus Tėvo valią. Parodyk pasaulio niekingumą ir padėk\, kad viskuo naudotumės vien Dievo garbei ir savo išganymui\, kad pro viską matytume ir Tavo atpildą amžinybėje.\nAteik\, Šventoji maldingumo Dvasia\, užvaldyk mūsų širdis\, palenk jas tikėti Tavo meile\, kad visa širdimi ieškotume Tavęs ir rastume Tave\, savo tikrąjį džiaugsmą.\nAteik\, Šventoji Dievo pagarbos ir baimės Dvasia\, perimk visą mūsų būtybę\, kad visuomet turėtume prieš akis Tavo teismą ir vengtume visko\, kas Tave įžeidžia\, – kad taptume verti pasirodyti Tavo dieviškosios didybės akivaizdoje ir dalyvauti Tavo begalinėje laimėje. Amen.\nO DVASIA\, VIEŠPATIE\, NUŽENK\, * savųjų sielose gyvenk\,\npripilk malonių iš dangaus * krūtinę tikinčio žmogaus.\nŠventos ramybės sklidina\, * Aukščiausio Dievo dovana\,\nšaltinis meilės Tu esi * ir žygiams dvasią įkvepi.\nSeptyniomis dovanomis * sujungi Tėvą su mumis.\nSūnaus žadėta atėjai\, * kalbų daugybe prabilai.\nGalingai protą mūs apšviesk * ir širdis meile Tu paliesk.\nKad nepalūžtų mūs valia\, * ją stiprink amžina galia.\nTu blogį sielose naikink\, * vienybę\, taiką vis gaivink\,\nvesk mus tvirtai tiesos keliu\, * padėk išvengt skaudžių klaidų.\nMums Dievą Tėvą leisk pažint\, * jo Sūnų amžiną pamilt.\nDvasia Tu meilės jų bendros\, – * Tave tikėsim visados.\nMes Dievą Tėvą šlovinsim * ir Sūnų prisikėlusį\,\nir Dvasiai Šventajai garbė * per amžių amžius vis skambės.\nAmen.
URL:https://anyksciuparapija.lt/skelbimas/sventosios-dvasios-atsiuntimas-sekmines/
LOCATION:Anykščių bažnyčia\, Vilniaus g. 8\, Anykščiai\, LT-29145\, Lietuva
CATEGORIES:Churches,Liturgija
ATTACH;FMTTYPE=image/jpeg:https://anyksciuparapija.lt/wp-content/uploads/2020/05/RCMHolySpiritStPetercrop1-770x439_c.jpg
END:VEVENT
BEGIN:VEVENT
DTSTART;VALUE=DATE:20230529
DTEND;VALUE=DATE:20230530
DTSTAMP:20260422T135842
CREATED:20210422T192403Z
LAST-MODIFIED:20230415T143224Z
UID:8200-1685318400-1685404799@anyksciuparapija.lt
SUMMARY:Švč. Mergelė Marija\, Bažnyčios Motina
DESCRIPTION:Šv. Mišios 8.30 ir 19 val.
URL:https://anyksciuparapija.lt/skelbimas/svc-mergele-marija-baznycios-motina/
LOCATION:Anykščių bažnyčia\, Vilniaus g. 8\, Anykščiai\, LT-29145\, Lietuva
CATEGORIES:Churches,Liturgija
ATTACH;FMTTYPE=image/jpeg:https://anyksciuparapija.lt/wp-content/uploads/2021/04/cq5dam.thumbnail.cropped.1500.844.jpeg
END:VEVENT
BEGIN:VEVENT
DTSTART;VALUE=DATE:20230531
DTEND;VALUE=DATE:20230601
DTSTAMP:20260422T135842
CREATED:20210422T191738Z
LAST-MODIFIED:20230415T143332Z
UID:8197-1685491200-1685577599@anyksciuparapija.lt
SUMMARY:Švč. Mergelės Marijos Apsilankymas
DESCRIPTION:Šv. Mišios 8.30 ir 19 val.
URL:https://anyksciuparapija.lt/skelbimas/svc-mergeles-marijos-apsilankymas/
LOCATION:Anykščių bažnyčia\, Vilniaus g. 8\, Anykščiai\, LT-29145\, Lietuva
CATEGORIES:Churches,Liturgija
ATTACH;FMTTYPE=image/jpeg:https://anyksciuparapija.lt/wp-content/uploads/2021/04/05-31_marijos-apsilankymas_d.jpg
END:VEVENT
END:VCALENDAR