BEGIN:VCALENDAR
VERSION:2.0
PRODID:-//Anykščių Šv. Mato parapija - ECPv6.15.11//NONSGML v1.0//EN
CALSCALE:GREGORIAN
METHOD:PUBLISH
X-WR-CALNAME:Anykščių Šv. Mato parapija
X-ORIGINAL-URL:https://anyksciuparapija.lt
X-WR-CALDESC:Anykščių Šv. Mato parapija renginiai
REFRESH-INTERVAL;VALUE=DURATION:PT1H
X-Robots-Tag:noindex
X-PUBLISHED-TTL:PT1H
BEGIN:VTIMEZONE
TZID:Europe/Vilnius
BEGIN:DAYLIGHT
TZOFFSETFROM:+0200
TZOFFSETTO:+0300
TZNAME:EEST
DTSTART:20210328T010000
END:DAYLIGHT
BEGIN:STANDARD
TZOFFSETFROM:+0300
TZOFFSETTO:+0200
TZNAME:EET
DTSTART:20211031T010000
END:STANDARD
BEGIN:DAYLIGHT
TZOFFSETFROM:+0200
TZOFFSETTO:+0300
TZNAME:EEST
DTSTART:20220327T010000
END:DAYLIGHT
BEGIN:STANDARD
TZOFFSETFROM:+0300
TZOFFSETTO:+0200
TZNAME:EET
DTSTART:20221030T010000
END:STANDARD
BEGIN:DAYLIGHT
TZOFFSETFROM:+0200
TZOFFSETTO:+0300
TZNAME:EEST
DTSTART:20230326T010000
END:DAYLIGHT
BEGIN:STANDARD
TZOFFSETFROM:+0300
TZOFFSETTO:+0200
TZNAME:EET
DTSTART:20231029T010000
END:STANDARD
END:VTIMEZONE
BEGIN:VEVENT
DTSTART;TZID=Europe/Vilnius:20221009T110000
DTEND;TZID=Europe/Vilnius:20221009T120000
DTSTAMP:20260423T020237
CREATED:20211005T191034Z
LAST-MODIFIED:20220927T184727Z
UID:8678-1665313200-1665316800@anyksciuparapija.lt
SUMMARY:Šv. Mišios šeimoms
DESCRIPTION:Šv. Mišios už šeimas 11 val.
URL:https://anyksciuparapija.lt/skelbimas/sv-misios-seimoms-2/
LOCATION:Anykščių bažnyčia\, Vilniaus g. 8\, Anykščiai\, LT-29145\, Lietuva
CATEGORIES:Bendruomenė,Churches,Liturgija,Veikla
ATTACH;FMTTYPE=image/jpeg:https://anyksciuparapija.lt/wp-content/uploads/2019/01/119168682_2386161201679341_163677106654552180_o.jpg
END:VEVENT
BEGIN:VEVENT
DTSTART;TZID=Europe/Vilnius:20221016T130000
DTEND;TZID=Europe/Vilnius:20221016T140000
DTSTAMP:20260423T020237
CREATED:20191013T110940Z
LAST-MODIFIED:20220927T182559Z
UID:6105-1665925200-1665928800@anyksciuparapija.lt
SUMMARY:ŠV. LUKO ATLAIDAI DABUŽIUOSE
DESCRIPTION:Dabužių Kristaus Žengimo į dangų bažnyčioje bus švenčiami Šv. Luko atlaidai. Šv. Mišios bus aukojamos 13 val.
URL:https://anyksciuparapija.lt/skelbimas/sv-luko-atlaidai-dabuziuose/
CATEGORIES:Churches,Liturgija
ATTACH;FMTTYPE=image/jpeg:https://anyksciuparapija.lt/wp-content/uploads/2019/10/9658991591-sv-lukas-evangelistas-1.jpg
END:VEVENT
BEGIN:VEVENT
DTSTART;VALUE=DATE:20221030
DTEND;VALUE=DATE:20221031
DTSTAMP:20260423T020237
CREATED:20221025T180558Z
LAST-MODIFIED:20221025T180641Z
UID:9559-1667088000-1667174399@anyksciuparapija.lt
SUMMARY:KEIČIASI SEKMADIENIŲ ŠV. MIŠIŲ LAIKAS
DESCRIPTION:ŠV. MIŠIOS SEKMADIENIAIS BUS:\n8.30 val.  10.30 val.  18 val.
URL:https://anyksciuparapija.lt/skelbimas/keiciasi-sekmadieniu-sv-misiu/
LOCATION:Anykščių bažnyčia\, Vilniaus g. 8\, Anykščiai\, LT-29145\, Lietuva
CATEGORIES:Liturgija
END:VEVENT
END:VCALENDAR