BEGIN:VCALENDAR
VERSION:2.0
PRODID:-//Anykščių Šv. Mato parapija - ECPv6.15.11//NONSGML v1.0//EN
CALSCALE:GREGORIAN
METHOD:PUBLISH
X-ORIGINAL-URL:https://anyksciuparapija.lt
X-WR-CALDESC:Anykščių Šv. Mato parapija renginiai
REFRESH-INTERVAL;VALUE=DURATION:PT1H
X-Robots-Tag:noindex
X-PUBLISHED-TTL:PT1H
BEGIN:VTIMEZONE
TZID:Europe/Vilnius
BEGIN:DAYLIGHT
TZOFFSETFROM:+0200
TZOFFSETTO:+0300
TZNAME:EEST
DTSTART:20200329T010000
END:DAYLIGHT
BEGIN:STANDARD
TZOFFSETFROM:+0300
TZOFFSETTO:+0200
TZNAME:EET
DTSTART:20201025T010000
END:STANDARD
BEGIN:DAYLIGHT
TZOFFSETFROM:+0200
TZOFFSETTO:+0300
TZNAME:EEST
DTSTART:20210328T010000
END:DAYLIGHT
BEGIN:STANDARD
TZOFFSETFROM:+0300
TZOFFSETTO:+0200
TZNAME:EET
DTSTART:20211031T010000
END:STANDARD
BEGIN:DAYLIGHT
TZOFFSETFROM:+0200
TZOFFSETTO:+0300
TZNAME:EEST
DTSTART:20220327T010000
END:DAYLIGHT
BEGIN:STANDARD
TZOFFSETFROM:+0300
TZOFFSETTO:+0200
TZNAME:EET
DTSTART:20221030T010000
END:STANDARD
END:VTIMEZONE
BEGIN:VEVENT
DTSTART;VALUE=DATE:20211010
DTEND;VALUE=DATE:20211011
DTSTAMP:20260423T230649
CREATED:20211006T203842Z
LAST-MODIFIED:20211006T203842Z
UID:8701-1633824000-1633910399@anyksciuparapija.lt
SUMMARY:Pasaulinė organų donorystės ir transplantacijos diena
DESCRIPTION:Šv. Mišios 9\, 11 ir 18 val.\n  \nĮstabūs yra Popiežiaus Šv. Jono Pauliaus II žodžiai: „Donorystė yra didžiausia žmogaus meilės žmogui išraiška“. Kviečiame šiandien prisiminti maldoje tuos\, kurių organai suteikė galimybę pratęsti gyvenimą ar pagerinti sveikatą sergantiems žmonėms; už mirusiųjų donorų artimuosius\, sunkiausią gyvenimo akimirką priėmusius kilniausią sprendimą; už medikus\, atliekančius sudėtingas transplantacijas; už visus specialistus\, dalyvaujančius itin atsakingame organų donorystės ir transplantacijos procese\, už visus Lietuvos gyventojus\, kurie pasirašė sutikimą donorystei po savo mirties ir taip išreiškė kilnų apsisprendimą.\nDėkojame vyskupams\, kunigams\, pašvęstojo gyvenimo institutų nariams ir visiems tikintiesiems\, kurie šiandien jungiasi į maldą už organų donorystę.
URL:https://anyksciuparapija.lt/skelbimas/pasauline-organu-donorystes-ir-transplantacijos-diena/
LOCATION:Anykščių bažnyčia\, Vilniaus g. 8\, Anykščiai\, LT-29145\, Lietuva
CATEGORIES:Churches,Liturgija
END:VEVENT
BEGIN:VEVENT
DTSTART;TZID=Europe/Vilnius:20211010T110000
DTEND;TZID=Europe/Vilnius:20211010T120000
DTSTAMP:20260423T230649
CREATED:20190102T103227Z
LAST-MODIFIED:20210916T084542Z
UID:5180-1633863600-1633867200@anyksciuparapija.lt
SUMMARY:Šv. Mišios šeimoms
DESCRIPTION:Šv. Mišios už šeimas 11 val.\n \n 
URL:https://anyksciuparapija.lt/skelbimas/sv-misios-seimoms/
LOCATION:Anykščių bažnyčia\, Vilniaus g. 8\, Anykščiai\, LT-29145\, Lietuva
CATEGORIES:Bendruomenė,Liturgija
ATTACH;FMTTYPE=image/jpeg:https://anyksciuparapija.lt/wp-content/uploads/2019/01/119168682_2386161201679341_163677106654552180_o.jpg
END:VEVENT
END:VCALENDAR