BEGIN:VCALENDAR
VERSION:2.0
PRODID:-//Anykščių Šv. Mato parapija - ECPv6.15.11//NONSGML v1.0//EN
CALSCALE:GREGORIAN
METHOD:PUBLISH
X-WR-CALNAME:Anykščių Šv. Mato parapija
X-ORIGINAL-URL:https://anyksciuparapija.lt
X-WR-CALDESC:Anykščių Šv. Mato parapija renginiai
REFRESH-INTERVAL;VALUE=DURATION:PT1H
X-Robots-Tag:noindex
X-PUBLISHED-TTL:PT1H
BEGIN:VTIMEZONE
TZID:Europe/Vilnius
BEGIN:DAYLIGHT
TZOFFSETFROM:+0200
TZOFFSETTO:+0300
TZNAME:EEST
DTSTART:20230326T010000
END:DAYLIGHT
BEGIN:STANDARD
TZOFFSETFROM:+0300
TZOFFSETTO:+0200
TZNAME:EET
DTSTART:20231029T010000
END:STANDARD
BEGIN:DAYLIGHT
TZOFFSETFROM:+0200
TZOFFSETTO:+0300
TZNAME:EEST
DTSTART:20240331T010000
END:DAYLIGHT
BEGIN:STANDARD
TZOFFSETFROM:+0300
TZOFFSETTO:+0200
TZNAME:EET
DTSTART:20241027T010000
END:STANDARD
BEGIN:DAYLIGHT
TZOFFSETFROM:+0200
TZOFFSETTO:+0300
TZNAME:EEST
DTSTART:20250330T010000
END:DAYLIGHT
BEGIN:STANDARD
TZOFFSETFROM:+0300
TZOFFSETTO:+0200
TZNAME:EET
DTSTART:20251026T010000
END:STANDARD
END:VTIMEZONE
BEGIN:VEVENT
DTSTART;TZID=Europe/Vilnius:20240921T120000
DTEND;TZID=Europe/Vilnius:20240922T133000
DTSTAMP:20260421T212712
CREATED:20240913T105714Z
LAST-MODIFIED:20240918T160222Z
UID:10104-1726920000-1727011800@anyksciuparapija.lt
SUMMARY:Šv. apaštalo ir evangelisto Mato titulinių atlaidų programa š.m. rugsėjo 21-22 dd.
DESCRIPTION:Gerbiami Anykščių gyventojai\, parapijiečiai ir miesto svečiai! \nNuoširdžiai kviečiame jus į titulinius Anykščių šv. apaštalo ir evengelisto Mato bažnyčios atlaidus\, kurie vyks rugsėjo 21 – 22 dienomis. Atlaidus ves\, Dievo Žodį komentuos\, pamokslaus\, svečias – kun. br. Elijas Marija Černiauskas. Atlaidus pradėsime rugsėjo 21 d.\, šeštadienį Švč. Sakramento adoracija bažnyčioje nuo 12 iki 18 val. vakaro šv. Mišių. Po jų – kunigo svečio paskaita „Dvasinis kelias su Švč. Mergele Marija”. Sekmadienį\, rugsėjo 22 dieną\, 8.30 ir 10.30 val. Mišias aukos ir pamokslus sakys taip pat gerbiamas svečias. Prieš 10.30 val. šv. Mišias vyks Eucharistinė procesija\, pagarbinant Švč. Sakramentą (jei nelis – lauke). \nRugsėjo 22 d.\, šv. apaštalo ir evangelisto Mato titulinių atlaidų dieną\, po 10.30 val. (Votyvos) šv. Mišių\, mūsų bažnyčioje įvyks Kauno valstybinio choro koncertas. Skambės Juozo Naujalio kūriniai.\nPristatome jo programą: \n1. Malda už Tėvynę\n2. Mišios in Honorem Sacrorum Vulnerum Christi: Kyrie\, Gloria\, Sanctus\, Agnus Dei\n3. Jaunimo giesmė\n4. Vasaros naktys\n6. Dainų dainelės\n7. Už Raseinių\n8. J. Naujalis – J. Juzeliūnas Lietuva brangi \nAtlikėjai:\nKAUNO VALSTYBINIS CHORAS\nMeno vadovas ir vyr. dirigentas Robertas Šervenikas\nDirigentas JERONIMAS SEREBRINSKAS\nDalyvauja MINDAUGAS RADZEVIČIUS (vargonai)\nProgramą pristato Vilius Kaminskas \nKauno valstybinis choras profesionalią meninę veiklą pradėjo 1969 m. spalio 23-iąją. Nuo pirmųjų dienų jam vadovavo Lietuvos nacionalinės premijos laureatas prof. Petras Bingelis. Per 55 kūrybos metus choras koncertavo žymiausiose Europos ir pasaulio salėse\, su dešimtimis garsiausių orkestrų ir solistų. 2021 metų kovą choro vadovu ir vyriausiuoju dirigentu tapo Nacionalinės kultūros ir meno premijos laureatas profesorius Robertas Šervenikas. 2022 metai buvo itin intensyvūs. Choras parengė 12 stambios formos kūrinių premjerų. Gegužės mėnesį kartu su orkestru Casco Phill koncertavo Belgijoje ir Olandijoje. Mecheleno katedroje\, Antverpeno Handelsbureau ir Roterdamo De Dollen salėje skambėjo F. Neyricko „Artikel 1“ ir L. van Beethoveno 9-oji simfonija. 2023 metai buvo gausūs gastrolių užsienyje: liepos mėnesį koncertuota Liublijanos šv. Jokūbo bažnyčioje\, pristatyta a capella lietuviškų kūrinių programa\, rugsėjį Las Palmas de Canaria atliktas G. Verdi „Requiem“\, spalį dalyvauta Lomžos festivalyje „Sacrum et musica“.\n2024-uosius pradėjome G. Mahlerio 2-ąja simfonija Gran Kanarijoje ir Tenerifėje. Choro moterų grupė rugpjūčio pabaigoje kartu su Londono simfoniniu orkestru koncertavo Varšuvoje\, Liublianoje\, Gstaade\, Saint-Andre festivaliuose. Spalį laukia koncertas Berlyno Didžiojoje koncertų salėje. Kauno valstybinio choro neįsivaizduojamos Kauno ir Lietuvos Dainų šventės\, taip pat Pažaislio\, Tytuvėnų\, M. Oginskio festivaliai. Choras nuolat atsinaujina\, ateina jauni balsai\, repertuarą nuolat papildo nauji Lietuvos ir užsienio kompozitorių kūriniai.\nMaloniai jūsų visų lauksime!
URL:https://anyksciuparapija.lt/skelbimas/sv-apastalo-ir-evangelisto-mato-tituliniu-atlaidu-programa-s-m-rugsejo-21-22-dd/
END:VEVENT
END:VCALENDAR