BEGIN:VCALENDAR
VERSION:2.0
PRODID:-//Anykščių Šv. Mato parapija - ECPv6.15.11//NONSGML v1.0//EN
CALSCALE:GREGORIAN
METHOD:PUBLISH
X-ORIGINAL-URL:https://anyksciuparapija.lt
X-WR-CALDESC:Anykščių Šv. Mato parapija renginiai
REFRESH-INTERVAL;VALUE=DURATION:PT1H
X-Robots-Tag:noindex
X-PUBLISHED-TTL:PT1H
BEGIN:VTIMEZONE
TZID:Europe/Vilnius
BEGIN:DAYLIGHT
TZOFFSETFROM:+0200
TZOFFSETTO:+0300
TZNAME:EEST
DTSTART:20220327T010000
END:DAYLIGHT
BEGIN:STANDARD
TZOFFSETFROM:+0300
TZOFFSETTO:+0200
TZNAME:EET
DTSTART:20221030T010000
END:STANDARD
BEGIN:DAYLIGHT
TZOFFSETFROM:+0200
TZOFFSETTO:+0300
TZNAME:EEST
DTSTART:20230326T010000
END:DAYLIGHT
BEGIN:STANDARD
TZOFFSETFROM:+0300
TZOFFSETTO:+0200
TZNAME:EET
DTSTART:20231029T010000
END:STANDARD
BEGIN:DAYLIGHT
TZOFFSETFROM:+0200
TZOFFSETTO:+0300
TZNAME:EEST
DTSTART:20240331T010000
END:DAYLIGHT
BEGIN:STANDARD
TZOFFSETFROM:+0300
TZOFFSETTO:+0200
TZNAME:EET
DTSTART:20241027T010000
END:STANDARD
END:VTIMEZONE
BEGIN:VEVENT
DTSTART;VALUE=DATE:20231001
DTEND;VALUE=DATE:20231101
DTSTAMP:20260422T122406
CREATED:20190929T103502Z
LAST-MODIFIED:20230930T162522Z
UID:5980-1696118400-1698796799@anyksciuparapija.lt
SUMMARY:Spalis – Rožinio mėnuo
DESCRIPTION:SPALIO MĖNESĮ KVIEČIAME Į BENDRĄ ROŽINIO MALDĄ \nŠiokiadieniais rožinio malda 17.30 val.\nSekmadieniais rožinio malda po 8.30 val. Šv. Mišių.\nSuteikiami visuotiniai atlaidai visiems\, kurie bažnyčioje\, šeimoje ar maldingoje draugijoje pamaldžiai kalba Rožinį.\nPop. Jonas Paulius II sakė :\n„Kalbėti rožinį yra ne kas kita\, kaip kartu su Marija įsižiūrėti į Kristaus veidą.“\nKas negali ateiti į bažnyčią\, galite melstis rožinio maldą namuose.\nRožinis (arba rožančius\, rožinys) – meditacinė kartotinė malda\, skirta apmąstyti Kristaus gyvenimą. Taip pat vadinamas šios maldos kalbėjimui naudojamas karoliukų vėrinys. Tradiciškai vieną rožinio maldą sudaro įžanga ir penki slėpiniai iš pasirenkamos dalies. Nuolatinis kartojimas čia ir padeda įsivaizduoti ir medituoti Jėzaus gyvenimo slėpinius.\nĮžanga skirta pasiruošti ir nusiteikti susitikimui\, maldai. Paprastai pradedama Kryžiaus ženklu\, malda „Tikiu į Dievą Tėvą…“\, „Tėve mūsų…“\,  3 „Sveika Marija“\, „Garbė Dievui Tėvui“.\nPasirenkama dalis ir po kiekvieno slėpinio meldžiame „Tėve mūsų…“\,  10 kartų „Sveika Marija“\, „Garbė Dievui Tėvui“.\n\n 
URL:https://anyksciuparapija.lt/skelbimas/spalis-rozinio-menuo/
LOCATION:Anykščių bažnyčia\, Vilniaus g. 8\, Anykščiai\, LT-29145\, Lietuva
CATEGORIES:Bendruomenė,Churches,Liturgija,Veikla
ATTACH;FMTTYPE=image/jpeg:https://anyksciuparapija.lt/wp-content/uploads/2019/09/8773876_orig.jpg
END:VEVENT
BEGIN:VEVENT
DTSTART;TZID=Europe/Vilnius:20231029T080000
DTEND;TZID=Europe/Vilnius:20231130T170000
DTSTAMP:20260422T122406
CREATED:20231029T193415Z
LAST-MODIFIED:20231029T193415Z
UID:10050-1698566400-1701363600@anyksciuparapija.lt
SUMMARY:Dalyvaukime pagalbos neįgaliesiems projekte!
DESCRIPTION:Anykščius kurkime kartu – DALYVAUK!\nDalyvaujamasis biudžetas – tai unikali galimybė kiekvienam realizuoti savo kūrybiškus sumanymus gražinant viešąsias erdves bei įsitraukti į miesto valdymą. Kurkime Anykščius kartu! Paverskime savo idėjas realybe!\nAnykščių Šv. apašt. evang. Mato bažnyčia dalyvauja šiame projekto įdėjos pasiūlyme ir kviečia visus Jus palaikyti šią įdėją balsavimu.\nPROJEKTO PAVADINIMAS- Neįgaliųjų įvažiavimas į bažnyčios šventorių.\n\n\nIdėjos kodas: 26\nAprašymas:\nPrašome įrengti neįgaliųjų įvažiavimą į bažnyčios šventorių.\nTikslinė grupė Anykščių gyventojai\, turistai ir visi kiti turintys judėjimo negalią ir norintys patekti į Anykščių Šv. apašt. evang. Mato bažnyčios šventorių. Problema yra ta\, kad nėra įrengtas pandusas neįgaliesiems į bažnyčios šventorių\, lankytojai turintys judėjimo negalią negali\, patekti\, visi įėjimai iš miesto pusės yra tik laiptai.\nBalsuoti galima internetiniame puslapyje :\nhttps://dalyvauk.anyksciai.lt/ ar nuvykus į Anykščių rajono savivaldybe adresu J. Biliūno g. 23 Anykščiai.\nPrašome dalyvauti\, nes tik Jūsų balsai nulems ar įdėja bus įgyvendinta.
URL:https://anyksciuparapija.lt/skelbimas/dalyvaukime-pagalbos-neigaliesiems-projekte/
ATTACH;FMTTYPE=image/jpeg:https://anyksciuparapija.lt/wp-content/uploads/2023/10/Scan2023-10-28_114502-scaled.jpg
END:VEVENT
END:VCALENDAR