BEGIN:VCALENDAR
VERSION:2.0
PRODID:-//Anykščių Šv. Mato parapija - ECPv6.15.11//NONSGML v1.0//EN
CALSCALE:GREGORIAN
METHOD:PUBLISH
X-WR-CALNAME:Anykščių Šv. Mato parapija
X-ORIGINAL-URL:https://anyksciuparapija.lt
X-WR-CALDESC:Anykščių Šv. Mato parapija renginiai
REFRESH-INTERVAL;VALUE=DURATION:PT1H
X-Robots-Tag:noindex
X-PUBLISHED-TTL:PT1H
BEGIN:VTIMEZONE
TZID:Europe/Vilnius
BEGIN:DAYLIGHT
TZOFFSETFROM:+0200
TZOFFSETTO:+0300
TZNAME:EEST
DTSTART:20220327T010000
END:DAYLIGHT
BEGIN:STANDARD
TZOFFSETFROM:+0300
TZOFFSETTO:+0200
TZNAME:EET
DTSTART:20221030T010000
END:STANDARD
BEGIN:DAYLIGHT
TZOFFSETFROM:+0200
TZOFFSETTO:+0300
TZNAME:EEST
DTSTART:20230326T010000
END:DAYLIGHT
BEGIN:STANDARD
TZOFFSETFROM:+0300
TZOFFSETTO:+0200
TZNAME:EET
DTSTART:20231029T010000
END:STANDARD
BEGIN:DAYLIGHT
TZOFFSETFROM:+0200
TZOFFSETTO:+0300
TZNAME:EEST
DTSTART:20240331T010000
END:DAYLIGHT
BEGIN:STANDARD
TZOFFSETFROM:+0300
TZOFFSETTO:+0200
TZNAME:EET
DTSTART:20241027T010000
END:STANDARD
END:VTIMEZONE
BEGIN:VEVENT
DTSTART;VALUE=DATE:20230205
DTEND;VALUE=DATE:20230206
DTSTAMP:20260418T114129
CREATED:20200201T125539Z
LAST-MODIFIED:20230204T133222Z
UID:6759-1675555200-1675641599@anyksciuparapija.lt
SUMMARY:Šv. Agota\, mergelė\, kankinė.
DESCRIPTION:Šv. Mišios sekmadienio tvarka. Bus šventinama duona ir vanduo.\nŠv. Agota gyveno III a. Katanijoje (Pietų Italija\, Sicilija). Dėl skaistybės nukankinta valdant imperatoriui Decijui (249–251). Kadangi buvo sudeginta\, šv. Agotos duona ir šventintas vanduo – tai priemonės prieš gaisrą\, šaukiantis šventosios užtarimo.
URL:https://anyksciuparapija.lt/skelbimas/sv-agota-mergele-kankine/
LOCATION:Anykščių bažnyčia\, Vilniaus g. 8\, Anykščiai\, LT-29145\, Lietuva
CATEGORIES:Churches,Liturgija
ATTACH;FMTTYPE=image/jpeg:https://anyksciuparapija.lt/wp-content/uploads/2020/02/atsisiųsti.jpg
END:VEVENT
END:VCALENDAR