BEGIN:VCALENDAR
VERSION:2.0
PRODID:-//Anykščių Šv. Mato parapija - ECPv6.15.11//NONSGML v1.0//EN
CALSCALE:GREGORIAN
METHOD:PUBLISH
X-WR-CALNAME:Anykščių Šv. Mato parapija
X-ORIGINAL-URL:https://anyksciuparapija.lt
X-WR-CALDESC:Anykščių Šv. Mato parapija renginiai
REFRESH-INTERVAL;VALUE=DURATION:PT1H
X-Robots-Tag:noindex
X-PUBLISHED-TTL:PT1H
BEGIN:VTIMEZONE
TZID:Europe/Vilnius
BEGIN:DAYLIGHT
TZOFFSETFROM:+0200
TZOFFSETTO:+0300
TZNAME:EEST
DTSTART:20210328T010000
END:DAYLIGHT
BEGIN:STANDARD
TZOFFSETFROM:+0300
TZOFFSETTO:+0200
TZNAME:EET
DTSTART:20211031T010000
END:STANDARD
BEGIN:DAYLIGHT
TZOFFSETFROM:+0200
TZOFFSETTO:+0300
TZNAME:EEST
DTSTART:20220327T010000
END:DAYLIGHT
BEGIN:STANDARD
TZOFFSETFROM:+0300
TZOFFSETTO:+0200
TZNAME:EET
DTSTART:20221030T010000
END:STANDARD
BEGIN:DAYLIGHT
TZOFFSETFROM:+0200
TZOFFSETTO:+0300
TZNAME:EEST
DTSTART:20230326T010000
END:DAYLIGHT
BEGIN:STANDARD
TZOFFSETFROM:+0300
TZOFFSETTO:+0200
TZNAME:EET
DTSTART:20231029T010000
END:STANDARD
END:VTIMEZONE
BEGIN:VEVENT
DTSTART;VALUE=DATE:20221218
DTEND;VALUE=DATE:20221219
DTSTAMP:20260423T072744
CREATED:20201201T204719Z
LAST-MODIFIED:20221214T205715Z
UID:7921-1671321600-1671407999@anyksciuparapija.lt
SUMMARY:IV ADVENTO SEKMADIENIS. REKOLEKCIJOS.
DESCRIPTION:Šv. Mišios 8.30\, 10.30 ir 18 val.\nBus svečias kunigas\, esate kviečiami atlikti išpažintį.\n  \nKalėdaičių jau yra.\nGalite įsigyti kalėdaičių bažnyčioje kiekvieną dieną prieš ir po Šv. Mišių arba galite įsigyti parapijos namuose darbo dienomis nuo 9 val. iki 17 val.\nAdventas turi dvejopą pobūdį: pasirengimą Kalėdų iškilmėms\, kada pagarbiai minimas Dievo Sūnaus pirmasis atėjimas pas žmones\, ir kartu prisiminimą\, jog reikia laukti Kristaus antrojo atėjimo pasaulio pabaigoje. Dėl šių dviejų priežasčių adventas yra maldingo ir džiugaus laukimo metas. Jis prasideda I Vakarine to sekmadienio\, kuris esti lapkričio 30 dieną arba jai artimiausias\, ir baigiasi prieš Kristaus Gimimo I Vakarinę“ (AC\, 39–42).
URL:https://anyksciuparapija.lt/skelbimas/ii-advento-sekmadienis/
LOCATION:Anykščių bažnyčia\, Vilniaus g. 8\, Anykščiai\, LT-29145\, Lietuva
CATEGORIES:Churches,Liturgija
ATTACH;FMTTYPE=image/jpeg:https://anyksciuparapija.lt/wp-content/uploads/2021/12/20201205_114157-2-scaled.jpg
END:VEVENT
END:VCALENDAR