BEGIN:VCALENDAR
VERSION:2.0
PRODID:-//Anykščių Šv. Mato parapija - ECPv6.15.11//NONSGML v1.0//EN
CALSCALE:GREGORIAN
METHOD:PUBLISH
X-WR-CALNAME:Anykščių Šv. Mato parapija
X-ORIGINAL-URL:https://anyksciuparapija.lt
X-WR-CALDESC:Anykščių Šv. Mato parapija renginiai
REFRESH-INTERVAL;VALUE=DURATION:PT1H
X-Robots-Tag:noindex
X-PUBLISHED-TTL:PT1H
BEGIN:VTIMEZONE
TZID:Europe/Vilnius
BEGIN:DAYLIGHT
TZOFFSETFROM:+0200
TZOFFSETTO:+0300
TZNAME:EEST
DTSTART:20210328T010000
END:DAYLIGHT
BEGIN:STANDARD
TZOFFSETFROM:+0300
TZOFFSETTO:+0200
TZNAME:EET
DTSTART:20211031T010000
END:STANDARD
BEGIN:DAYLIGHT
TZOFFSETFROM:+0200
TZOFFSETTO:+0300
TZNAME:EEST
DTSTART:20220327T010000
END:DAYLIGHT
BEGIN:STANDARD
TZOFFSETFROM:+0300
TZOFFSETTO:+0200
TZNAME:EET
DTSTART:20221030T010000
END:STANDARD
BEGIN:DAYLIGHT
TZOFFSETFROM:+0200
TZOFFSETTO:+0300
TZNAME:EEST
DTSTART:20230326T010000
END:DAYLIGHT
BEGIN:STANDARD
TZOFFSETFROM:+0300
TZOFFSETTO:+0200
TZNAME:EET
DTSTART:20231029T010000
END:STANDARD
END:VTIMEZONE
BEGIN:VEVENT
DTSTART;VALUE=DATE:20220809
DTEND;VALUE=DATE:20220810
DTSTAMP:20260418T115059
CREATED:20210627T133636Z
LAST-MODIFIED:20220418T202443Z
UID:8371-1660003200-1660089599@anyksciuparapija.lt
SUMMARY:Šv. Kryžiaus Teresė Benedikta\, mergelė\, kankinė\, Europos globėja
DESCRIPTION:Šv. Mišios 8 ir 19 val.\nŠv. Kryžiaus Teresės Benediktos\, Europos globėjos\, šventė \nŠv. Kryžiaus Teresė Benedikta (1891–1942)\, pasaulyje žinoma kaip Edita Štein\, žydė\, filosofė\, konvertitė\, vienuolė karmelitė. Nacių buvo nužudyta Aušvico koncentracijos stovykloje. 1999 m. popiežius Jonas Paulius II ją paskelbė Europos globėja.
URL:https://anyksciuparapija.lt/skelbimas/sv-kryziaus-terese-benedikta-mergele-kankine-europos-globeja/
LOCATION:Anykščių bažnyčia\, Vilniaus g. 8\, Anykščiai\, LT-29145\, Lietuva
CATEGORIES:Churches,Liturgija
ATTACH;FMTTYPE=image/jpeg:https://anyksciuparapija.lt/wp-content/uploads/2021/06/08-09_terese-benedikta_d.jpg
END:VEVENT
END:VCALENDAR