BEGIN:VCALENDAR
VERSION:2.0
PRODID:-//Anykščių Šv. Mato parapija - ECPv6.15.11//NONSGML v1.0//EN
CALSCALE:GREGORIAN
METHOD:PUBLISH
X-WR-CALNAME:Anykščių Šv. Mato parapija
X-ORIGINAL-URL:https://anyksciuparapija.lt
X-WR-CALDESC:Anykščių Šv. Mato parapija renginiai
REFRESH-INTERVAL;VALUE=DURATION:PT1H
X-Robots-Tag:noindex
X-PUBLISHED-TTL:PT1H
BEGIN:VTIMEZONE
TZID:Europe/Vilnius
BEGIN:DAYLIGHT
TZOFFSETFROM:+0200
TZOFFSETTO:+0300
TZNAME:EEST
DTSTART:20210328T010000
END:DAYLIGHT
BEGIN:STANDARD
TZOFFSETFROM:+0300
TZOFFSETTO:+0200
TZNAME:EET
DTSTART:20211031T010000
END:STANDARD
BEGIN:DAYLIGHT
TZOFFSETFROM:+0200
TZOFFSETTO:+0300
TZNAME:EEST
DTSTART:20220327T010000
END:DAYLIGHT
BEGIN:STANDARD
TZOFFSETFROM:+0300
TZOFFSETTO:+0200
TZNAME:EET
DTSTART:20221030T010000
END:STANDARD
BEGIN:DAYLIGHT
TZOFFSETFROM:+0200
TZOFFSETTO:+0300
TZNAME:EEST
DTSTART:20230326T010000
END:DAYLIGHT
BEGIN:STANDARD
TZOFFSETFROM:+0300
TZOFFSETTO:+0200
TZNAME:EET
DTSTART:20231029T010000
END:STANDARD
END:VTIMEZONE
BEGIN:VEVENT
DTSTART;VALUE=DATE:20220804
DTEND;VALUE=DATE:20220805
DTSTAMP:20260417T002618
CREATED:20210627T133226Z
LAST-MODIFIED:20220418T203244Z
UID:8368-1659571200-1659657599@anyksciuparapija.lt
SUMMARY:Šv. Jonas Marija Vianėjus\, kunigas
DESCRIPTION:Šv. Mišios 8 ir 19 val.\nŠv. Jonas Marija Vianėjus (1786–1859)\, kunigas. Daugiau nei keturiasdešimt metų nuostabiai administravo pavestąją Arso (Prancūzijoje) parapiją\, uoliai sakydamas pamokslus\, melsdamasis ir atgailaudamas\, kasdien katechizuodamas vaikus ir suaugusiuosius\, sutaikydamas nusidėjėlius su Dievu karšta meile artimui\, kurios semdavosi iš Eucharistijos kaip iš šaltinio. Ta veikla taip iškilo\, kad jo patarimai plačiai pasklido ir daugybę žmonių atvedė prie Dievo.
URL:https://anyksciuparapija.lt/skelbimas/sv-jonas-marija-vianejus-kunigas/
LOCATION:Anykščių bažnyčia\, Vilniaus g. 8\, Anykščiai\, LT-29145\, Lietuva
CATEGORIES:Churches,Liturgija
ATTACH;FMTTYPE=image/jpeg:https://anyksciuparapija.lt/wp-content/uploads/2021/06/sv-jonas-marija-vianėjus.jpg
END:VEVENT
END:VCALENDAR